BEGIN:VCALENDAR
VERSION:2.0
PRODID:-//GoiásFomento - Agência de Fomento - ECPv6.15.20//NONSGML v1.0//EN
CALSCALE:GREGORIAN
METHOD:PUBLISH
X-ORIGINAL-URL:https://www.goiasfomento.com
X-WR-CALDESC:Eventos para GoiásFomento - Agência de Fomento
REFRESH-INTERVAL;VALUE=DURATION:PT1H
X-Robots-Tag:noindex
X-PUBLISHED-TTL:PT1H
BEGIN:VTIMEZONE
TZID:America/Sao_Paulo
BEGIN:STANDARD
TZOFFSETFROM:-0300
TZOFFSETTO:-0300
TZNAME:-03
DTSTART:20230101T000000
END:STANDARD
END:VTIMEZONE
BEGIN:VEVENT
DTSTART;TZID=America/Sao_Paulo:20240719T080000
DTEND;TZID=America/Sao_Paulo:20240719T100000
DTSTAMP:20260425T073911
CREATED:20240719T134626Z
LAST-MODIFIED:20240719T135610Z
UID:35835-1721376000-1721383200@www.goiasfomento.com
SUMMARY:Lucas Fernandes de Andrade – Diretor Presidente (Interino): Despachos Internos.
DESCRIPTION:
URL:https://www.goiasfomento.com/agenda/lucas-fernandes-de-andrade-diretor-presidente-interino-despachos-internos-29/
LOCATION:Gabinete da Presidência da GoiásFomento – Agência de Fomento de Goiás.
CATEGORIES:Presidência
END:VEVENT
BEGIN:VEVENT
DTSTART;TZID=America/Sao_Paulo:20240719T100000
DTEND;TZID=America/Sao_Paulo:20240719T103000
DTSTAMP:20260425T073911
CREATED:20240719T135304Z
LAST-MODIFIED:20240719T135316Z
UID:35839-1721383200-1721385000@www.goiasfomento.com
SUMMARY:Lucas Fernandes de Andrade – Diretor Presidente (Interino): Reunião com o Milton Pires de Jesus - Gerente de Cobrança Extrajudicial.
DESCRIPTION:
URL:https://www.goiasfomento.com/agenda/lucas-fernandes-de-andrade-diretor-presidente-interino-reuniao-com-o-milton-pires-de-jesus-gerente-de-cobranca-extrajudicial/
LOCATION:Gabinete da Presidência da GoiásFomento – Agência de Fomento de Goiás.
CATEGORIES:Presidência
END:VEVENT
BEGIN:VEVENT
DTSTART;TZID=America/Sao_Paulo:20240719T103000
DTEND;TZID=America/Sao_Paulo:20240719T120000
DTSTAMP:20260425T073911
CREATED:20240719T135643Z
LAST-MODIFIED:20240719T135643Z
UID:35843-1721385000-1721390400@www.goiasfomento.com
SUMMARY:Lucas Fernandes de Andrade – Diretor Presidente (Interino): Despachos Internos.
DESCRIPTION:
URL:https://www.goiasfomento.com/agenda/lucas-fernandes-de-andrade-diretor-presidente-interino-despachos-internos-30/
LOCATION:Gabinete da Presidência da GoiásFomento – Agência de Fomento de Goiás.
CATEGORIES:Presidência
END:VEVENT
BEGIN:VEVENT
DTSTART;TZID=America/Sao_Paulo:20240719T140000
DTEND;TZID=America/Sao_Paulo:20240719T180000
DTSTAMP:20260425T073911
CREATED:20240719T115039Z
LAST-MODIFIED:20240719T115240Z
UID:35826-1721397600-1721412000@www.goiasfomento.com
SUMMARY:Lucas Fernandes de Andrade – Diretor Presidente (Interino): Despachos Internos.
DESCRIPTION:
URL:https://www.goiasfomento.com/agenda/lucas-fernandes-de-andrade-diretor-presidente-interino-reuniao-com-secretario-geral-da-agencia-de-fomento-de-goias-2/
LOCATION:Gabinete da Presidência da GoiásFomento – Agência de Fomento de Goiás.
CATEGORIES:Presidência
END:VEVENT
END:VCALENDAR