BEGIN:VCALENDAR
VERSION:2.0
PRODID:-//GoiásFomento - Agência de Fomento - ECPv6.15.20//NONSGML v1.0//EN
CALSCALE:GREGORIAN
METHOD:PUBLISH
X-WR-CALNAME:GoiásFomento - Agência de Fomento
X-ORIGINAL-URL:https://www.goiasfomento.com
X-WR-CALDESC:Eventos para GoiásFomento - Agência de Fomento
REFRESH-INTERVAL;VALUE=DURATION:PT1H
X-Robots-Tag:noindex
X-PUBLISHED-TTL:PT1H
BEGIN:VTIMEZONE
TZID:America/Sao_Paulo
BEGIN:STANDARD
TZOFFSETFROM:-0300
TZOFFSETTO:-0300
TZNAME:-03
DTSTART:20230101T000000
END:STANDARD
END:VTIMEZONE
BEGIN:VEVENT
DTSTART;TZID=America/Sao_Paulo:20240709T080000
DTEND;TZID=America/Sao_Paulo:20240709T120000
DTSTAMP:20260425T073803
CREATED:20240709T135849Z
LAST-MODIFIED:20240711T175601Z
UID:35504-1720512000-1720526400@www.goiasfomento.com
SUMMARY:Lucas Fernandes de Andrade – Diretor Presidente (Interino):  Despachos Internos.
DESCRIPTION:
URL:https://www.goiasfomento.com/agenda/cargo-vago-desde-04-06-2024-26/
LOCATION:Gabinete da Presidência.
CATEGORIES:Presidência
END:VEVENT
BEGIN:VEVENT
DTSTART;TZID=America/Sao_Paulo:20240709T140000
DTEND;TZID=America/Sao_Paulo:20240709T163000
DTSTAMP:20260425T073803
CREATED:20240711T175720Z
LAST-MODIFIED:20240711T175720Z
UID:35607-1720533600-1720542600@www.goiasfomento.com
SUMMARY:Lucas Fernandes de Andrade – Diretor Presidente (Interino):  Reunião com os Gerentes da Agência de Fomento de Goiás.
DESCRIPTION:
URL:https://www.goiasfomento.com/agenda/lucas-fernandes-de-andrade-diretor-presidente-interino-reuniao-com-os-gerentes-da-agencia-de-fomento-de-goias-5/
LOCATION:Gabinete da Presidência.
CATEGORIES:Presidência
END:VEVENT
BEGIN:VEVENT
DTSTART;TZID=America/Sao_Paulo:20240709T163000
DTEND;TZID=America/Sao_Paulo:20240709T180000
DTSTAMP:20260425T073803
CREATED:20240711T175803Z
LAST-MODIFIED:20240711T175803Z
UID:35609-1720542600-1720548000@www.goiasfomento.com
SUMMARY:Lucas Fernandes de Andrade – Diretor Presidente (Interino):  Reunião com o Secretário de Habitação de Senador Canedo Karlus Heduardo Martins.
DESCRIPTION:
URL:https://www.goiasfomento.com/agenda/lucas-fernandes-de-andrade-diretor-presidente-interino-reuniao-com-o-secretario-de-habitacao-de-senador-canedo-karlus-heduardo-martins/
LOCATION:Gabinete da Presidência.
CATEGORIES:Presidência
END:VEVENT
END:VCALENDAR