BEGIN:VCALENDAR
VERSION:2.0
PRODID:-//GoiásFomento - Agência de Fomento - ECPv6.15.20//NONSGML v1.0//EN
CALSCALE:GREGORIAN
METHOD:PUBLISH
X-WR-CALNAME:GoiásFomento - Agência de Fomento
X-ORIGINAL-URL:https://www.goiasfomento.com
X-WR-CALDESC:Eventos para GoiásFomento - Agência de Fomento
REFRESH-INTERVAL;VALUE=DURATION:PT1H
X-Robots-Tag:noindex
X-PUBLISHED-TTL:PT1H
BEGIN:VTIMEZONE
TZID:America/Sao_Paulo
BEGIN:STANDARD
TZOFFSETFROM:-0300
TZOFFSETTO:-0300
TZNAME:-03
DTSTART:20230101T000000
END:STANDARD
END:VTIMEZONE
BEGIN:VEVENT
DTSTART;TZID=America/Sao_Paulo:20240708T080000
DTEND;TZID=America/Sao_Paulo:20240708T100000
DTSTAMP:20260425T073628
CREATED:20240708T110657Z
LAST-MODIFIED:20240711T120041Z
UID:35451-1720425600-1720432800@www.goiasfomento.com
SUMMARY:Lucas Fernandes de Andrade - Diretor Presidente (Interino): Despachos Internos.
DESCRIPTION:
URL:https://www.goiasfomento.com/agenda/cargo-vago-desde-04-06-2024-25/
LOCATION:Gabinete da Presidência da GoiásFomento – Agência de Fomento de Goiás.
CATEGORIES:Presidência
END:VEVENT
BEGIN:VEVENT
DTSTART;TZID=America/Sao_Paulo:20240708T100000
DTEND;TZID=America/Sao_Paulo:20240708T120000
DTSTAMP:20260425T073628
CREATED:20240711T120931Z
LAST-MODIFIED:20240711T120931Z
UID:35574-1720432800-1720440000@www.goiasfomento.com
SUMMARY:Lucas Fernandes de Andrade - Diretor Presidente (Interino): Reunião com os Gerentes da Agência de Fomento de Goiás.
DESCRIPTION:
URL:https://www.goiasfomento.com/agenda/lucas-fernandes-de-andrade-diretor-presidente-interino-reuniao-com-os-gerentes-da-agencia-de-fomento-de-goias-2/
LOCATION:Gabinete da Presidência da GoiásFomento – Agência de Fomento de Goiás.
CATEGORIES:Presidência
END:VEVENT
BEGIN:VEVENT
DTSTART;TZID=America/Sao_Paulo:20240708T140000
DTEND;TZID=America/Sao_Paulo:20240708T150000
DTSTAMP:20260425T073628
CREATED:20240711T120340Z
LAST-MODIFIED:20240711T120340Z
UID:35567-1720447200-1720450800@www.goiasfomento.com
SUMMARY:Lucas Fernandes de Andrade - Diretor Presidente (Interino): Despachos Internos.
DESCRIPTION:
URL:https://www.goiasfomento.com/agenda/lucas-fernandes-de-andrade-diretor-presidente-interino-despachos-internos-3/
LOCATION:Gabinete da Presidência da GoiásFomento – Agência de Fomento de Goiás.
CATEGORIES:Presidência
END:VEVENT
BEGIN:VEVENT
DTSTART;TZID=America/Sao_Paulo:20240708T150000
DTEND;TZID=America/Sao_Paulo:20240708T170000
DTSTAMP:20260425T073628
CREATED:20240711T120527Z
LAST-MODIFIED:20240711T120527Z
UID:35569-1720450800-1720458000@www.goiasfomento.com
SUMMARY:Lucas Fernandes de Andrade - Diretor Presidente (Interino): Assinatura do Decreto que Regulamenta a Lei Estadual de Liberdade Econômica.
DESCRIPTION:
URL:https://www.goiasfomento.com/agenda/lucas-fernandes-de-andrade-diretor-presidente-interino-assinatura-do-decreto-que-regulamenta-a-lei-estadual-de-liberdade-economica/
LOCATION:Centro Administrativo _ Auditório “Governador Mauro Borges”.
CATEGORIES:Presidência
END:VEVENT
BEGIN:VEVENT
DTSTART;TZID=America/Sao_Paulo:20240708T170000
DTEND;TZID=America/Sao_Paulo:20240708T180000
DTSTAMP:20260425T073628
CREATED:20240711T120642Z
LAST-MODIFIED:20240711T120642Z
UID:35572-1720458000-1720461600@www.goiasfomento.com
SUMMARY:Lucas Fernandes de Andrade - Diretor Presidente (Interino): Despachos Internos.
DESCRIPTION:
URL:https://www.goiasfomento.com/agenda/lucas-fernandes-de-andrade-diretor-presidente-interino-despachos-internos-4/
LOCATION:Gabinete da Presidência da GoiásFomento – Agência de Fomento de Goiás.
CATEGORIES:Presidência
END:VEVENT
END:VCALENDAR