BEGIN:VCALENDAR
VERSION:2.0
PRODID:-//GoiásFomento - Agência de Fomento - ECPv6.15.20//NONSGML v1.0//EN
CALSCALE:GREGORIAN
METHOD:PUBLISH
X-ORIGINAL-URL:https://www.goiasfomento.com
X-WR-CALDESC:Eventos para GoiásFomento - Agência de Fomento
REFRESH-INTERVAL;VALUE=DURATION:PT1H
X-Robots-Tag:noindex
X-PUBLISHED-TTL:PT1H
BEGIN:VTIMEZONE
TZID:America/Sao_Paulo
BEGIN:STANDARD
TZOFFSETFROM:-0300
TZOFFSETTO:-0300
TZNAME:-03
DTSTART:20230101T000000
END:STANDARD
END:VTIMEZONE
BEGIN:VEVENT
DTSTART;TZID=America/Sao_Paulo:20240517T080000
DTEND;TZID=America/Sao_Paulo:20240517T093000
DTSTAMP:20260425T104654
CREATED:20240517T133251Z
LAST-MODIFIED:20240517T133251Z
UID:34500-1715932800-1715938200@www.goiasfomento.com
SUMMARY:Eurípedes José: Despachos Internos.
DESCRIPTION:
URL:https://www.goiasfomento.com/agenda/euripedes-jose-despachos-internos-495/
LOCATION:Gabinete da Presidência.
CATEGORIES:Presidência
END:VEVENT
BEGIN:VEVENT
DTSTART;TZID=America/Sao_Paulo:20240517T093000
DTEND;TZID=America/Sao_Paulo:20240517T120000
DTSTAMP:20260425T104654
CREATED:20240517T133201Z
LAST-MODIFIED:20240517T133201Z
UID:34498-1715938200-1715947200@www.goiasfomento.com
SUMMARY:Eurípedes José: Abertura da 77ª Exposição Agropecuária do Estado de Goiás.
DESCRIPTION:
URL:https://www.goiasfomento.com/agenda/euripedes-jose-abertura-da-77a-exposicao-agropecuaria-do-estado-de-goias/
CATEGORIES:Presidência
END:VEVENT
BEGIN:VEVENT
DTSTART;TZID=America/Sao_Paulo:20240517T140000
DTEND;TZID=America/Sao_Paulo:20240517T180000
DTSTAMP:20260425T104654
CREATED:20240517T133345Z
LAST-MODIFIED:20240517T133345Z
UID:34502-1715954400-1715968800@www.goiasfomento.com
SUMMARY:Eurípedes José: Despachos Internos.
DESCRIPTION:
URL:https://www.goiasfomento.com/agenda/euripedes-jose-despachos-internos-496/
LOCATION:Gabinete da Presidência.
CATEGORIES:Presidência
END:VEVENT
END:VCALENDAR