BEGIN:VCALENDAR
VERSION:2.0
PRODID:-//GoiásFomento - Agência de Fomento - ECPv6.15.20//NONSGML v1.0//EN
CALSCALE:GREGORIAN
METHOD:PUBLISH
X-ORIGINAL-URL:https://www.goiasfomento.com
X-WR-CALDESC:Eventos para GoiásFomento - Agência de Fomento
REFRESH-INTERVAL;VALUE=DURATION:PT1H
X-Robots-Tag:noindex
X-PUBLISHED-TTL:PT1H
BEGIN:VTIMEZONE
TZID:America/Sao_Paulo
BEGIN:STANDARD
TZOFFSETFROM:-0300
TZOFFSETTO:-0300
TZNAME:-03
DTSTART:20230101T000000
END:STANDARD
END:VTIMEZONE
BEGIN:VEVENT
DTSTART;TZID=America/Sao_Paulo:20240507T080000
DTEND;TZID=America/Sao_Paulo:20240507T120000
DTSTAMP:20260425T105354
CREATED:20240507T120142Z
LAST-MODIFIED:20240507T120142Z
UID:34340-1715068800-1715083200@www.goiasfomento.com
SUMMARY:Eurípedes José: Despachos Internos.
DESCRIPTION:
URL:https://www.goiasfomento.com/agenda/euripedes-jose-despachos-internos-479/
LOCATION:Gabinete da Presidência.
CATEGORIES:Presidência
END:VEVENT
BEGIN:VEVENT
DTSTART;TZID=America/Sao_Paulo:20240507T140000
DTEND;TZID=America/Sao_Paulo:20240507T180000
DTSTAMP:20260425T105354
CREATED:20240507T123757Z
LAST-MODIFIED:20240507T123757Z
UID:34342-1715090400-1715104800@www.goiasfomento.com
SUMMARY:Eurípedes José: Despachos Internos.
DESCRIPTION:
URL:https://www.goiasfomento.com/agenda/euripedes-jose-despachos-internos-480/
LOCATION:Gabinete da Presidência.
CATEGORIES:Presidência
END:VEVENT
END:VCALENDAR