BEGIN:VCALENDAR
VERSION:2.0
PRODID:-//GoiásFomento - Agência de Fomento - ECPv6.15.20//NONSGML v1.0//EN
CALSCALE:GREGORIAN
METHOD:PUBLISH
X-ORIGINAL-URL:https://www.goiasfomento.com
X-WR-CALDESC:Eventos para GoiásFomento - Agência de Fomento
REFRESH-INTERVAL;VALUE=DURATION:PT1H
X-Robots-Tag:noindex
X-PUBLISHED-TTL:PT1H
BEGIN:VTIMEZONE
TZID:America/Sao_Paulo
BEGIN:STANDARD
TZOFFSETFROM:-0300
TZOFFSETTO:-0300
TZNAME:-03
DTSTART:20230101T000000
END:STANDARD
END:VTIMEZONE
BEGIN:VEVENT
DTSTART;TZID=America/Sao_Paulo:20240426T080000
DTEND;TZID=America/Sao_Paulo:20240426T120000
DTSTAMP:20260425T122706
CREATED:20240426T192021Z
LAST-MODIFIED:20240426T192021Z
UID:34218-1714118400-1714132800@www.goiasfomento.com
SUMMARY:Eurípedes José: Despachos Internos.
DESCRIPTION:
URL:https://www.goiasfomento.com/agenda/euripedes-jose-despachos-internos-467/
LOCATION:Gabinete da Presidência.
CATEGORIES:Presidência
END:VEVENT
BEGIN:VEVENT
DTSTART;TZID=America/Sao_Paulo:20240426T140000
DTEND;TZID=America/Sao_Paulo:20240426T180000
DTSTAMP:20260425T122706
CREATED:20240426T192047Z
LAST-MODIFIED:20240426T192047Z
UID:34220-1714140000-1714154400@www.goiasfomento.com
SUMMARY:Eurípedes José: Despachos Internos.
DESCRIPTION:
URL:https://www.goiasfomento.com/agenda/euripedes-jose-despachos-internos-468/
LOCATION:Gabinete da Presidência.
CATEGORIES:Presidência
END:VEVENT
END:VCALENDAR