BEGIN:VCALENDAR
VERSION:2.0
PRODID:-//GoiásFomento - Agência de Fomento - ECPv6.15.20//NONSGML v1.0//EN
CALSCALE:GREGORIAN
METHOD:PUBLISH
X-WR-CALNAME:GoiásFomento - Agência de Fomento
X-ORIGINAL-URL:https://www.goiasfomento.com
X-WR-CALDESC:Eventos para GoiásFomento - Agência de Fomento
REFRESH-INTERVAL;VALUE=DURATION:PT1H
X-Robots-Tag:noindex
X-PUBLISHED-TTL:PT1H
BEGIN:VTIMEZONE
TZID:America/Sao_Paulo
BEGIN:STANDARD
TZOFFSETFROM:-0300
TZOFFSETTO:-0300
TZNAME:-03
DTSTART:20230101T000000
END:STANDARD
END:VTIMEZONE
BEGIN:VEVENT
DTSTART;TZID=America/Sao_Paulo:20240404T080000
DTEND;TZID=America/Sao_Paulo:20240404T120000
DTSTAMP:20260425T122623
CREATED:20240404T121515Z
LAST-MODIFIED:20240404T121515Z
UID:33835-1712217600-1712232000@www.goiasfomento.com
SUMMARY:Euripedes José: Despachos Internos.
DESCRIPTION:
URL:https://www.goiasfomento.com/agenda/euripedes-jose-despachos-internos-435/
LOCATION:Gabinete da Presidência.
CATEGORIES:Presidência
END:VEVENT
BEGIN:VEVENT
DTSTART;TZID=America/Sao_Paulo:20240404T140000
DTEND;TZID=America/Sao_Paulo:20240404T180000
DTSTAMP:20260425T122623
CREATED:20240404T121609Z
LAST-MODIFIED:20240404T121609Z
UID:33837-1712239200-1712253600@www.goiasfomento.com
SUMMARY:Euripedes José: Despachos Internos.
DESCRIPTION:
URL:https://www.goiasfomento.com/agenda/euripedes-jose-despachos-internos-436/
LOCATION:Gabinete da Presidência.
CATEGORIES:Presidência
END:VEVENT
END:VCALENDAR