BEGIN:VCALENDAR
VERSION:2.0
PRODID:-//GoiásFomento - Agência de Fomento - ECPv6.15.20//NONSGML v1.0//EN
CALSCALE:GREGORIAN
METHOD:PUBLISH
X-WR-CALNAME:GoiásFomento - Agência de Fomento
X-ORIGINAL-URL:https://www.goiasfomento.com
X-WR-CALDESC:Eventos para GoiásFomento - Agência de Fomento
REFRESH-INTERVAL;VALUE=DURATION:PT1H
X-Robots-Tag:noindex
X-PUBLISHED-TTL:PT1H
BEGIN:VTIMEZONE
TZID:America/Sao_Paulo
BEGIN:STANDARD
TZOFFSETFROM:-0300
TZOFFSETTO:-0300
TZNAME:-03
DTSTART:20230101T000000
END:STANDARD
END:VTIMEZONE
BEGIN:VEVENT
DTSTART;TZID=America/Sao_Paulo:20240314T080000
DTEND;TZID=America/Sao_Paulo:20240314T120000
DTSTAMP:20260425T133608
CREATED:20240314T112915Z
LAST-MODIFIED:20240314T112915Z
UID:33523-1710403200-1710417600@www.goiasfomento.com
SUMMARY:Eurípedes José do Carmo: Despachos Internos.
DESCRIPTION:
URL:https://www.goiasfomento.com/agenda/euripedes-jose-do-carmo-despachos-internos-17/
LOCATION:Presidência – Agência de Fomento de Goiás
CATEGORIES:Presidência
END:VEVENT
BEGIN:VEVENT
DTSTART;TZID=America/Sao_Paulo:20240314T140000
DTEND;TZID=America/Sao_Paulo:20240314T180000
DTSTAMP:20260425T133608
CREATED:20240314T112945Z
LAST-MODIFIED:20240314T112945Z
UID:33525-1710424800-1710439200@www.goiasfomento.com
SUMMARY:Eurípedes José do Carmo: Despachos Internos.
DESCRIPTION:
URL:https://www.goiasfomento.com/agenda/euripedes-jose-do-carmo-despachos-internos-18/
LOCATION:Presidência – Agência de Fomento de Goiás
CATEGORIES:Presidência
END:VEVENT
END:VCALENDAR