BEGIN:VCALENDAR
VERSION:2.0
PRODID:-//GoiásFomento - Agência de Fomento - ECPv6.15.20//NONSGML v1.0//EN
CALSCALE:GREGORIAN
METHOD:PUBLISH
X-ORIGINAL-URL:https://www.goiasfomento.com
X-WR-CALDESC:Eventos para GoiásFomento - Agência de Fomento
REFRESH-INTERVAL;VALUE=DURATION:PT1H
X-Robots-Tag:noindex
X-PUBLISHED-TTL:PT1H
BEGIN:VTIMEZONE
TZID:America/Sao_Paulo
BEGIN:STANDARD
TZOFFSETFROM:-0300
TZOFFSETTO:-0300
TZNAME:-03
DTSTART:20230101T000000
END:STANDARD
END:VTIMEZONE
BEGIN:VEVENT
DTSTART;TZID=America/Sao_Paulo:20240207T080000
DTEND;TZID=America/Sao_Paulo:20240207T120000
DTSTAMP:20260425T150554
CREATED:20240207T134218Z
LAST-MODIFIED:20240207T134218Z
UID:32966-1707292800-1707307200@www.goiasfomento.com
SUMMARY:Euripedes José: Despachos Internos.
DESCRIPTION:
URL:https://www.goiasfomento.com/agenda/euripedes-jose-despachos-internos-382/
LOCATION:Gabinete da Presidência.
CATEGORIES:Presidência
END:VEVENT
BEGIN:VEVENT
DTSTART;TZID=America/Sao_Paulo:20240207T140000
DTEND;TZID=America/Sao_Paulo:20240207T180000
DTSTAMP:20260425T150554
CREATED:20240207T134327Z
LAST-MODIFIED:20240207T134327Z
UID:32968-1707314400-1707328800@www.goiasfomento.com
SUMMARY:Euripedes José: Despachos Internos.
DESCRIPTION:
URL:https://www.goiasfomento.com/agenda/euripedes-jose-despachos-internos-383/
LOCATION:Gabinete da Presidência.
CATEGORIES:Presidência
END:VEVENT
END:VCALENDAR