BEGIN:VCALENDAR
VERSION:2.0
PRODID:-//GoiásFomento - Agência de Fomento - ECPv6.15.20//NONSGML v1.0//EN
CALSCALE:GREGORIAN
METHOD:PUBLISH
X-ORIGINAL-URL:https://www.goiasfomento.com
X-WR-CALDESC:Eventos para GoiásFomento - Agência de Fomento
REFRESH-INTERVAL;VALUE=DURATION:PT1H
X-Robots-Tag:noindex
X-PUBLISHED-TTL:PT1H
BEGIN:VTIMEZONE
TZID:America/Sao_Paulo
BEGIN:STANDARD
TZOFFSETFROM:-0300
TZOFFSETTO:-0300
TZNAME:-03
DTSTART:20230101T000000
END:STANDARD
END:VTIMEZONE
BEGIN:VEVENT
DTSTART;TZID=America/Sao_Paulo:20240131T071000
DTEND;TZID=America/Sao_Paulo:20240131T081600
DTSTAMP:20260425T150554
CREATED:20240131T115743Z
LAST-MODIFIED:20240131T115743Z
UID:32871-1706685000-1706688960@www.goiasfomento.com
SUMMARY:Euripedes José: Entrevista ao Vivo no Estúdio da TV Rádio Terra. Pauta: Balanço da GoiásFomento 2023.
DESCRIPTION:
URL:https://www.goiasfomento.com/agenda/euripedes-jose-entrevista-ao-vivo-no-estudio-da-tv-radio-terra-pauta-balanco-da-goiasfomento-2023/
CATEGORIES:Presidência
END:VEVENT
BEGIN:VEVENT
DTSTART;TZID=America/Sao_Paulo:20240131T081600
DTEND;TZID=America/Sao_Paulo:20240131T110000
DTSTAMP:20260425T150554
CREATED:20240131T120000Z
LAST-MODIFIED:20240131T120000Z
UID:32873-1706688960-1706698800@www.goiasfomento.com
SUMMARY:Euripedes José: Despachos Internos.
DESCRIPTION:
URL:https://www.goiasfomento.com/agenda/euripedes-jose-despachos-internos-372/
LOCATION:Gabinete da Presidência.
CATEGORIES:Presidência
END:VEVENT
BEGIN:VEVENT
DTSTART;TZID=America/Sao_Paulo:20240131T110000
DTEND;TZID=America/Sao_Paulo:20240131T120000
DTSTAMP:20260425T150554
CREATED:20240131T120357Z
LAST-MODIFIED:20240131T120357Z
UID:32875-1706698800-1706702400@www.goiasfomento.com
SUMMARY:Euripedes José: ENTREVISTA ao vivo no estúdio TV Brasil Central Programa: JORNAL BRASIL CENTRAL Apresentação: LYS MENDES PAUTA: Balanço GoiásFomento 2023.
DESCRIPTION:
URL:https://www.goiasfomento.com/agenda/euripedes-jose-entrevista-ao-vivo-no-estudio-tv-brasil-central-programa-jornal-brasil-central-apresentacao-lys-mendes-pauta-balanco-goiasfomento-2023/
LOCATION:TV Brasil Central.
CATEGORIES:Presidência
END:VEVENT
BEGIN:VEVENT
DTSTART;TZID=America/Sao_Paulo:20240131T140000
DTEND;TZID=America/Sao_Paulo:20240131T180000
DTSTAMP:20260425T150554
CREATED:20240131T120714Z
LAST-MODIFIED:20240131T120714Z
UID:32878-1706709600-1706724000@www.goiasfomento.com
SUMMARY:Euripedes José: Despachos Internos.
DESCRIPTION:
URL:https://www.goiasfomento.com/agenda/euripedes-jose-despachos-internos-373/
LOCATION:Gabinete da Presidência.
CATEGORIES:Presidência
END:VEVENT
END:VCALENDAR