BEGIN:VCALENDAR
VERSION:2.0
PRODID:-//GoiásFomento - Agência de Fomento - ECPv6.15.20//NONSGML v1.0//EN
CALSCALE:GREGORIAN
METHOD:PUBLISH
X-ORIGINAL-URL:https://www.goiasfomento.com
X-WR-CALDESC:Eventos para GoiásFomento - Agência de Fomento
REFRESH-INTERVAL;VALUE=DURATION:PT1H
X-Robots-Tag:noindex
X-PUBLISHED-TTL:PT1H
BEGIN:VTIMEZONE
TZID:America/Sao_Paulo
BEGIN:STANDARD
TZOFFSETFROM:-0300
TZOFFSETTO:-0300
TZNAME:-03
DTSTART:20250101T000000
END:STANDARD
END:VTIMEZONE
BEGIN:VEVENT
DTSTART;TZID=America/Sao_Paulo:20260302T080000
DTEND;TZID=America/Sao_Paulo:20260302T120000
DTSTAMP:20260423T213237
CREATED:20260303T130203Z
LAST-MODIFIED:20260303T130203Z
UID:48919-1772438400-1772452800@www.goiasfomento.com
SUMMARY:Rivael Aguiar Pereira: Atendimentos e Despachos Internos
DESCRIPTION:
URL:https://www.goiasfomento.com/agenda/rivael-aguiar-pereira-atendimentos-e-despachos-internos-297/
CATEGORIES:Presidência
END:VEVENT
BEGIN:VEVENT
DTSTART;TZID=America/Sao_Paulo:20260302T140000
DTEND;TZID=America/Sao_Paulo:20260302T180000
DTSTAMP:20260423T213237
CREATED:20260303T130239Z
LAST-MODIFIED:20260303T130239Z
UID:48921-1772460000-1772474400@www.goiasfomento.com
SUMMARY:Rivael Aguiar Pereira: Atendimentos e Despachos Internos
DESCRIPTION:
URL:https://www.goiasfomento.com/agenda/rivael-aguiar-pereira-atendimentos-e-despachos-internos-298/
CATEGORIES:Presidência
END:VEVENT
BEGIN:VEVENT
DTSTART;TZID=America/Sao_Paulo:20260303T080000
DTEND;TZID=America/Sao_Paulo:20260303T120000
DTSTAMP:20260423T213237
CREATED:20260303T130432Z
LAST-MODIFIED:20260303T130432Z
UID:48923-1772524800-1772539200@www.goiasfomento.com
SUMMARY:Rivael Aguiar Pereira: Atendimentos e Despachos Internos
DESCRIPTION:
URL:https://www.goiasfomento.com/agenda/rivael-aguiar-pereira-atendimentos-e-despachos-internos-299/
CATEGORIES:Presidência
END:VEVENT
BEGIN:VEVENT
DTSTART;TZID=America/Sao_Paulo:20260303T140000
DTEND;TZID=America/Sao_Paulo:20260303T180000
DTSTAMP:20260423T213237
CREATED:20260303T130505Z
LAST-MODIFIED:20260303T130505Z
UID:48925-1772546400-1772560800@www.goiasfomento.com
SUMMARY:Rivael Aguiar Pereira: Atendimentos e Despachos Internos
DESCRIPTION:
URL:https://www.goiasfomento.com/agenda/rivael-aguiar-pereira-atendimentos-e-despachos-internos-300/
CATEGORIES:Presidência
END:VEVENT
BEGIN:VEVENT
DTSTART;TZID=America/Sao_Paulo:20260304T080000
DTEND;TZID=America/Sao_Paulo:20260304T120000
DTSTAMP:20260423T213237
CREATED:20260305T140348Z
LAST-MODIFIED:20260305T140348Z
UID:49008-1772611200-1772625600@www.goiasfomento.com
SUMMARY:Rivael Aguiar Pereira:  GOIÁS SOCIAL MULHER - PRAÇA CÍVICA
DESCRIPTION:
URL:https://www.goiasfomento.com/agenda/rivael-aguiar-pereira-goias-social-mulher-praca-civica/
CATEGORIES:Presidência
END:VEVENT
BEGIN:VEVENT
DTSTART;TZID=America/Sao_Paulo:20260304T140000
DTEND;TZID=America/Sao_Paulo:20260304T180000
DTSTAMP:20260423T213237
CREATED:20260305T140616Z
LAST-MODIFIED:20260305T140616Z
UID:49010-1772632800-1772647200@www.goiasfomento.com
SUMMARY:Rivael Aguiar Pereira: Atendimentos e Despachos Internos
DESCRIPTION:
URL:https://www.goiasfomento.com/agenda/rivael-aguiar-pereira-atendimentos-e-despachos-internos-301/
CATEGORIES:Presidência
END:VEVENT
BEGIN:VEVENT
DTSTART;TZID=America/Sao_Paulo:20260305T080000
DTEND;TZID=America/Sao_Paulo:20260305T120000
DTSTAMP:20260423T213237
CREATED:20260305T140818Z
LAST-MODIFIED:20260305T140818Z
UID:49012-1772697600-1772712000@www.goiasfomento.com
SUMMARY:Rivael Aguiar Pereira: Atendimentos e Despachos Internos
DESCRIPTION:
URL:https://www.goiasfomento.com/agenda/rivael-aguiar-pereira-atendimentos-e-despachos-internos-302/
CATEGORIES:Presidência
END:VEVENT
BEGIN:VEVENT
DTSTART;TZID=America/Sao_Paulo:20260305T120000
DTEND;TZID=America/Sao_Paulo:20260305T124500
DTSTAMP:20260423T213237
CREATED:20260305T141051Z
LAST-MODIFIED:20260305T141051Z
UID:49014-1772712000-1772714700@www.goiasfomento.com
SUMMARY:Rivael Aguiar Pereira: ENTREVISTA -  VEÍCULO: TV Brasil Central
DESCRIPTION:
URL:https://www.goiasfomento.com/agenda/rivael-aguiar-pereira-entrevista-veiculo-tv-brasil-central/
LOCATION:TBC -Avenida SC-01 Nº 299 – Parque Santa Cruz\, Goiânia – GO\, 74860-270
CATEGORIES:Presidência
END:VEVENT
BEGIN:VEVENT
DTSTART;TZID=America/Sao_Paulo:20260306T080000
DTEND;TZID=America/Sao_Paulo:20260306T120000
DTSTAMP:20260423T213237
CREATED:20260305T141200Z
LAST-MODIFIED:20260305T141200Z
UID:49016-1772784000-1772798400@www.goiasfomento.com
SUMMARY:Rivael Aguiar Pereira: Atendimentos e Despachos Internos
DESCRIPTION:
URL:https://www.goiasfomento.com/agenda/rivael-aguiar-pereira-atendimentos-e-despachos-internos-303/
CATEGORIES:Presidência
END:VEVENT
BEGIN:VEVENT
DTSTART;TZID=America/Sao_Paulo:20260306T140000
DTEND;TZID=America/Sao_Paulo:20260306T180000
DTSTAMP:20260423T213237
CREATED:20260309T192521Z
LAST-MODIFIED:20260309T192521Z
UID:49043-1772805600-1772820000@www.goiasfomento.com
SUMMARY:Rivael Aguiar Pereira: Atendimentos e Despachos Internos
DESCRIPTION:
URL:https://www.goiasfomento.com/agenda/rivael-aguiar-pereira-atendimentos-e-despachos-internos-304/
CATEGORIES:Presidência
END:VEVENT
BEGIN:VEVENT
DTSTART;TZID=America/Sao_Paulo:20260309T080000
DTEND;TZID=America/Sao_Paulo:20260309T120000
DTSTAMP:20260423T213237
CREATED:20260309T192552Z
LAST-MODIFIED:20260309T192552Z
UID:49045-1773043200-1773057600@www.goiasfomento.com
SUMMARY:Rivael Aguiar Pereira: Atendimentos e Despachos Internos
DESCRIPTION:
URL:https://www.goiasfomento.com/agenda/rivael-aguiar-pereira-atendimentos-e-despachos-internos-305/
CATEGORIES:Presidência
END:VEVENT
BEGIN:VEVENT
DTSTART;TZID=America/Sao_Paulo:20260309T140000
DTEND;TZID=America/Sao_Paulo:20260309T180000
DTSTAMP:20260423T213237
CREATED:20260309T192618Z
LAST-MODIFIED:20260309T192618Z
UID:49047-1773064800-1773079200@www.goiasfomento.com
SUMMARY:Rivael Aguiar Pereira: Atendimentos e Despachos Internos
DESCRIPTION:
URL:https://www.goiasfomento.com/agenda/rivael-aguiar-pereira-atendimentos-e-despachos-internos-306/
CATEGORIES:Presidência
END:VEVENT
BEGIN:VEVENT
DTSTART;TZID=America/Sao_Paulo:20260310T080000
DTEND;TZID=America/Sao_Paulo:20260310T090000
DTSTAMP:20260423T213237
CREATED:20260309T195145Z
LAST-MODIFIED:20260309T195152Z
UID:49063-1773129600-1773133200@www.goiasfomento.com
SUMMARY:Rivael Aguiar Pereira: Atendimentos e Despachos Internos
DESCRIPTION:
URL:https://www.goiasfomento.com/agenda/rivael-aguiar-pereira-atendimentos-e-despachos-internos-307/
CATEGORIES:Presidência
END:VEVENT
BEGIN:VEVENT
DTSTART;TZID=America/Sao_Paulo:20260310T093000
DTEND;TZID=America/Sao_Paulo:20260310T103000
DTSTAMP:20260423T213237
CREATED:20260309T195257Z
LAST-MODIFIED:20260309T195257Z
UID:49065-1773135000-1773138600@www.goiasfomento.com
SUMMARY:Rivael Aguiar Pereira: Premiação Correspondentes VIP Evento anual de premiação aos Correspondentes de Crédito da GoiásFomento pelos resultados obtidos no ano de 2025.
DESCRIPTION:
URL:https://www.goiasfomento.com/agenda/rivael-aguiar-pereira-premiacao-correspondentes-vip-evento-anual-de-premiacao-aos-correspondentes-de-credito-da-goiasfomento-pelos-resultados-obtidos-no-ano-de-2025/
LOCATION:goias fomento
CATEGORIES:Presidência
END:VEVENT
BEGIN:VEVENT
DTSTART;TZID=America/Sao_Paulo:20260310T103000
DTEND;TZID=America/Sao_Paulo:20260310T120000
DTSTAMP:20260423T213237
CREATED:20260309T195710Z
LAST-MODIFIED:20260309T195710Z
UID:49068-1773138600-1773144000@www.goiasfomento.com
SUMMARY:Rivael Aguiar Pereira: Atendimentos e Despachos Internos
DESCRIPTION:
URL:https://www.goiasfomento.com/agenda/rivael-aguiar-pereira-atendimentos-e-despachos-internos-308/
CATEGORIES:Presidência
END:VEVENT
BEGIN:VEVENT
DTSTART;TZID=America/Sao_Paulo:20260310T140000
DTEND;TZID=America/Sao_Paulo:20260310T180000
DTSTAMP:20260423T213237
CREATED:20260309T195736Z
LAST-MODIFIED:20260309T195736Z
UID:49070-1773151200-1773165600@www.goiasfomento.com
SUMMARY:Rivael Aguiar Pereira: Atendimentos e Despachos Internos
DESCRIPTION:
URL:https://www.goiasfomento.com/agenda/rivael-aguiar-pereira-atendimentos-e-despachos-internos-309/
CATEGORIES:Presidência
END:VEVENT
BEGIN:VEVENT
DTSTART;TZID=America/Sao_Paulo:20260311T080000
DTEND;TZID=America/Sao_Paulo:20260311T100000
DTSTAMP:20260423T213237
CREATED:20260312T181452Z
LAST-MODIFIED:20260312T181452Z
UID:49187-1773216000-1773223200@www.goiasfomento.com
SUMMARY:Rivael Aguiar Pereira: Atendimentos e Despachos Internos
DESCRIPTION:
URL:https://www.goiasfomento.com/agenda/rivael-aguiar-pereira-atendimentos-e-despachos-internos-310/
CATEGORIES:Presidência
END:VEVENT
BEGIN:VEVENT
DTSTART;TZID=America/Sao_Paulo:20260311T100000
DTEND;TZID=America/Sao_Paulo:20260311T120000
DTSTAMP:20260423T213237
CREATED:20260312T181621Z
LAST-MODIFIED:20260312T181621Z
UID:49189-1773223200-1773230400@www.goiasfomento.com
SUMMARY:Rivael Aguiar Pereira: Palestra Internacional -  Convergência - Ex-presidente da Estônia\, Toomas Hendrik Ilves
DESCRIPTION:
URL:https://www.goiasfomento.com/agenda/rivael-aguiar-pereira-palestra-internacional-convergencia-ex-presidente-da-estonia-toomas-hendrik-ilves/
LOCATION:Teatro Escola Basileu França
CATEGORIES:Presidência
END:VEVENT
BEGIN:VEVENT
DTSTART;TZID=America/Sao_Paulo:20260311T142000
DTEND;TZID=America/Sao_Paulo:20260311T160000
DTSTAMP:20260423T213237
CREATED:20260312T181913Z
LAST-MODIFIED:20260312T182337Z
UID:49195-1773238800-1773244800@www.goiasfomento.com
SUMMARY:Rivael Aguiar Pereira: Apresentação - convergência - Transformação Digital como Política de Estado - José Frederico (SECTI-GO)\,  Rivael Aguiar (GoiasFomento)\, Bruno Portela (AGU)
DESCRIPTION:O painel discute a transformação digital como política de Estado\, destacando o que precisa ser preservado e fortalecido além dos ciclos eleitorais. A partir das visões de José Frederico (SECTI)\, Bruno Portela (AGU) e Rivael Aguiar (GoiásFomento)\, o debate abordará os ativos digitais estratégicos de Goiás\, como dados\, plataformas\, redes e capacidades institucionais\, e como a sua governança e uso inteligente podem garantir continuidade\, inovação tecnológica e desenvolvimento econômico sustentável.
URL:https://www.goiasfomento.com/agenda/rivael-aguiar-pereira-apresentacao-convergencia-transformacao-digital-como-politica-de-estado-jose-frederico-secti-go-rivael-aguiar-goiasfomento-bruno-portela-agu/
CATEGORIES:Presidência
END:VEVENT
BEGIN:VEVENT
DTSTART;TZID=America/Sao_Paulo:20260311T160000
DTEND;TZID=America/Sao_Paulo:20260311T180000
DTSTAMP:20260423T213237
CREATED:20260312T182508Z
LAST-MODIFIED:20260312T182508Z
UID:49204-1773244800-1773252000@www.goiasfomento.com
SUMMARY:Rivael Aguiar Pereira: Atendimentos e Despachos Internos
DESCRIPTION:
URL:https://www.goiasfomento.com/agenda/rivael-aguiar-pereira-atendimentos-e-despachos-internos-311/
CATEGORIES:Presidência
END:VEVENT
BEGIN:VEVENT
DTSTART;TZID=America/Sao_Paulo:20260312T080000
DTEND;TZID=America/Sao_Paulo:20260312T120000
DTSTAMP:20260423T213237
CREATED:20260312T183356Z
LAST-MODIFIED:20260312T183356Z
UID:49206-1773302400-1773316800@www.goiasfomento.com
SUMMARY:Rivael Aguiar Pereira: Atendimentos e Despachos Internos
DESCRIPTION:
URL:https://www.goiasfomento.com/agenda/rivael-aguiar-pereira-atendimentos-e-despachos-internos-312/
CATEGORIES:Presidência
END:VEVENT
BEGIN:VEVENT
DTSTART;TZID=America/Sao_Paulo:20260312T140000
DTEND;TZID=America/Sao_Paulo:20260312T180000
DTSTAMP:20260423T213237
CREATED:20260312T184023Z
LAST-MODIFIED:20260312T184114Z
UID:49208-1773324000-1773338400@www.goiasfomento.com
SUMMARY:Rivael Aguiar Pereira: EVENTO  - convergência - Transformação Digital como Política de Estado
DESCRIPTION:
URL:https://www.goiasfomento.com/agenda/rivael-aguiar-pereira-evento-convergencia-transformacao-digital-como-politica-de-estado-jose-frederico-secti-go-rivael-aguiar-goiasfomento-bruno-portela-agu/
CATEGORIES:Presidência
END:VEVENT
BEGIN:VEVENT
DTSTART;TZID=America/Sao_Paulo:20260313T080000
DTEND;TZID=America/Sao_Paulo:20260313T120000
DTSTAMP:20260423T213237
CREATED:20260312T184900Z
LAST-MODIFIED:20260312T184900Z
UID:49211-1773388800-1773403200@www.goiasfomento.com
SUMMARY:Rivael Aguiar Pereira: Atendimentos e Despachos Internos
DESCRIPTION:
URL:https://www.goiasfomento.com/agenda/rivael-aguiar-pereira-atendimentos-e-despachos-internos-313/
CATEGORIES:Presidência
END:VEVENT
BEGIN:VEVENT
DTSTART;TZID=America/Sao_Paulo:20260313T140000
DTEND;TZID=America/Sao_Paulo:20260313T180000
DTSTAMP:20260423T213237
CREATED:20260312T185843Z
LAST-MODIFIED:20260312T185843Z
UID:49214-1773410400-1773424800@www.goiasfomento.com
SUMMARY:Rivael Aguiar Pereira: Atendimentos e Despachos Internos
DESCRIPTION:
URL:https://www.goiasfomento.com/agenda/rivael-aguiar-pereira-atendimentos-e-despachos-internos-314/
CATEGORIES:Presidência
END:VEVENT
BEGIN:VEVENT
DTSTART;TZID=America/Sao_Paulo:20260316T080000
DTEND;TZID=America/Sao_Paulo:20260316T120000
DTSTAMP:20260423T213237
CREATED:20260316T205326Z
LAST-MODIFIED:20260316T205326Z
UID:49266-1773648000-1773662400@www.goiasfomento.com
SUMMARY:Rivael Aguiar Pereira: Atendimentos e Despachos Internos
DESCRIPTION:
URL:https://www.goiasfomento.com/agenda/rivael-aguiar-pereira-atendimentos-e-despachos-internos-315/
CATEGORIES:Presidência
END:VEVENT
BEGIN:VEVENT
DTSTART;TZID=America/Sao_Paulo:20260316T140000
DTEND;TZID=America/Sao_Paulo:20260316T180000
DTSTAMP:20260423T213237
CREATED:20260316T205346Z
LAST-MODIFIED:20260316T205346Z
UID:49269-1773669600-1773684000@www.goiasfomento.com
SUMMARY:Rivael Aguiar Pereira: Atendimentos e Despachos Internos
DESCRIPTION:
URL:https://www.goiasfomento.com/agenda/rivael-aguiar-pereira-atendimentos-e-despachos-internos-316/
CATEGORIES:Presidência
END:VEVENT
BEGIN:VEVENT
DTSTART;TZID=America/Sao_Paulo:20260317T080000
DTEND;TZID=America/Sao_Paulo:20260317T113000
DTSTAMP:20260423T213237
CREATED:20260318T134509Z
LAST-MODIFIED:20260318T134509Z
UID:49299-1773734400-1773747000@www.goiasfomento.com
SUMMARY:Rivael Aguiar Pereira: Atendimentos e Despachos Internos
DESCRIPTION:
URL:https://www.goiasfomento.com/agenda/rivael-aguiar-pereira-atendimentos-e-despachos-internos-317/
CATEGORIES:Presidência
END:VEVENT
BEGIN:VEVENT
DTSTART;TZID=America/Sao_Paulo:20260317T113000
DTEND;TZID=America/Sao_Paulo:20260317T133000
DTSTAMP:20260423T213237
CREATED:20260318T134555Z
LAST-MODIFIED:20260318T134555Z
UID:49301-1773747000-1773754200@www.goiasfomento.com
SUMMARY:Rivael Aguiar Pereira: Almoço aos Titulares do Conselho de Desenvolvimento do Estado ( CDE / FCO)
DESCRIPTION:
URL:https://www.goiasfomento.com/agenda/rivael-aguiar-pereira-almoco-aos-titulares-do-conselho-de-desenvolvimento-do-estado-cde-fco/
LOCATION:CGE – Palácio Pedro Ludovico Teixeira\, Rua 82\, nº 400\, 3º Andar – Setor Central – GOIÂNIA/GO
CATEGORIES:Presidência
END:VEVENT
BEGIN:VEVENT
DTSTART;TZID=America/Sao_Paulo:20260317T143000
DTEND;TZID=America/Sao_Paulo:20260317T160000
DTSTAMP:20260423T213237
CREATED:20260318T134717Z
LAST-MODIFIED:20260318T134717Z
UID:49303-1773757800-1773763200@www.goiasfomento.com
SUMMARY:Rivael Aguiar Pereira:  ENTREGA DE CARTÕES BB - FAPEG / SECTI
DESCRIPTION:
URL:https://www.goiasfomento.com/agenda/rivael-aguiar-pereira-entrega-de-cartoes-bb-fapeg-secti/
LOCATION:HUB Goiás – Centro de Excelência em Empreendedorismo Inovador R. 261\, 384 – Setor Leste Universitário\, Goiânia – GO\, 74610-250\, Brasil
CATEGORIES:Presidência
END:VEVENT
BEGIN:VEVENT
DTSTART;TZID=America/Sao_Paulo:20260317T160000
DTEND;TZID=America/Sao_Paulo:20260317T180000
DTSTAMP:20260423T213237
CREATED:20260318T134749Z
LAST-MODIFIED:20260318T134749Z
UID:49306-1773763200-1773770400@www.goiasfomento.com
SUMMARY:Rivael Aguiar Pereira: Atendimentos e Despachos Internos
DESCRIPTION:
URL:https://www.goiasfomento.com/agenda/rivael-aguiar-pereira-atendimentos-e-despachos-internos-318/
CATEGORIES:Presidência
END:VEVENT
END:VCALENDAR