BEGIN:VCALENDAR
VERSION:2.0
PRODID:-//GoiásFomento - Agência de Fomento - ECPv6.15.20//NONSGML v1.0//EN
CALSCALE:GREGORIAN
METHOD:PUBLISH
X-ORIGINAL-URL:https://www.goiasfomento.com
X-WR-CALDESC:Eventos para GoiásFomento - Agência de Fomento
REFRESH-INTERVAL;VALUE=DURATION:PT1H
X-Robots-Tag:noindex
X-PUBLISHED-TTL:PT1H
BEGIN:VTIMEZONE
TZID:America/Sao_Paulo
BEGIN:STANDARD
TZOFFSETFROM:-0300
TZOFFSETTO:-0300
TZNAME:-03
DTSTART:20250101T000000
END:STANDARD
END:VTIMEZONE
BEGIN:VEVENT
DTSTART;TZID=America/Sao_Paulo:20260202T080000
DTEND;TZID=America/Sao_Paulo:20260202T100000
DTSTAMP:20260423T225748
CREATED:20260202T135842Z
LAST-MODIFIED:20260202T135842Z
UID:48271-1770019200-1770026400@www.goiasfomento.com
SUMMARY:Rivael Aguiar Pereira: Atendimentos e Despachos Internos
DESCRIPTION:
URL:https://www.goiasfomento.com/agenda/rivael-aguiar-pereira-atendimentos-e-despachos-internos-259/
LOCATION:Gabinete da Presidência da GoiásFomento – Agência de Fomento de Goiás.
CATEGORIES:Presidência
END:VEVENT
BEGIN:VEVENT
DTSTART;TZID=America/Sao_Paulo:20260202T100000
DTEND;TZID=America/Sao_Paulo:20260202T110000
DTSTAMP:20260423T225748
CREATED:20260202T135952Z
LAST-MODIFIED:20260202T140015Z
UID:48273-1770026400-1770030000@www.goiasfomento.com
SUMMARY:Rivael Aguiar Pereira: Reunião com DIRETOR DE ASSISTÊNCIA TÉCNICA E EXTENSÃO RURAL da EMATER-  KIN CARLOS GOMIDES + RAFAEL SOFFA
DESCRIPTION:
URL:https://www.goiasfomento.com/agenda/rivael-aguiar-pereira-reuniao-com-diretor-de-assistencia-tecnica-e-extensao-rural-kin-carlos-gomides-rafael-soffa/
LOCATION:Gabinete da Presidência.
CATEGORIES:Presidência
END:VEVENT
BEGIN:VEVENT
DTSTART;TZID=America/Sao_Paulo:20260202T110000
DTEND;TZID=America/Sao_Paulo:20260202T120000
DTSTAMP:20260423T225748
CREATED:20260202T140110Z
LAST-MODIFIED:20260202T140110Z
UID:48276-1770030000-1770033600@www.goiasfomento.com
SUMMARY:Rivael Aguiar Pereira: Atendimentos e Despachos Internos
DESCRIPTION:
URL:https://www.goiasfomento.com/agenda/rivael-aguiar-pereira-atendimentos-e-despachos-internos-260/
LOCATION:Gabinete da Presidência da GoiásFomento – Agência de Fomento de Goiás.
CATEGORIES:Presidência
END:VEVENT
BEGIN:VEVENT
DTSTART;TZID=America/Sao_Paulo:20260202T140000
DTEND;TZID=America/Sao_Paulo:20260202T180000
DTSTAMP:20260423T225748
CREATED:20260202T140207Z
LAST-MODIFIED:20260202T140207Z
UID:48278-1770040800-1770055200@www.goiasfomento.com
SUMMARY:Rivael Aguiar Pereira: Atendimentos e Despachos Internos
DESCRIPTION:
URL:https://www.goiasfomento.com/agenda/rivael-aguiar-pereira-atendimentos-e-despachos-internos-261/
CATEGORIES:Presidência
END:VEVENT
BEGIN:VEVENT
DTSTART;TZID=America/Sao_Paulo:20260203T080000
DTEND;TZID=America/Sao_Paulo:20260203T120000
DTSTAMP:20260423T225748
CREATED:20260202T140813Z
LAST-MODIFIED:20260202T140813Z
UID:48293-1770105600-1770120000@www.goiasfomento.com
SUMMARY:Rivael Aguiar Pereira: Atendimentos e Despachos Internos
DESCRIPTION:
URL:https://www.goiasfomento.com/agenda/rivael-aguiar-pereira-atendimentos-e-despachos-internos-262/
CATEGORIES:Presidência
END:VEVENT
BEGIN:VEVENT
DTSTART;TZID=America/Sao_Paulo:20260203T140000
DTEND;TZID=America/Sao_Paulo:20260203T180000
DTSTAMP:20260423T225748
CREATED:20260202T140836Z
LAST-MODIFIED:20260202T140836Z
UID:48295-1770127200-1770141600@www.goiasfomento.com
SUMMARY:Rivael Aguiar Pereira: Atendimentos e Despachos Internos
DESCRIPTION:
URL:https://www.goiasfomento.com/agenda/rivael-aguiar-pereira-atendimentos-e-despachos-internos-263/
CATEGORIES:Presidência
END:VEVENT
BEGIN:VEVENT
DTSTART;TZID=America/Sao_Paulo:20260204T080000
DTEND;TZID=America/Sao_Paulo:20260204T100000
DTSTAMP:20260423T225748
CREATED:20260203T172013Z
LAST-MODIFIED:20260203T172013Z
UID:48324-1770192000-1770199200@www.goiasfomento.com
SUMMARY:Rivael Aguiar Pereira: Atendimentos e Despachos Internos
DESCRIPTION:
URL:https://www.goiasfomento.com/agenda/rivael-aguiar-pereira-atendimentos-e-despachos-internos-264/
CATEGORIES:Presidência
END:VEVENT
BEGIN:VEVENT
DTSTART;TZID=America/Sao_Paulo:20260204T100000
DTEND;TZID=America/Sao_Paulo:20260204T120000
DTSTAMP:20260423T225748
CREATED:20260203T172127Z
LAST-MODIFIED:20260203T172127Z
UID:48326-1770199200-1770206400@www.goiasfomento.com
SUMMARY:Rivael Aguiar Pereira: Solenidade de entrega de 246 veículos tipo "van"\, destinados aos municípios de Goiás.
DESCRIPTION:
URL:https://www.goiasfomento.com/agenda/rivael-aguiar-pereira-solenidade-de-entrega-de-246-veiculos-tipo-van-destinados-aos-municipios-de-goias/
LOCATION:Centro Cultural Oscar Niemeyer – CineX (Av. Dep. Jamel Cecílio\, Q. Gleba\, L\, 01\, Nº 4.490 – Setor Fazenda Gameleira)
CATEGORIES:Presidência
END:VEVENT
BEGIN:VEVENT
DTSTART;TZID=America/Sao_Paulo:20260204T140000
DTEND;TZID=America/Sao_Paulo:20260204T180000
DTSTAMP:20260423T225748
CREATED:20260203T172247Z
LAST-MODIFIED:20260203T172247Z
UID:48328-1770213600-1770228000@www.goiasfomento.com
SUMMARY:Rivael Aguiar Pereira: Atendimentos e Despachos Internos
DESCRIPTION:
URL:https://www.goiasfomento.com/agenda/rivael-aguiar-pereira-atendimentos-e-despachos-internos-265/
CATEGORIES:Presidência
END:VEVENT
BEGIN:VEVENT
DTSTART;TZID=America/Sao_Paulo:20260205T080000
DTEND;TZID=America/Sao_Paulo:20260205T120000
DTSTAMP:20260423T225748
CREATED:20260203T172645Z
LAST-MODIFIED:20260203T172645Z
UID:48330-1770278400-1770292800@www.goiasfomento.com
SUMMARY:Rivael Aguiar Pereira: Atendimentos e Despachos Internos
DESCRIPTION:
URL:https://www.goiasfomento.com/agenda/rivael-aguiar-pereira-atendimentos-e-despachos-internos-266/
CATEGORIES:Presidência
END:VEVENT
BEGIN:VEVENT
DTSTART;TZID=America/Sao_Paulo:20260205T140000
DTEND;TZID=America/Sao_Paulo:20260205T180000
DTSTAMP:20260423T225748
CREATED:20260203T172831Z
LAST-MODIFIED:20260203T172831Z
UID:48332-1770300000-1770314400@www.goiasfomento.com
SUMMARY:Rivael Aguiar Pereira: Atendimentos e Despachos Internos
DESCRIPTION:
URL:https://www.goiasfomento.com/agenda/rivael-aguiar-pereira-atendimentos-e-despachos-internos-267/
CATEGORIES:Presidência
END:VEVENT
BEGIN:VEVENT
DTSTART;TZID=America/Sao_Paulo:20260206T080000
DTEND;TZID=America/Sao_Paulo:20260206T120000
DTSTAMP:20260423T225748
CREATED:20260205T182813Z
LAST-MODIFIED:20260205T182813Z
UID:48335-1770364800-1770379200@www.goiasfomento.com
SUMMARY:Rivael Aguiar Pereira: Atendimentos e Despachos Internos
DESCRIPTION:
URL:https://www.goiasfomento.com/agenda/rivael-aguiar-pereira-atendimentos-e-despachos-internos-268/
LOCATION:Gabinete da Presidência.
CATEGORIES:Presidência
END:VEVENT
BEGIN:VEVENT
DTSTART;TZID=America/Sao_Paulo:20260206T140000
DTEND;TZID=America/Sao_Paulo:20260206T180000
DTSTAMP:20260423T225748
CREATED:20260205T182907Z
LAST-MODIFIED:20260205T182907Z
UID:48337-1770386400-1770400800@www.goiasfomento.com
SUMMARY:Rivael Aguiar Pereira: Atendimentos e Despachos Internos
DESCRIPTION:
URL:https://www.goiasfomento.com/agenda/rivael-aguiar-pereira-atendimentos-e-despachos-internos-269/
CATEGORIES:Presidência
END:VEVENT
BEGIN:VEVENT
DTSTART;TZID=America/Sao_Paulo:20260209T080000
DTEND;TZID=America/Sao_Paulo:20260209T120000
DTSTAMP:20260423T225748
CREATED:20260210T161857Z
LAST-MODIFIED:20260210T161857Z
UID:48406-1770624000-1770638400@www.goiasfomento.com
SUMMARY:Rivael Aguiar Pereira: Atendimentos e Despachos Internos
DESCRIPTION:
URL:https://www.goiasfomento.com/agenda/rivael-aguiar-pereira-atendimentos-e-despachos-internos-270/
CATEGORIES:Presidência
END:VEVENT
BEGIN:VEVENT
DTSTART;TZID=America/Sao_Paulo:20260209T140000
DTEND;TZID=America/Sao_Paulo:20260209T180000
DTSTAMP:20260423T225748
CREATED:20260210T162135Z
LAST-MODIFIED:20260210T162135Z
UID:48408-1770645600-1770660000@www.goiasfomento.com
SUMMARY:Rivael Aguiar Pereira: Atendimentos e Despachos Internos
DESCRIPTION:
URL:https://www.goiasfomento.com/agenda/rivael-aguiar-pereira-atendimentos-e-despachos-internos-271/
CATEGORIES:Presidência
END:VEVENT
BEGIN:VEVENT
DTSTART;TZID=America/Sao_Paulo:20260210T080000
DTEND;TZID=America/Sao_Paulo:20260210T120000
DTSTAMP:20260423T225748
CREATED:20260210T162222Z
LAST-MODIFIED:20260210T162222Z
UID:48410-1770710400-1770724800@www.goiasfomento.com
SUMMARY:Rivael Aguiar Pereira: Atendimentos e Despachos Internos
DESCRIPTION:
URL:https://www.goiasfomento.com/agenda/rivael-aguiar-pereira-atendimentos-e-despachos-internos-272/
CATEGORIES:Presidência
END:VEVENT
BEGIN:VEVENT
DTSTART;TZID=America/Sao_Paulo:20260210T140000
DTEND;TZID=America/Sao_Paulo:20260210T180000
DTSTAMP:20260423T225748
CREATED:20260210T162248Z
LAST-MODIFIED:20260210T162248Z
UID:48412-1770732000-1770746400@www.goiasfomento.com
SUMMARY:Rivael Aguiar Pereira: Atendimentos e Despachos Internos
DESCRIPTION:
URL:https://www.goiasfomento.com/agenda/rivael-aguiar-pereira-atendimentos-e-despachos-internos-273/
CATEGORIES:Presidência
END:VEVENT
BEGIN:VEVENT
DTSTART;TZID=America/Sao_Paulo:20260211T080000
DTEND;TZID=America/Sao_Paulo:20260211T120000
DTSTAMP:20260423T225748
CREATED:20260210T162447Z
LAST-MODIFIED:20260210T162447Z
UID:48414-1770796800-1770811200@www.goiasfomento.com
SUMMARY:Rivael Aguiar Pereira: Atendimentos e Despachos Internos
DESCRIPTION:
URL:https://www.goiasfomento.com/agenda/rivael-aguiar-pereira-atendimentos-e-despachos-internos-274/
CATEGORIES:Presidência
END:VEVENT
BEGIN:VEVENT
DTSTART;TZID=America/Sao_Paulo:20260211T140000
DTEND;TZID=America/Sao_Paulo:20260211T160000
DTSTAMP:20260423T225748
CREATED:20260212T144742Z
LAST-MODIFIED:20260212T144742Z
UID:48468-1770818400-1770825600@www.goiasfomento.com
SUMMARY:Rivael Aguiar Pereira: Reunião com Adonidio Neto Vieira Júnior - Secretario Municipal de Desenvolvimento\, Indústria\, Comércio\, Agricultura e Serviços
DESCRIPTION:
URL:https://www.goiasfomento.com/agenda/rivael-aguiar-pereira-reuniao-com-adonidio-neto-vieira-junior-secretario-municipal-de-desenvolvimento-industria-comercio-agricultura-e-servicos/
LOCATION:SEDICAS Secretaria Municipal de Desenvolvimento\, Indústria\, Comércio\, Agricultura e Serviços
CATEGORIES:Presidência
END:VEVENT
BEGIN:VEVENT
DTSTART;TZID=America/Sao_Paulo:20260211T160000
DTEND;TZID=America/Sao_Paulo:20260211T180000
DTSTAMP:20260423T225748
CREATED:20260210T162733Z
LAST-MODIFIED:20260212T144407Z
UID:48416-1770825600-1770832800@www.goiasfomento.com
SUMMARY:Rivael Aguiar Pereira: Atendimentos e Despachos Internos
DESCRIPTION:
URL:https://www.goiasfomento.com/agenda/rivael-aguiar-pereira-atendimentos-e-despachos-internos-275/
CATEGORIES:Presidência
END:VEVENT
BEGIN:VEVENT
DTSTART;TZID=America/Sao_Paulo:20260212T080000
DTEND;TZID=America/Sao_Paulo:20260212T120000
DTSTAMP:20260423T225748
CREATED:20260212T144925Z
LAST-MODIFIED:20260212T144925Z
UID:48472-1770883200-1770897600@www.goiasfomento.com
SUMMARY:Rivael Aguiar Pereira: Atendimentos e Despachos Internos
DESCRIPTION:
URL:https://www.goiasfomento.com/agenda/rivael-aguiar-pereira-atendimentos-e-despachos-internos-276/
CATEGORIES:Presidência
END:VEVENT
BEGIN:VEVENT
DTSTART;TZID=America/Sao_Paulo:20260212T140000
DTEND;TZID=America/Sao_Paulo:20260212T180000
DTSTAMP:20260423T225748
CREATED:20260212T145020Z
LAST-MODIFIED:20260212T145020Z
UID:48474-1770904800-1770919200@www.goiasfomento.com
SUMMARY:Rivael Aguiar Pereira: Atendimentos e Despachos Internos
DESCRIPTION:
URL:https://www.goiasfomento.com/agenda/rivael-aguiar-pereira-atendimentos-e-despachos-internos-277/
CATEGORIES:Presidência
END:VEVENT
BEGIN:VEVENT
DTSTART;TZID=America/Sao_Paulo:20260213T080000
DTEND;TZID=America/Sao_Paulo:20260213T120000
DTSTAMP:20260423T225748
CREATED:20260213T114330Z
LAST-MODIFIED:20260213T114330Z
UID:48488-1770969600-1770984000@www.goiasfomento.com
SUMMARY:Rivael Aguiar Pereira: Atendimentos e Despachos Internos
DESCRIPTION:
URL:https://www.goiasfomento.com/agenda/rivael-aguiar-pereira-atendimentos-e-despachos-internos-278/
LOCATION:Gabinete da Presidência da GoiásFomento – Agência de Fomento de Goiás.
CATEGORIES:Presidência
END:VEVENT
BEGIN:VEVENT
DTSTART;TZID=America/Sao_Paulo:20260213T140000
DTEND;TZID=America/Sao_Paulo:20260213T180000
DTSTAMP:20260423T225748
CREATED:20260223T125731Z
LAST-MODIFIED:20260223T125756Z
UID:48555-1770991200-1771005600@www.goiasfomento.com
SUMMARY:Rivael Aguiar Pereira: Atendimentos e Despachos Internos
DESCRIPTION:
URL:https://www.goiasfomento.com/agenda/rivael-aguiar-pereira-atendimentos-e-despachos-internos-283/
CATEGORIES:Presidência
END:VEVENT
BEGIN:VEVENT
DTSTART;VALUE=DATE:20260216
DTEND;VALUE=DATE:20260218
DTSTAMP:20260423T225748
CREATED:20260213T114403Z
LAST-MODIFIED:20260213T114620Z
UID:48490-1771200000-1771372799@www.goiasfomento.com
SUMMARY:Rivael Aguiar Pereira: Ponto Facultativo\, segundo Decreto Estadual nº 10.855\, de 23 de janeiro de 2026.
DESCRIPTION:
URL:https://www.goiasfomento.com/agenda/rivael-aguiar-pereira-atendimentos-e-despachos-internos-279/
CATEGORIES:Presidência
END:VEVENT
BEGIN:VEVENT
DTSTART;TZID=America/Sao_Paulo:20260218T080000
DTEND;TZID=America/Sao_Paulo:20260218T140000
DTSTAMP:20260423T225748
CREATED:20260213T114753Z
LAST-MODIFIED:20260213T114753Z
UID:48494-1771401600-1771423200@www.goiasfomento.com
SUMMARY:Rivael Aguiar Pereira: Ponto Facultativo\, segundo Decreto Estadual nº 10.855\, de 23 de janeiro de 2026.
DESCRIPTION:
URL:https://www.goiasfomento.com/agenda/rivael-aguiar-pereira-ponto-facultativo-segundo-decreto-estadual-no-10-855-de-23-de-janeiro-de-2026/
CATEGORIES:Presidência
END:VEVENT
BEGIN:VEVENT
DTSTART;TZID=America/Sao_Paulo:20260218T140000
DTEND;TZID=America/Sao_Paulo:20260218T180000
DTSTAMP:20260423T225748
CREATED:20260213T115019Z
LAST-MODIFIED:20260213T115019Z
UID:48497-1771423200-1771437600@www.goiasfomento.com
SUMMARY:Rivael Aguiar Pereira: Atendimentos e Despachos Internos
DESCRIPTION:
URL:https://www.goiasfomento.com/agenda/rivael-aguiar-pereira-atendimentos-e-despachos-internos-280/
LOCATION:Gabinete da Presidência da GoiásFomento – Agência de Fomento de Goiás.
CATEGORIES:Presidência
END:VEVENT
BEGIN:VEVENT
DTSTART;TZID=America/Sao_Paulo:20260219T080000
DTEND;TZID=America/Sao_Paulo:20260219T120000
DTSTAMP:20260423T225748
CREATED:20260223T125501Z
LAST-MODIFIED:20260223T125501Z
UID:48551-1771488000-1771502400@www.goiasfomento.com
SUMMARY:Rivael Aguiar Pereira: Atendimentos e Despachos Internos
DESCRIPTION:
URL:https://www.goiasfomento.com/agenda/rivael-aguiar-pereira-atendimentos-e-despachos-internos-281/
CATEGORIES:Presidência
END:VEVENT
BEGIN:VEVENT
DTSTART;TZID=America/Sao_Paulo:20260219T140000
DTEND;TZID=America/Sao_Paulo:20260219T180000
DTSTAMP:20260423T225748
CREATED:20260223T125552Z
LAST-MODIFIED:20260223T125552Z
UID:48553-1771509600-1771524000@www.goiasfomento.com
SUMMARY:Rivael Aguiar Pereira: Atendimentos e Despachos Internos
DESCRIPTION:
URL:https://www.goiasfomento.com/agenda/rivael-aguiar-pereira-atendimentos-e-despachos-internos-282/
CATEGORIES:Presidência
END:VEVENT
BEGIN:VEVENT
DTSTART;TZID=America/Sao_Paulo:20260220T080000
DTEND;TZID=America/Sao_Paulo:20260220T120000
DTSTAMP:20260423T225748
CREATED:20260223T125831Z
LAST-MODIFIED:20260223T125831Z
UID:48557-1771574400-1771588800@www.goiasfomento.com
SUMMARY:Rivael Aguiar Pereira: Atendimentos e Despachos Internos
DESCRIPTION:
URL:https://www.goiasfomento.com/agenda/rivael-aguiar-pereira-atendimentos-e-despachos-internos-284/
CATEGORIES:Presidência
END:VEVENT
END:VCALENDAR