BEGIN:VCALENDAR
VERSION:2.0
PRODID:-//GoiásFomento - Agência de Fomento - ECPv6.15.20//NONSGML v1.0//EN
CALSCALE:GREGORIAN
METHOD:PUBLISH
X-ORIGINAL-URL:https://www.goiasfomento.com
X-WR-CALDESC:Eventos para GoiásFomento - Agência de Fomento
REFRESH-INTERVAL;VALUE=DURATION:PT1H
X-Robots-Tag:noindex
X-PUBLISHED-TTL:PT1H
BEGIN:VTIMEZONE
TZID:America/Sao_Paulo
BEGIN:STANDARD
TZOFFSETFROM:-0300
TZOFFSETTO:-0300
TZNAME:-03
DTSTART:20240101T000000
END:STANDARD
END:VTIMEZONE
BEGIN:VEVENT
DTSTART;VALUE=DATE:20251231
DTEND;VALUE=DATE:20260103
DTSTAMP:20260424T003257
CREATED:20251208T165552Z
LAST-MODIFIED:20251208T165552Z
UID:47516-1767139200-1767398399@www.goiasfomento.com
SUMMARY:Rivael Aguiar Pereira: Ponto Facultativo Conforme Decreto Estadual Nº 10.821 de 01 de dezembro de 2025.
DESCRIPTION:
URL:https://www.goiasfomento.com/agenda/rivael-aguiar-pereira-ponto-facultativo-conforme-decreto-estadual-no-10-821-de-01-de-dezembro-de-2025-2/
CATEGORIES:Presidência
END:VEVENT
BEGIN:VEVENT
DTSTART;TZID=America/Sao_Paulo:20260105T080000
DTEND;TZID=America/Sao_Paulo:20260105T120000
DTSTAMP:20260424T003257
CREATED:20260105T132607Z
LAST-MODIFIED:20260105T132607Z
UID:47802-1767600000-1767614400@www.goiasfomento.com
SUMMARY:Rivael Aguiar Pereira: Atendimentos e Despachos Internos
DESCRIPTION:
URL:https://www.goiasfomento.com/agenda/rivael-aguiar-pereira-atendimentos-e-despachos-internos-221/
LOCATION:Gabinete da Presidência da GoiásFomento – Agência de Fomento de Goiás.
CATEGORIES:Presidência
END:VEVENT
BEGIN:VEVENT
DTSTART;TZID=America/Sao_Paulo:20260105T140000
DTEND;TZID=America/Sao_Paulo:20260105T180000
DTSTAMP:20260424T003257
CREATED:20260105T132752Z
LAST-MODIFIED:20260105T132752Z
UID:47804-1767621600-1767636000@www.goiasfomento.com
SUMMARY:Rivael Aguiar Pereira: Atendimentos e Despachos Internos
DESCRIPTION:
URL:https://www.goiasfomento.com/agenda/rivael-aguiar-pereira-atendimentos-e-despachos-internos-222/
LOCATION:goias fomento
CATEGORIES:Presidência
END:VEVENT
BEGIN:VEVENT
DTSTART;TZID=America/Sao_Paulo:20260106T080000
DTEND;TZID=America/Sao_Paulo:20260106T120000
DTSTAMP:20260424T003257
CREATED:20260105T132842Z
LAST-MODIFIED:20260105T132842Z
UID:47807-1767686400-1767700800@www.goiasfomento.com
SUMMARY:Rivael Aguiar Pereira: Atendimentos e Despachos Internos
DESCRIPTION:
URL:https://www.goiasfomento.com/agenda/rivael-aguiar-pereira-atendimentos-e-despachos-internos-223/
LOCATION:goias fomento
CATEGORIES:Presidência
END:VEVENT
BEGIN:VEVENT
DTSTART;TZID=America/Sao_Paulo:20260106T140000
DTEND;TZID=America/Sao_Paulo:20260106T180000
DTSTAMP:20260424T003257
CREATED:20260105T133101Z
LAST-MODIFIED:20260105T133101Z
UID:47809-1767708000-1767722400@www.goiasfomento.com
SUMMARY:Rivael Aguiar Pereira: Atendimentos e Despachos Internos
DESCRIPTION:
URL:https://www.goiasfomento.com/agenda/rivael-aguiar-pereira-atendimentos-e-despachos-internos-224/
LOCATION:GoiásFomento – Agência de Fomento de Goiás.
CATEGORIES:Presidência
END:VEVENT
BEGIN:VEVENT
DTSTART;TZID=America/Sao_Paulo:20260107T080000
DTEND;TZID=America/Sao_Paulo:20260107T120000
DTSTAMP:20260424T003257
CREATED:20260105T133202Z
LAST-MODIFIED:20260105T133202Z
UID:47811-1767772800-1767787200@www.goiasfomento.com
SUMMARY:Rivael Aguiar Pereira: Atendimentos e Despachos Internos
DESCRIPTION:
URL:https://www.goiasfomento.com/agenda/rivael-aguiar-pereira-atendimentos-e-despachos-internos-225/
LOCATION:Gabinete da Presidência da GoiásFomento – Agência de Fomento de Goiás.
CATEGORIES:Presidência
END:VEVENT
BEGIN:VEVENT
DTSTART;TZID=America/Sao_Paulo:20260107T140000
DTEND;TZID=America/Sao_Paulo:20260107T180000
DTSTAMP:20260424T003257
CREATED:20260105T133227Z
LAST-MODIFIED:20260105T133258Z
UID:47813-1767794400-1767808800@www.goiasfomento.com
SUMMARY:Rivael Aguiar Pereira: Atendimentos e Despachos Internos
DESCRIPTION:
URL:https://www.goiasfomento.com/agenda/rivael-aguiar-pereira-atendimentos-e-despachos-internos-226/
LOCATION:Gabinete da Presidência da GoiásFomento – Agência de Fomento de Goiás.
CATEGORIES:Presidência
END:VEVENT
BEGIN:VEVENT
DTSTART;TZID=America/Sao_Paulo:20260108T080000
DTEND;TZID=America/Sao_Paulo:20260108T120000
DTSTAMP:20260424T003257
CREATED:20260105T133408Z
LAST-MODIFIED:20260105T133408Z
UID:47815-1767859200-1767873600@www.goiasfomento.com
SUMMARY:Rivael Aguiar Pereira: Atendimentos e Despachos Internos
DESCRIPTION:
URL:https://www.goiasfomento.com/agenda/rivael-aguiar-pereira-atendimentos-e-despachos-internos-227/
LOCATION:Gabinete da Presidência da GoiásFomento – Agência de Fomento de Goiás.
CATEGORIES:Presidência
END:VEVENT
BEGIN:VEVENT
DTSTART;TZID=America/Sao_Paulo:20260108T140000
DTEND;TZID=America/Sao_Paulo:20260108T180000
DTSTAMP:20260424T003257
CREATED:20260105T133433Z
LAST-MODIFIED:20260105T133433Z
UID:47817-1767880800-1767895200@www.goiasfomento.com
SUMMARY:Rivael Aguiar Pereira: Atendimentos e Despachos Internos
DESCRIPTION:
URL:https://www.goiasfomento.com/agenda/rivael-aguiar-pereira-atendimentos-e-despachos-internos-228/
CATEGORIES:Presidência
END:VEVENT
BEGIN:VEVENT
DTSTART;TZID=America/Sao_Paulo:20260109T080000
DTEND;TZID=America/Sao_Paulo:20260109T120000
DTSTAMP:20260424T003257
CREATED:20260105T133647Z
LAST-MODIFIED:20260105T133647Z
UID:47819-1767945600-1767960000@www.goiasfomento.com
SUMMARY:Rivael Aguiar Pereira: Atendimentos e Despachos Internos
DESCRIPTION:
URL:https://www.goiasfomento.com/agenda/rivael-aguiar-pereira-atendimentos-e-despachos-internos-229/
LOCATION:Gabinete da Presidência da GoiásFomento – Agência de Fomento de Goiás.
CATEGORIES:Presidência
END:VEVENT
BEGIN:VEVENT
DTSTART;TZID=America/Sao_Paulo:20260109T140000
DTEND;TZID=America/Sao_Paulo:20260109T180000
DTSTAMP:20260424T003257
CREATED:20260105T133743Z
LAST-MODIFIED:20260105T133743Z
UID:47821-1767967200-1767981600@www.goiasfomento.com
SUMMARY:Rivael Aguiar Pereira: Atendimentos e Despachos Internos
DESCRIPTION:
URL:https://www.goiasfomento.com/agenda/rivael-aguiar-pereira-atendimentos-e-despachos-internos-230/
LOCATION:Gabinete da Presidência da GoiásFomento – Agência de Fomento de Goiás.
CATEGORIES:Presidência
END:VEVENT
BEGIN:VEVENT
DTSTART;TZID=America/Sao_Paulo:20260112T080000
DTEND;TZID=America/Sao_Paulo:20260112T120000
DTSTAMP:20260424T003257
CREATED:20260112T171324Z
LAST-MODIFIED:20260112T171336Z
UID:47931-1768204800-1768219200@www.goiasfomento.com
SUMMARY:Rivael Aguiar Pereira: Atendimentos e Despachos Internos
DESCRIPTION:
URL:https://www.goiasfomento.com/agenda/rivael-aguiar-pereira-atendimentos-e-despachos-internos-231/
LOCATION:Gabinete da Presidência.
CATEGORIES:Presidência
END:VEVENT
BEGIN:VEVENT
DTSTART;TZID=America/Sao_Paulo:20260112T140000
DTEND;TZID=America/Sao_Paulo:20260112T180000
DTSTAMP:20260424T003257
CREATED:20260112T171404Z
LAST-MODIFIED:20260112T171404Z
UID:47933-1768226400-1768240800@www.goiasfomento.com
SUMMARY:Rivael Aguiar Pereira: Atendimentos e Despachos Internos
DESCRIPTION:
URL:https://www.goiasfomento.com/agenda/rivael-aguiar-pereira-atendimentos-e-despachos-internos-232/
LOCATION:Agência de Fomento de Goiás.
CATEGORIES:Presidência
END:VEVENT
BEGIN:VEVENT
DTSTART;TZID=America/Sao_Paulo:20260113T080000
DTEND;TZID=America/Sao_Paulo:20260113T120000
DTSTAMP:20260424T003257
CREATED:20260112T171614Z
LAST-MODIFIED:20260112T171614Z
UID:47935-1768291200-1768305600@www.goiasfomento.com
SUMMARY:Rivael Aguiar Pereira: Atendimentos e Despachos Internos
DESCRIPTION:
URL:https://www.goiasfomento.com/agenda/rivael-aguiar-pereira-atendimentos-e-despachos-internos-233/
LOCATION:Gabinete da Presidência.
CATEGORIES:Presidência
END:VEVENT
BEGIN:VEVENT
DTSTART;TZID=America/Sao_Paulo:20260113T140000
DTEND;TZID=America/Sao_Paulo:20260113T180000
DTSTAMP:20260424T003257
CREATED:20260112T171638Z
LAST-MODIFIED:20260112T171638Z
UID:47937-1768312800-1768327200@www.goiasfomento.com
SUMMARY:Rivael Aguiar Pereira: Atendimentos e Despachos Internos
DESCRIPTION:
URL:https://www.goiasfomento.com/agenda/rivael-aguiar-pereira-atendimentos-e-despachos-internos-234/
LOCATION:Gabinete da Presidência da GoiásFomento – Agência de Fomento de Goiás.
CATEGORIES:Presidência
END:VEVENT
BEGIN:VEVENT
DTSTART;TZID=America/Sao_Paulo:20260114T080000
DTEND;TZID=America/Sao_Paulo:20260114T120000
DTSTAMP:20260424T003257
CREATED:20260112T171728Z
LAST-MODIFIED:20260112T171728Z
UID:47939-1768377600-1768392000@www.goiasfomento.com
SUMMARY:Rivael Aguiar Pereira: Atendimentos e Despachos Internos
DESCRIPTION:
URL:https://www.goiasfomento.com/agenda/rivael-aguiar-pereira-atendimentos-e-despachos-internos-235/
LOCATION:Gabinete da Presidência da GoiásFomento – Agência de Fomento de Goiás.
CATEGORIES:Presidência
END:VEVENT
BEGIN:VEVENT
DTSTART;TZID=America/Sao_Paulo:20260114T140000
DTEND;TZID=America/Sao_Paulo:20260114T180000
DTSTAMP:20260424T003257
CREATED:20260112T171825Z
LAST-MODIFIED:20260112T171825Z
UID:47942-1768399200-1768413600@www.goiasfomento.com
SUMMARY:Rivael Aguiar Pereira: Atendimentos e Despachos Internos
DESCRIPTION:
URL:https://www.goiasfomento.com/agenda/rivael-aguiar-pereira-atendimentos-e-despachos-internos-236/
CATEGORIES:Presidência
END:VEVENT
BEGIN:VEVENT
DTSTART;TZID=America/Sao_Paulo:20260115T080000
DTEND;TZID=America/Sao_Paulo:20260115T100000
DTSTAMP:20260424T003257
CREATED:20260116T121002Z
LAST-MODIFIED:20260116T121002Z
UID:47967-1768464000-1768471200@www.goiasfomento.com
SUMMARY:Rivael Aguiar Pereira: Atendimentos e Despachos Internos
DESCRIPTION:
URL:https://www.goiasfomento.com/agenda/rivael-aguiar-pereira-atendimentos-e-despachos-internos-237/
CATEGORIES:Presidência
END:VEVENT
BEGIN:VEVENT
DTSTART;TZID=America/Sao_Paulo:20260115T100000
DTEND;TZID=America/Sao_Paulo:20260115T120000
DTSTAMP:20260424T003257
CREATED:20260116T123031Z
LAST-MODIFIED:20260116T123031Z
UID:47970-1768471200-1768478400@www.goiasfomento.com
SUMMARY:Rivael Aguiar Pereira:  Assinatura de Convênio - GOIÁS FOMENTO E COREN
DESCRIPTION:
URL:https://www.goiasfomento.com/agenda/rivael-aguiar-pereira-assinatura-de-convenio-goias-fomento-e-coren/
CATEGORIES:Presidência
END:VEVENT
BEGIN:VEVENT
DTSTART;TZID=America/Sao_Paulo:20260115T140000
DTEND;TZID=America/Sao_Paulo:20260115T180000
DTSTAMP:20260424T003257
CREATED:20260116T123124Z
LAST-MODIFIED:20260116T123124Z
UID:47972-1768485600-1768500000@www.goiasfomento.com
SUMMARY:Rivael Aguiar Pereira: Atendimentos e Despachos Internos
DESCRIPTION:
URL:https://www.goiasfomento.com/agenda/rivael-aguiar-pereira-atendimentos-e-despachos-internos-238/
CATEGORIES:Presidência
END:VEVENT
BEGIN:VEVENT
DTSTART;TZID=America/Sao_Paulo:20260116T080000
DTEND;TZID=America/Sao_Paulo:20260116T120000
DTSTAMP:20260424T003257
CREATED:20260116T123239Z
LAST-MODIFIED:20260116T123239Z
UID:47974-1768550400-1768564800@www.goiasfomento.com
SUMMARY:Rivael Aguiar Pereira: Atendimentos e Despachos Internos
DESCRIPTION:
URL:https://www.goiasfomento.com/agenda/rivael-aguiar-pereira-atendimentos-e-despachos-internos-239/
CATEGORIES:Presidência
END:VEVENT
BEGIN:VEVENT
DTSTART;TZID=America/Sao_Paulo:20260116T140000
DTEND;TZID=America/Sao_Paulo:20260116T180000
DTSTAMP:20260424T003257
CREATED:20260116T123339Z
LAST-MODIFIED:20260116T123339Z
UID:47976-1768572000-1768586400@www.goiasfomento.com
SUMMARY:Rivael Aguiar Pereira: Atendimentos e Despachos Internos
DESCRIPTION:
URL:https://www.goiasfomento.com/agenda/rivael-aguiar-pereira-atendimentos-e-despachos-internos-240/
CATEGORIES:Presidência
END:VEVENT
BEGIN:VEVENT
DTSTART;TZID=America/Sao_Paulo:20260119T080000
DTEND;TZID=America/Sao_Paulo:20260119T120000
DTSTAMP:20260424T003257
CREATED:20260119T123658Z
LAST-MODIFIED:20260119T123658Z
UID:47999-1768809600-1768824000@www.goiasfomento.com
SUMMARY:Rivael Aguiar Pereira: Atendimentos e Despachos Internos
DESCRIPTION:
URL:https://www.goiasfomento.com/agenda/rivael-aguiar-pereira-atendimentos-e-despachos-internos-241/
LOCATION:Gabinete da Presidência da GoiásFomento – Agência de Fomento de Goiás.
CATEGORIES:Presidência
END:VEVENT
BEGIN:VEVENT
DTSTART;TZID=America/Sao_Paulo:20260119T140000
DTEND;TZID=America/Sao_Paulo:20260119T180000
DTSTAMP:20260424T003257
CREATED:20260119T124118Z
LAST-MODIFIED:20260119T124118Z
UID:48001-1768831200-1768845600@www.goiasfomento.com
SUMMARY:Rivael Aguiar Pereira: Atendimentos e Despachos Internos
DESCRIPTION:
URL:https://www.goiasfomento.com/agenda/rivael-aguiar-pereira-atendimentos-e-despachos-internos-242/
LOCATION:Gabinete da Presidência da GoiásFomento – Agência de Fomento de Goiás.
CATEGORIES:Presidência
END:VEVENT
BEGIN:VEVENT
DTSTART;TZID=America/Sao_Paulo:20260120T080000
DTEND;TZID=America/Sao_Paulo:20260120T120000
DTSTAMP:20260424T003257
CREATED:20260123T121759Z
LAST-MODIFIED:20260123T121759Z
UID:48162-1768896000-1768910400@www.goiasfomento.com
SUMMARY:Rivael Aguiar Pereira: FIAGRO como Ferramenta de Gestão dos Negócios no Campo Módulo l Financiamento privado ao agronegócio: políticas\, ferramentas histórica evolução
DESCRIPTION:
URL:https://www.goiasfomento.com/agenda/rivael-aguiar-pereira-fiagro-como-ferramenta-de-gestao-dos-negocios-no-campo-modulo-l-financiamento-privado-ao-agronegocio-politicas-ferramentas-historica-evolucao/
CATEGORIES:Presidência
END:VEVENT
BEGIN:VEVENT
DTSTART;TZID=America/Sao_Paulo:20260120T140000
DTEND;TZID=America/Sao_Paulo:20260120T180000
DTSTAMP:20260424T003257
CREATED:20260123T121904Z
LAST-MODIFIED:20260123T121904Z
UID:48164-1768917600-1768932000@www.goiasfomento.com
SUMMARY:Rivael Aguiar Pereira: Atendimentos e Despachos Internos
DESCRIPTION:
URL:https://www.goiasfomento.com/agenda/rivael-aguiar-pereira-atendimentos-e-despachos-internos-243/
LOCATION:goias fomento
CATEGORIES:Presidência
END:VEVENT
BEGIN:VEVENT
DTSTART;TZID=America/Sao_Paulo:20260121T080000
DTEND;TZID=America/Sao_Paulo:20260121T120000
DTSTAMP:20260424T003257
CREATED:20260123T122226Z
LAST-MODIFIED:20260123T122226Z
UID:48166-1768982400-1768996800@www.goiasfomento.com
SUMMARY:Rivael Aguiar Pereira: Atendimentos e Despachos Internos
DESCRIPTION:
URL:https://www.goiasfomento.com/agenda/rivael-aguiar-pereira-atendimentos-e-despachos-internos-244/
CATEGORIES:Presidência
END:VEVENT
BEGIN:VEVENT
DTSTART;TZID=America/Sao_Paulo:20260121T140000
DTEND;TZID=America/Sao_Paulo:20260121T180000
DTSTAMP:20260424T003257
CREATED:20260123T122246Z
LAST-MODIFIED:20260123T122246Z
UID:48168-1769004000-1769018400@www.goiasfomento.com
SUMMARY:Rivael Aguiar Pereira: Atendimentos e Despachos Internos
DESCRIPTION:
URL:https://www.goiasfomento.com/agenda/rivael-aguiar-pereira-atendimentos-e-despachos-internos-245/
LOCATION:goias fomento
CATEGORIES:Presidência
END:VEVENT
BEGIN:VEVENT
DTSTART;TZID=America/Sao_Paulo:20260122T080000
DTEND;TZID=America/Sao_Paulo:20260122T120000
DTSTAMP:20260424T003257
CREATED:20260123T122412Z
LAST-MODIFIED:20260123T122412Z
UID:48171-1769068800-1769083200@www.goiasfomento.com
SUMMARY:Rivael Aguiar Pereira: Atendimentos e Despachos Internos
DESCRIPTION:
URL:https://www.goiasfomento.com/agenda/rivael-aguiar-pereira-atendimentos-e-despachos-internos-246/
LOCATION:goias fomento
CATEGORIES:Presidência
END:VEVENT
BEGIN:VEVENT
DTSTART;TZID=America/Sao_Paulo:20260122T140000
DTEND;TZID=America/Sao_Paulo:20260122T180000
DTSTAMP:20260424T003257
CREATED:20260123T122534Z
LAST-MODIFIED:20260123T122534Z
UID:48173-1769090400-1769104800@www.goiasfomento.com
SUMMARY:Rivael Aguiar Pereira: Atendimentos e Despachos Internos
DESCRIPTION:
URL:https://www.goiasfomento.com/agenda/rivael-aguiar-pereira-atendimentos-e-despachos-internos-247/
CATEGORIES:Presidência
END:VEVENT
END:VCALENDAR