BEGIN:VCALENDAR
VERSION:2.0
PRODID:-//GoiásFomento - Agência de Fomento - ECPv6.15.20//NONSGML v1.0//EN
CALSCALE:GREGORIAN
METHOD:PUBLISH
X-ORIGINAL-URL:https://www.goiasfomento.com
X-WR-CALDESC:Eventos para GoiásFomento - Agência de Fomento
REFRESH-INTERVAL;VALUE=DURATION:PT1H
X-Robots-Tag:noindex
X-PUBLISHED-TTL:PT1H
BEGIN:VTIMEZONE
TZID:America/Sao_Paulo
BEGIN:STANDARD
TZOFFSETFROM:-0300
TZOFFSETTO:-0300
TZNAME:-03
DTSTART:20240101T000000
END:STANDARD
END:VTIMEZONE
BEGIN:VEVENT
DTSTART;TZID=America/Sao_Paulo:20251201T080000
DTEND;TZID=America/Sao_Paulo:20251201T120000
DTSTAMP:20260424T015648
CREATED:20251202T111931Z
LAST-MODIFIED:20251202T111931Z
UID:47303-1764576000-1764590400@www.goiasfomento.com
SUMMARY:Rivael Aguiar Pereira: Atendimentos e Despachos Internos
DESCRIPTION:
URL:https://www.goiasfomento.com/agenda/rivael-aguiar-pereira-atendimentos-e-despachos-internos-185/
LOCATION:Presidência – Agência de Fomento de Goiás
CATEGORIES:Presidência
END:VEVENT
BEGIN:VEVENT
DTSTART;TZID=America/Sao_Paulo:20251201T140000
DTEND;TZID=America/Sao_Paulo:20251201T170000
DTSTAMP:20260424T015648
CREATED:20251202T112035Z
LAST-MODIFIED:20251202T112047Z
UID:47306-1764597600-1764608400@www.goiasfomento.com
SUMMARY:Rivael Aguiar Pereira: Atendimentos e Despachos Internos
DESCRIPTION:
URL:https://www.goiasfomento.com/agenda/rivael-aguiar-pereira-atendimentos-e-despachos-internos-186/
LOCATION:Presidência – Agência de Fomento de Goiás
CATEGORIES:Presidência
END:VEVENT
BEGIN:VEVENT
DTSTART;TZID=America/Sao_Paulo:20251201T170000
DTEND;TZID=America/Sao_Paulo:20251201T180000
DTSTAMP:20260424T015648
CREATED:20251202T112356Z
LAST-MODIFIED:20251202T120101Z
UID:47308-1764608400-1764612000@www.goiasfomento.com
SUMMARY:Rivael Aguiar Pereira: Reunião da Diretoria da GoiásFomento com Prefeito de Goiânia\, Sr. Sandro Mabel.
DESCRIPTION:Pauta: Alinhar Parcerias na área social de Goiânia.
URL:https://www.goiasfomento.com/agenda/rivael-aguiar-pereira-reuniao-da-diretoria-da-goiasfomento-com-prefeito-de-goiania-sr-sandro-mabel/
LOCATION:Prefeitura de Goiânia
CATEGORIES:Presidência
END:VEVENT
BEGIN:VEVENT
DTSTART;TZID=America/Sao_Paulo:20251202T080000
DTEND;TZID=America/Sao_Paulo:20251202T090000
DTSTAMP:20260424T015648
CREATED:20251202T115451Z
LAST-MODIFIED:20251202T115451Z
UID:47324-1764662400-1764666000@www.goiasfomento.com
SUMMARY:Rivael Aguiar Pereira: 420ª Reunião Ordinária do CDE/FCO
DESCRIPTION:
URL:https://www.goiasfomento.com/agenda/rivael-aguiar-pereira-420a-reuniao-ordinaria-do-cde-fco/
LOCATION:Gabinete da Presidência da GoiásFomento – Agência de Fomento de Goiás.
CATEGORIES:Presidência
END:VEVENT
BEGIN:VEVENT
DTSTART;TZID=America/Sao_Paulo:20251202T090000
DTEND;TZID=America/Sao_Paulo:20251202T120000
DTSTAMP:20260424T015648
CREATED:20251202T115630Z
LAST-MODIFIED:20251202T115630Z
UID:47326-1764666000-1764676800@www.goiasfomento.com
SUMMARY:Rivael Aguiar Pereira: Atendimentos e Despachos Internos
DESCRIPTION:
URL:https://www.goiasfomento.com/agenda/rivael-aguiar-pereira-atendimentos-e-despachos-internos-187/
LOCATION:Gabinete da Presidência da GoiásFomento – Agência de Fomento de Goiás.
CATEGORIES:Presidência
END:VEVENT
BEGIN:VEVENT
DTSTART;TZID=America/Sao_Paulo:20251202T140000
DTEND;TZID=America/Sao_Paulo:20251202T153000
DTSTAMP:20260424T015648
CREATED:20251202T115814Z
LAST-MODIFIED:20251202T115850Z
UID:47328-1764684000-1764689400@www.goiasfomento.com
SUMMARY:Rivael Aguiar Pereira: Encontro do Fórum Permanente do Setor de Mineração do Estado de Goiás
DESCRIPTION:Pauta: Plano Estadual de Recursos Minerais (PERM-GO)\, o Sistema Ipê de Licenciamento Ambiental de Goiás\, além de experiências e perspectivas relacionadas à cadeia produtiva de terras raras no estado.
URL:https://www.goiasfomento.com/agenda/rivael-aguiar-pereira-encontro-do-forum-permanente-do-setor-de-mineracao-do-estado-de-goias/
LOCATION:Assembléia Legislativa do Estado de Goiás.
CATEGORIES:Presidência
END:VEVENT
BEGIN:VEVENT
DTSTART;TZID=America/Sao_Paulo:20251202T153000
DTEND;TZID=America/Sao_Paulo:20251202T180000
DTSTAMP:20260424T015648
CREATED:20251202T115954Z
LAST-MODIFIED:20251202T115954Z
UID:47334-1764689400-1764698400@www.goiasfomento.com
SUMMARY:Rivael Aguiar Pereira: Atendimentos e Despachos Internos
DESCRIPTION:
URL:https://www.goiasfomento.com/agenda/rivael-aguiar-pereira-atendimentos-e-despachos-internos-188/
LOCATION:Gabinete da Presidência da GoiásFomento – Agência de Fomento de Goiás.
CATEGORIES:Presidência
END:VEVENT
BEGIN:VEVENT
DTSTART;TZID=America/Sao_Paulo:20251203T080000
DTEND;TZID=America/Sao_Paulo:20251203T120000
DTSTAMP:20260424T015648
CREATED:20251202T120216Z
LAST-MODIFIED:20251202T120216Z
UID:47340-1764748800-1764763200@www.goiasfomento.com
SUMMARY:Rivael Aguiar Pereira: Atendimentos e Despachos Internos
DESCRIPTION:
URL:https://www.goiasfomento.com/agenda/rivael-aguiar-pereira-atendimentos-e-despachos-internos-189/
LOCATION:Gabinete da Presidência da GoiásFomento – Agência de Fomento de Goiás.
CATEGORIES:Presidência
END:VEVENT
BEGIN:VEVENT
DTSTART;TZID=America/Sao_Paulo:20251203T140000
DTEND;TZID=America/Sao_Paulo:20251203T180000
DTSTAMP:20260424T015648
CREATED:20251202T120737Z
LAST-MODIFIED:20251202T120737Z
UID:47342-1764770400-1764784800@www.goiasfomento.com
SUMMARY:Rivael Aguiar Pereira: Atendimentos e Despachos Internos
DESCRIPTION:
URL:https://www.goiasfomento.com/agenda/rivael-aguiar-pereira-atendimentos-e-despachos-internos-190/
CATEGORIES:Presidência
END:VEVENT
BEGIN:VEVENT
DTSTART;TZID=America/Sao_Paulo:20251204T080000
DTEND;TZID=America/Sao_Paulo:20251204T083000
DTSTAMP:20260424T015648
CREATED:20251202T122645Z
LAST-MODIFIED:20251202T123421Z
UID:47361-1764835200-1764837000@www.goiasfomento.com
SUMMARY:Rivael Aguiar Pereira: Atendimentos e Despachos Internos
DESCRIPTION:
URL:https://www.goiasfomento.com/agenda/rivael-aguiar-pereira-atendimentos-e-despachos-internos-191/
LOCATION:Gabinete da Presidência da GoiásFomento – Agência de Fomento de Goiás.
CATEGORIES:Presidência
END:VEVENT
BEGIN:VEVENT
DTSTART;TZID=America/Sao_Paulo:20251204T083000
DTEND;TZID=America/Sao_Paulo:20251204T105000
DTSTAMP:20260424T015648
CREATED:20251202T123922Z
LAST-MODIFIED:20251202T123948Z
UID:47365-1764837000-1764845400@www.goiasfomento.com
SUMMARY:Rivael Aguiar Pereira: ENCONTRO ANUAL DE GESTORES 2025
DESCRIPTION:PALESTRA: GOIÁS FOMENTO: Parcerias e Soluções para o Desenvolvimento dos Municipios
URL:https://www.goiasfomento.com/agenda/rivael-aguiar-pereira-encontro-anual-de-gestores-2025/
LOCATION:Centro de Convenções de Goiânia.
CATEGORIES:Presidência
END:VEVENT
BEGIN:VEVENT
DTSTART;TZID=America/Sao_Paulo:20251204T105000
DTEND;TZID=America/Sao_Paulo:20251204T120000
DTSTAMP:20260424T015648
CREATED:20251202T124148Z
LAST-MODIFIED:20251202T124148Z
UID:47367-1764845400-1764849600@www.goiasfomento.com
SUMMARY:Rivael Aguiar Pereira: PALESTRA - GRACINHA CAIADO - Boas práticas : como Goiás se tornou referência nacional
DESCRIPTION:
URL:https://www.goiasfomento.com/agenda/rivael-aguiar-pereira-palestra-gracinha-caiado-boas-praticas-como-goias-se-tornou-referencia-nacional/
CATEGORIES:Presidência
END:VEVENT
BEGIN:VEVENT
DTSTART;TZID=America/Sao_Paulo:20251204T140000
DTEND;TZID=America/Sao_Paulo:20251204T160000
DTSTAMP:20260424T015648
CREATED:20251202T124248Z
LAST-MODIFIED:20251202T124248Z
UID:47369-1764856800-1764864000@www.goiasfomento.com
SUMMARY:Rivael Aguiar Pereira: Atendimentos e Despachos Internos
DESCRIPTION:
URL:https://www.goiasfomento.com/agenda/rivael-aguiar-pereira-atendimentos-e-despachos-internos-192/
LOCATION:Gabinete da Presidência da GoiásFomento – Agência de Fomento de Goiás.
CATEGORIES:Presidência
END:VEVENT
BEGIN:VEVENT
DTSTART;TZID=America/Sao_Paulo:20251204T160000
DTEND;TZID=America/Sao_Paulo:20251204T180000
DTSTAMP:20260424T015648
CREATED:20251202T125349Z
LAST-MODIFIED:20251202T125349Z
UID:47373-1764864000-1764871200@www.goiasfomento.com
SUMMARY:Rivael Aguiar Pereira: Homenagem - Encontro Anual de Gestores FGM
DESCRIPTION:Será homenageado publicamente no dia 04 de dezembro\, às 16h\, com a entrega da INSÍGNIA DE HONRA AO MÉRITO MUNICIPALISTA\, em reconhecimento à relevante contribuição prestada ao fortalecimento do municipalismo.
URL:https://www.goiasfomento.com/agenda/rivael-aguiar-pereira-homenagem-encontro-anual-de-gestores-fgm/
CATEGORIES:Presidência
END:VEVENT
BEGIN:VEVENT
DTSTART;TZID=America/Sao_Paulo:20251205T080000
DTEND;TZID=America/Sao_Paulo:20251205T120000
DTSTAMP:20260424T015648
CREATED:20251202T125606Z
LAST-MODIFIED:20251202T125606Z
UID:47375-1764921600-1764936000@www.goiasfomento.com
SUMMARY:Rivael Aguiar Pereira: Atendimentos e Despachos Internos
DESCRIPTION:
URL:https://www.goiasfomento.com/agenda/rivael-aguiar-pereira-atendimentos-e-despachos-internos-193/
CATEGORIES:Presidência
END:VEVENT
BEGIN:VEVENT
DTSTART;TZID=America/Sao_Paulo:20251205T140000
DTEND;TZID=America/Sao_Paulo:20251205T180000
DTSTAMP:20260424T015648
CREATED:20251202T125640Z
LAST-MODIFIED:20251202T125640Z
UID:47377-1764943200-1764957600@www.goiasfomento.com
SUMMARY:Rivael Aguiar Pereira: Atendimentos e Despachos Internos
DESCRIPTION:
URL:https://www.goiasfomento.com/agenda/rivael-aguiar-pereira-atendimentos-e-despachos-internos-194/
CATEGORIES:Presidência
END:VEVENT
BEGIN:VEVENT
DTSTART;TZID=America/Sao_Paulo:20251208T080000
DTEND;TZID=America/Sao_Paulo:20251208T120000
DTSTAMP:20260424T015648
CREATED:20251208T135427Z
LAST-MODIFIED:20251208T135729Z
UID:47457-1765180800-1765195200@www.goiasfomento.com
SUMMARY:Rivael Aguiar Pereira: Cúpula Goiás 100% Transparente - Líder em Transparência Pública Nacional.
DESCRIPTION:Programacao -Cúpula Goiás 100% Transparente – Líder em Transparência (1)
URL:https://www.goiasfomento.com/agenda/cupula-goias-100-transparente-lider-em-transparencia-publica-nacional/
LOCATION:K HOTEL – Av. Dep. Jamel Cecílio\, 2550
CATEGORIES:Presidência
END:VEVENT
BEGIN:VEVENT
DTSTART;TZID=America/Sao_Paulo:20251208T140000
DTEND;TZID=America/Sao_Paulo:20251208T180000
DTSTAMP:20260424T015648
CREATED:20251208T135512Z
LAST-MODIFIED:20251208T135512Z
UID:47461-1765202400-1765216800@www.goiasfomento.com
SUMMARY:Rivael Aguiar Pereira: Atendimentos e Despachos Internos
DESCRIPTION:
URL:https://www.goiasfomento.com/agenda/rivael-aguiar-pereira-atendimentos-e-despachos-internos-195/
LOCATION:Gabinete da Presidência da GoiásFomento – Agência de Fomento de Goiás.
CATEGORIES:Presidência
END:VEVENT
BEGIN:VEVENT
DTSTART;TZID=America/Sao_Paulo:20251209T080000
DTEND;TZID=America/Sao_Paulo:20251209T120000
DTSTAMP:20260424T015648
CREATED:20251208T135558Z
LAST-MODIFIED:20251208T135558Z
UID:47463-1765267200-1765281600@www.goiasfomento.com
SUMMARY:Rivael Aguiar Pereira: Atendimentos e Despachos Internos
DESCRIPTION:
URL:https://www.goiasfomento.com/agenda/rivael-aguiar-pereira-atendimentos-e-despachos-internos-196/
LOCATION:Gabinete da Presidência da GoiásFomento – Agência de Fomento de Goiás.
CATEGORIES:Presidência
END:VEVENT
BEGIN:VEVENT
DTSTART;TZID=America/Sao_Paulo:20251209T140000
DTEND;TZID=America/Sao_Paulo:20251209T180000
DTSTAMP:20260424T015648
CREATED:20251208T135623Z
LAST-MODIFIED:20251208T135623Z
UID:47465-1765288800-1765303200@www.goiasfomento.com
SUMMARY:Rivael Aguiar Pereira: Atendimentos e Despachos Internos
DESCRIPTION:
URL:https://www.goiasfomento.com/agenda/rivael-aguiar-pereira-atendimentos-e-despachos-internos-197/
LOCATION:Gabinete da Presidência da GoiásFomento – Agência de Fomento de Goiás.
CATEGORIES:Presidência
END:VEVENT
BEGIN:VEVENT
DTSTART;TZID=America/Sao_Paulo:20251210T080000
DTEND;TZID=America/Sao_Paulo:20251210T120000
DTSTAMP:20260424T015648
CREATED:20251208T135831Z
LAST-MODIFIED:20251208T135900Z
UID:47469-1765353600-1765368000@www.goiasfomento.com
SUMMARY:Rivael Aguiar Pereira: Premiação do Programa de Compliance Público Estadual do Governo de Goiás 2025 (PCP)\, do Programa construindo juntos e do programa embaixadores da cidadania
DESCRIPTION:
URL:https://www.goiasfomento.com/agenda/rivael-aguiar-pereira-premiacao-do-programa-de-compliance-publico-estadual-do-governo-de-goias-2025-pcp-do-programa-construindo-juntos-e-do-programa-embaixadores-da-cidadania/
LOCATION:K HOTEL – Av. Dep. Jamel Cecílio\, 2550
CATEGORIES:Presidência
END:VEVENT
BEGIN:VEVENT
DTSTART;TZID=America/Sao_Paulo:20251210T140000
DTEND;TZID=America/Sao_Paulo:20251210T180000
DTSTAMP:20260424T015648
CREATED:20251208T140148Z
LAST-MODIFIED:20251208T140148Z
UID:47472-1765375200-1765389600@www.goiasfomento.com
SUMMARY:Rivael Aguiar Pereira: Atendimentos e Despachos Internos
DESCRIPTION:
URL:https://www.goiasfomento.com/agenda/rivael-aguiar-pereira-atendimentos-e-despachos-internos-198/
LOCATION:Gabinete da Presidência da GoiásFomento – Agência de Fomento de Goiás.
CATEGORIES:Presidência
END:VEVENT
BEGIN:VEVENT
DTSTART;TZID=America/Sao_Paulo:20251211T080000
DTEND;TZID=America/Sao_Paulo:20251211T120000
DTSTAMP:20260424T015648
CREATED:20251208T165031Z
LAST-MODIFIED:20251208T165031Z
UID:47506-1765440000-1765454400@www.goiasfomento.com
SUMMARY:Rivael Aguiar Pereira: Atendimentos e Despachos Internos
DESCRIPTION:
URL:https://www.goiasfomento.com/agenda/rivael-aguiar-pereira-atendimentos-e-despachos-internos-199/
LOCATION:Gabinete da Presidência da GoiásFomento – Agência de Fomento de Goiás.
CATEGORIES:Presidência
END:VEVENT
BEGIN:VEVENT
DTSTART;TZID=America/Sao_Paulo:20251211T140000
DTEND;TZID=America/Sao_Paulo:20251211T180000
DTSTAMP:20260424T015648
CREATED:20251208T165110Z
LAST-MODIFIED:20251208T165110Z
UID:47508-1765461600-1765476000@www.goiasfomento.com
SUMMARY:Rivael Aguiar Pereira: Atendimentos e Despachos Internos
DESCRIPTION:
URL:https://www.goiasfomento.com/agenda/rivael-aguiar-pereira-atendimentos-e-despachos-internos-200/
CATEGORIES:Presidência
END:VEVENT
BEGIN:VEVENT
DTSTART;TZID=America/Sao_Paulo:20251212T080000
DTEND;TZID=America/Sao_Paulo:20251212T120000
DTSTAMP:20260424T015648
CREATED:20251208T165155Z
LAST-MODIFIED:20251208T165155Z
UID:47510-1765526400-1765540800@www.goiasfomento.com
SUMMARY:Rivael Aguiar Pereira: Atendimentos e Despachos Internos
DESCRIPTION:
URL:https://www.goiasfomento.com/agenda/rivael-aguiar-pereira-atendimentos-e-despachos-internos-201/
LOCATION:Gabinete da Presidência da GoiásFomento – Agência de Fomento de Goiás.
CATEGORIES:Presidência
END:VEVENT
BEGIN:VEVENT
DTSTART;TZID=America/Sao_Paulo:20251212T140000
DTEND;TZID=America/Sao_Paulo:20251212T180000
DTSTAMP:20260424T015648
CREATED:20251208T165250Z
LAST-MODIFIED:20251208T165250Z
UID:47512-1765548000-1765562400@www.goiasfomento.com
SUMMARY:Rivael Aguiar Pereira: Atendimentos e Despachos Internos
DESCRIPTION:
URL:https://www.goiasfomento.com/agenda/rivael-aguiar-pereira-atendimentos-e-despachos-internos-202/
LOCATION:Gabinete da Presidência da GoiásFomento – Agência de Fomento de Goiás.
CATEGORIES:Presidência
END:VEVENT
BEGIN:VEVENT
DTSTART;TZID=America/Sao_Paulo:20251215T080000
DTEND;TZID=America/Sao_Paulo:20251215T120000
DTSTAMP:20260424T015648
CREATED:20251215T130225Z
LAST-MODIFIED:20251215T130225Z
UID:47575-1765785600-1765800000@www.goiasfomento.com
SUMMARY:Rivael Aguiar Pereira: Atendimentos e Despachos Internos
DESCRIPTION:
URL:https://www.goiasfomento.com/agenda/rivael-aguiar-pereira-atendimentos-e-despachos-internos-203/
CATEGORIES:Presidência
END:VEVENT
BEGIN:VEVENT
DTSTART;TZID=America/Sao_Paulo:20251215T140000
DTEND;TZID=America/Sao_Paulo:20251215T180000
DTSTAMP:20260424T015648
CREATED:20251215T130421Z
LAST-MODIFIED:20251215T130917Z
UID:47577-1765807200-1765821600@www.goiasfomento.com
SUMMARY:Rivael Aguiar Pereira: Atendimentos e Despachos Internos
DESCRIPTION:
URL:https://www.goiasfomento.com/agenda/rivael-aguiar-pereira-atendimentos-e-despachos-internos-204/
LOCATION:Gabinete da Presidência da GoiásFomento – Agência de Fomento de Goiás.
CATEGORIES:Presidência
END:VEVENT
BEGIN:VEVENT
DTSTART;TZID=America/Sao_Paulo:20251216T080000
DTEND;TZID=America/Sao_Paulo:20251216T120000
DTSTAMP:20260424T015648
CREATED:20251215T131100Z
LAST-MODIFIED:20251215T131100Z
UID:47579-1765872000-1765886400@www.goiasfomento.com
SUMMARY:Rivael Aguiar Pereira: Atendimentos e Despachos Internos
DESCRIPTION:
URL:https://www.goiasfomento.com/agenda/rivael-aguiar-pereira-atendimentos-e-despachos-internos-205/
CATEGORIES:Presidência
END:VEVENT
BEGIN:VEVENT
DTSTART;TZID=America/Sao_Paulo:20251216T140000
DTEND;TZID=America/Sao_Paulo:20251216T180000
DTSTAMP:20260424T015648
CREATED:20251215T131219Z
LAST-MODIFIED:20251215T131219Z
UID:47581-1765893600-1765908000@www.goiasfomento.com
SUMMARY:Rivael Aguiar Pereira: Atendimentos e Despachos Internos
DESCRIPTION:
URL:https://www.goiasfomento.com/agenda/rivael-aguiar-pereira-atendimentos-e-despachos-internos-206/
CATEGORIES:Presidência
END:VEVENT
END:VCALENDAR