BEGIN:VCALENDAR
VERSION:2.0
PRODID:-//GoiásFomento - Agência de Fomento - ECPv6.15.20//NONSGML v1.0//EN
CALSCALE:GREGORIAN
METHOD:PUBLISH
X-WR-CALNAME:GoiásFomento - Agência de Fomento
X-ORIGINAL-URL:https://www.goiasfomento.com
X-WR-CALDESC:Eventos para GoiásFomento - Agência de Fomento
REFRESH-INTERVAL;VALUE=DURATION:PT1H
X-Robots-Tag:noindex
X-PUBLISHED-TTL:PT1H
BEGIN:VTIMEZONE
TZID:America/Sao_Paulo
BEGIN:STANDARD
TZOFFSETFROM:-0300
TZOFFSETTO:-0300
TZNAME:-03
DTSTART:20240101T000000
END:STANDARD
END:VTIMEZONE
BEGIN:VEVENT
DTSTART;TZID=America/Sao_Paulo:20250701T080000
DTEND;TZID=America/Sao_Paulo:20250701T180000
DTSTAMP:20260424T105734
CREATED:20250630T165131Z
LAST-MODIFIED:20250630T165218Z
UID:44458-1751356800-1751392800@www.goiasfomento.com
SUMMARY:Rivael Aguiar Pereira: Atendimentos e Despachos Interno.
DESCRIPTION:
URL:https://www.goiasfomento.com/agenda/rivael-aguiar-pereira-atendimentos-e-despachos-interno-59/
LOCATION:Gabinete da Presidência.
CATEGORIES:Presidência
END:VEVENT
BEGIN:VEVENT
DTSTART;TZID=America/Sao_Paulo:20250701T140000
DTEND;TZID=America/Sao_Paulo:20250701T180000
DTSTAMP:20260424T105734
CREATED:20250630T165326Z
LAST-MODIFIED:20250630T165326Z
UID:44463-1751378400-1751392800@www.goiasfomento.com
SUMMARY:Rivael Aguiar Pereira: Atendimentos e Despachos Interno.
DESCRIPTION:
URL:https://www.goiasfomento.com/agenda/rivael-aguiar-pereira-atendimentos-e-despachos-interno-60/
LOCATION:Gabinete da Presidência.
CATEGORIES:Presidência
END:VEVENT
BEGIN:VEVENT
DTSTART;TZID=America/Sao_Paulo:20250702T080000
DTEND;TZID=America/Sao_Paulo:20250702T100000
DTSTAMP:20260424T105734
CREATED:20250702T130835Z
LAST-MODIFIED:20250702T130835Z
UID:44511-1751443200-1751450400@www.goiasfomento.com
SUMMARY:Rivael Aguiar Pereira: Atendimentos e Despachos Interno.
DESCRIPTION:
URL:https://www.goiasfomento.com/agenda/rivael-aguiar-pereira-atendimentos-e-despachos-interno-61/
LOCATION:Gabinete da Presidência.
CATEGORIES:Presidência
END:VEVENT
BEGIN:VEVENT
DTSTART;TZID=America/Sao_Paulo:20250702T100000
DTEND;TZID=America/Sao_Paulo:20250702T113000
DTSTAMP:20260424T105734
CREATED:20250702T131410Z
LAST-MODIFIED:20250702T131410Z
UID:44514-1751450400-1751455800@www.goiasfomento.com
SUMMARY:Rivael Aguiar Pereira: Reunião com a Comissão do Plano de Cargos.
DESCRIPTION:
URL:https://www.goiasfomento.com/agenda/rivael-aguiar-pereira-reuniao-com-a-comissao-do-plano-de-cargos/
LOCATION:Sala de reunião
CATEGORIES:Presidência
END:VEVENT
BEGIN:VEVENT
DTSTART;TZID=America/Sao_Paulo:20250702T113000
DTEND;TZID=America/Sao_Paulo:20250702T120000
DTSTAMP:20260424T105734
CREATED:20250702T131942Z
LAST-MODIFIED:20250702T131942Z
UID:44517-1751455800-1751457600@www.goiasfomento.com
SUMMARY:Rivael Aguiar Pereira: Atendimentos e Despachos Interno.
DESCRIPTION:
URL:https://www.goiasfomento.com/agenda/rivael-aguiar-pereira-atendimentos-e-despachos-interno-62/
LOCATION:Gabinete da Presidência.
CATEGORIES:Presidência
END:VEVENT
BEGIN:VEVENT
DTSTART;TZID=America/Sao_Paulo:20250702T140000
DTEND;TZID=America/Sao_Paulo:20250702T180000
DTSTAMP:20260424T105734
CREATED:20250702T132016Z
LAST-MODIFIED:20250702T132016Z
UID:44519-1751464800-1751479200@www.goiasfomento.com
SUMMARY:Rivael Aguiar Pereira: Atendimentos e Despachos Interno.
DESCRIPTION:
URL:https://www.goiasfomento.com/agenda/rivael-aguiar-pereira-atendimentos-e-despachos-interno-63/
LOCATION:Gabinete da Presidência.
CATEGORIES:Presidência
END:VEVENT
BEGIN:VEVENT
DTSTART;TZID=America/Sao_Paulo:20250703T080000
DTEND;TZID=America/Sao_Paulo:20250703T120000
DTSTAMP:20260424T105734
CREATED:20250703T123333Z
LAST-MODIFIED:20250703T123333Z
UID:44544-1751529600-1751544000@www.goiasfomento.com
SUMMARY:Rivael Aguiar Pereira: Atendimentos e Despachos Interno.
DESCRIPTION:
URL:https://www.goiasfomento.com/agenda/rivael-aguiar-pereira-atendimentos-e-despachos-interno-64/
LOCATION:Gabinete da Presidência.
CATEGORIES:Presidência
END:VEVENT
BEGIN:VEVENT
DTSTART;TZID=America/Sao_Paulo:20250703T140000
DTEND;TZID=America/Sao_Paulo:20250703T180000
DTSTAMP:20260424T105734
CREATED:20250703T123410Z
LAST-MODIFIED:20250703T123410Z
UID:44546-1751551200-1751565600@www.goiasfomento.com
SUMMARY:Rivael Aguiar Pereira: Atendimentos e Despachos Interno.
DESCRIPTION:
URL:https://www.goiasfomento.com/agenda/rivael-aguiar-pereira-atendimentos-e-despachos-interno-65/
LOCATION:Gabinete da Presidência.
CATEGORIES:Presidência
END:VEVENT
BEGIN:VEVENT
DTSTART;TZID=America/Sao_Paulo:20250704T080000
DTEND;TZID=America/Sao_Paulo:20250704T120000
DTSTAMP:20260424T105734
CREATED:20250704T173735Z
LAST-MODIFIED:20250704T173735Z
UID:44582-1751616000-1751630400@www.goiasfomento.com
SUMMARY:Rivael Aguiar Pereira: Atendimentos e Despachos Interno.
DESCRIPTION:
URL:https://www.goiasfomento.com/agenda/rivael-aguiar-pereira-atendimentos-e-despachos-interno-66/
LOCATION:Gabinete da Presidência.
CATEGORIES:Presidência
END:VEVENT
BEGIN:VEVENT
DTSTART;TZID=America/Sao_Paulo:20250704T140000
DTEND;TZID=America/Sao_Paulo:20250704T180000
DTSTAMP:20260424T105734
CREATED:20250704T173812Z
LAST-MODIFIED:20250704T173812Z
UID:44584-1751637600-1751652000@www.goiasfomento.com
SUMMARY:Rivael Aguiar Pereira: Atendimentos e Despachos Interno.
DESCRIPTION:
URL:https://www.goiasfomento.com/agenda/rivael-aguiar-pereira-atendimentos-e-despachos-interno-67/
LOCATION:Gabinete da Presidência.
CATEGORIES:Presidência
END:VEVENT
BEGIN:VEVENT
DTSTART;TZID=America/Sao_Paulo:20250707T080000
DTEND;TZID=America/Sao_Paulo:20250707T120000
DTSTAMP:20260424T105734
CREATED:20250708T122835Z
LAST-MODIFIED:20250708T123045Z
UID:44648-1751875200-1751889600@www.goiasfomento.com
SUMMARY:Rivael Aguiar Pereira: Atendimentos e Despachos Internos
DESCRIPTION:
URL:https://www.goiasfomento.com/agenda/despachos-internos-2635/
CATEGORIES:Presidência
END:VEVENT
BEGIN:VEVENT
DTSTART;TZID=America/Sao_Paulo:20250707T140000
DTEND;TZID=America/Sao_Paulo:20250707T170000
DTSTAMP:20260424T105734
CREATED:20250708T123245Z
LAST-MODIFIED:20250708T123245Z
UID:44657-1751896800-1751907600@www.goiasfomento.com
SUMMARY:Rivael Aguiar Pereira: Atendimentos e Despachos Internos
DESCRIPTION:
URL:https://www.goiasfomento.com/agenda/rivael-aguiar-pereira-atendimentos-e-despachos-internos/
CATEGORIES:Presidência
END:VEVENT
BEGIN:VEVENT
DTSTART;TZID=America/Sao_Paulo:20250707T170000
DTEND;TZID=America/Sao_Paulo:20250707T173000
DTSTAMP:20260424T105734
CREATED:20250708T124542Z
LAST-MODIFIED:20250708T124542Z
UID:44664-1751907600-1751909400@www.goiasfomento.com
SUMMARY:Rivael Aguiar Pereira: Atendimentos e Despachos Internos
DESCRIPTION:
URL:https://www.goiasfomento.com/agenda/rivael-aguiar-pereira-atendimentos-e-despachos-internos-2/
CATEGORIES:Presidência
END:VEVENT
BEGIN:VEVENT
DTSTART;TZID=America/Sao_Paulo:20250707T173000
DTEND;TZID=America/Sao_Paulo:20250707T190000
DTSTAMP:20260424T105734
CREATED:20250708T123418Z
LAST-MODIFIED:20250708T123418Z
UID:44659-1751909400-1751914800@www.goiasfomento.com
SUMMARY:Rivael Aguiar Pereira: Evento de entrega de Certificados para Alunos do Projeto Mais Empregos
DESCRIPTION:
URL:https://www.goiasfomento.com/agenda/rivael-aguiar-pereira-evento-de-entrega-de-certificados-para-alunos-do-projeto-mais-empregos/
LOCATION:Auditório Mauro Borges – Palácio Pedro Ludovico Teixeira.
CATEGORIES:Presidência
END:VEVENT
BEGIN:VEVENT
DTSTART;TZID=America/Sao_Paulo:20250708T080000
DTEND;TZID=America/Sao_Paulo:20250708T120000
DTSTAMP:20260424T105734
CREATED:20250708T125639Z
LAST-MODIFIED:20250708T125639Z
UID:44666-1751961600-1751976000@www.goiasfomento.com
SUMMARY:Rivael Aguiar Pereira: Atendimentos e Despachos Internos
DESCRIPTION:
URL:https://www.goiasfomento.com/agenda/rivael-aguiar-pereira-atendimentos-e-despachos-internos-3/
CATEGORIES:Presidência
END:VEVENT
BEGIN:VEVENT
DTSTART;TZID=America/Sao_Paulo:20250708T140000
DTEND;TZID=America/Sao_Paulo:20250708T180000
DTSTAMP:20260424T105734
CREATED:20250708T125724Z
LAST-MODIFIED:20250708T125724Z
UID:44668-1751983200-1751997600@www.goiasfomento.com
SUMMARY:Rivael Aguiar Pereira: Atendimentos e Despachos Internos
DESCRIPTION:
URL:https://www.goiasfomento.com/agenda/rivael-aguiar-pereira-atendimentos-e-despachos-internos-4/
CATEGORIES:Presidência
END:VEVENT
BEGIN:VEVENT
DTSTART;TZID=America/Sao_Paulo:20250709T080000
DTEND;TZID=America/Sao_Paulo:20250709T120000
DTSTAMP:20260424T105734
CREATED:20250709T182524Z
LAST-MODIFIED:20250709T182524Z
UID:44708-1752048000-1752062400@www.goiasfomento.com
SUMMARY:Rivael Aguiar Pereira: Atendimentos e Despachos Internos
DESCRIPTION:
URL:https://www.goiasfomento.com/agenda/rivael-aguiar-pereira-atendimentos-e-despachos-internos-7/
CATEGORIES:Presidência
END:VEVENT
BEGIN:VEVENT
DTSTART;TZID=America/Sao_Paulo:20250709T140000
DTEND;TZID=America/Sao_Paulo:20250709T180000
DTSTAMP:20260424T105734
CREATED:20250709T182502Z
LAST-MODIFIED:20250709T182502Z
UID:44706-1752069600-1752084000@www.goiasfomento.com
SUMMARY:Rivael Aguiar Pereira: Atendimentos e Despachos Internos
DESCRIPTION:
URL:https://www.goiasfomento.com/agenda/rivael-aguiar-pereira-atendimentos-e-despachos-internos-6/
CATEGORIES:Presidência
END:VEVENT
BEGIN:VEVENT
DTSTART;TZID=America/Sao_Paulo:20250710T080000
DTEND;TZID=America/Sao_Paulo:20250710T100000
DTSTAMP:20260424T105734
CREATED:20250709T182650Z
LAST-MODIFIED:20250709T183501Z
UID:44710-1752134400-1752141600@www.goiasfomento.com
SUMMARY:Rivael Aguiar Pereira: Atendimentos e Despachos Internos
DESCRIPTION:
URL:https://www.goiasfomento.com/agenda/rivael-aguiar-pereira-atendimentos-e-despachos-internos-8/
CATEGORIES:Presidência
END:VEVENT
BEGIN:VEVENT
DTSTART;TZID=America/Sao_Paulo:20250710T100000
DTEND;TZID=America/Sao_Paulo:20250710T120000
DTSTAMP:20260424T105734
CREATED:20250709T183410Z
LAST-MODIFIED:20250709T183410Z
UID:44719-1752141600-1752148800@www.goiasfomento.com
SUMMARY:Rivael Aguiar Pereira: 1ª Reunião da Comissão de Governança\, Gestão\, Compliance e Risco
DESCRIPTION:
URL:https://www.goiasfomento.com/agenda/rivael-aguiar-pereira-1a-reuniao-da-comissao-de-governanca-gestao-compliance-e-risco/
CATEGORIES:Presidência
END:VEVENT
BEGIN:VEVENT
DTSTART;TZID=America/Sao_Paulo:20250710T140000
DTEND;TZID=America/Sao_Paulo:20250710T180000
DTSTAMP:20260424T105734
CREATED:20250709T183103Z
LAST-MODIFIED:20250709T183103Z
UID:44712-1752156000-1752170400@www.goiasfomento.com
SUMMARY:Rivael Aguiar Pereira: Atendimentos e Despachos Internos
DESCRIPTION:
URL:https://www.goiasfomento.com/agenda/rivael-aguiar-pereira-atendimentos-e-despachos-internos-9/
CATEGORIES:Presidência
END:VEVENT
BEGIN:VEVENT
DTSTART;TZID=America/Sao_Paulo:20250711T080000
DTEND;TZID=America/Sao_Paulo:20250711T120000
DTSTAMP:20260424T105734
CREATED:20250709T183150Z
LAST-MODIFIED:20250709T183150Z
UID:44714-1752220800-1752235200@www.goiasfomento.com
SUMMARY:Rivael Aguiar Pereira: Atendimentos e Despachos Internos
DESCRIPTION:
URL:https://www.goiasfomento.com/agenda/rivael-aguiar-pereira-atendimentos-e-despachos-internos-10/
CATEGORIES:Presidência
END:VEVENT
BEGIN:VEVENT
DTSTART;TZID=America/Sao_Paulo:20250711T140000
DTEND;TZID=America/Sao_Paulo:20250711T180000
DTSTAMP:20260424T105734
CREATED:20250709T183213Z
LAST-MODIFIED:20250709T183213Z
UID:44716-1752242400-1752256800@www.goiasfomento.com
SUMMARY:Rivael Aguiar Pereira: Atendimentos e Despachos Internos
DESCRIPTION:
URL:https://www.goiasfomento.com/agenda/rivael-aguiar-pereira-atendimentos-e-despachos-internos-11/
CATEGORIES:Presidência
END:VEVENT
BEGIN:VEVENT
DTSTART;TZID=America/Sao_Paulo:20250714T080000
DTEND;TZID=America/Sao_Paulo:20250714T120000
DTSTAMP:20260424T105734
CREATED:20250714T171019Z
LAST-MODIFIED:20250714T171019Z
UID:44809-1752480000-1752494400@www.goiasfomento.com
SUMMARY:Rivael Aguiar Pereira: Atendimentos e Despachos Internos
DESCRIPTION:
URL:https://www.goiasfomento.com/agenda/rivael-aguiar-pereira-atendimentos-e-despachos-internos-12/
CATEGORIES:Presidência
END:VEVENT
BEGIN:VEVENT
DTSTART;TZID=America/Sao_Paulo:20250714T140000
DTEND;TZID=America/Sao_Paulo:20250714T180000
DTSTAMP:20260424T105734
CREATED:20250714T171720Z
LAST-MODIFIED:20250714T171720Z
UID:44811-1752501600-1752516000@www.goiasfomento.com
SUMMARY:Rivael Aguiar Pereira: Atendimentos e Despachos Internos
DESCRIPTION:
URL:https://www.goiasfomento.com/agenda/rivael-aguiar-pereira-atendimentos-e-despachos-internos-13/
CATEGORIES:Presidência
END:VEVENT
BEGIN:VEVENT
DTSTART;TZID=America/Sao_Paulo:20250715T080000
DTEND;TZID=America/Sao_Paulo:20250715T110000
DTSTAMP:20260424T105734
CREATED:20250714T173028Z
LAST-MODIFIED:20250714T173028Z
UID:44813-1752566400-1752577200@www.goiasfomento.com
SUMMARY:Rivael Aguiar Pereira: Atendimentos e Despachos Internos
DESCRIPTION:
URL:https://www.goiasfomento.com/agenda/rivael-aguiar-pereira-atendimentos-e-despachos-internos-14/
CATEGORIES:Presidência
END:VEVENT
BEGIN:VEVENT
DTSTART;TZID=America/Sao_Paulo:20250715T110000
DTEND;TZID=America/Sao_Paulo:20250715T120000
DTSTAMP:20260424T105734
CREATED:20250714T173122Z
LAST-MODIFIED:20250714T173507Z
UID:44815-1752577200-1752580800@www.goiasfomento.com
SUMMARY:Rivael Aguiar Pereira: Reunião Virtual – Apresentação do Planejamento Estratégico ABDE 2025–2027 (Reunião com Agências e Bancos de Desenvolvimento)
DESCRIPTION:
URL:https://www.goiasfomento.com/agenda/reuniao-virtual-apresentacao-do-planejamento-estrategico-abde-2025-2027-reuniao-com-agencias-e-bancos-de-desenvolvimento/
CATEGORIES:Presidência
END:VEVENT
BEGIN:VEVENT
DTSTART;TZID=America/Sao_Paulo:20250715T140000
DTEND;TZID=America/Sao_Paulo:20250715T180000
DTSTAMP:20260424T105734
CREATED:20250714T173558Z
LAST-MODIFIED:20250714T173558Z
UID:44820-1752588000-1752602400@www.goiasfomento.com
SUMMARY:Rivael Aguiar Pereira: Atendimentos e Despachos Internos
DESCRIPTION:
URL:https://www.goiasfomento.com/agenda/rivael-aguiar-pereira-atendimentos-e-despachos-internos-15/
CATEGORIES:Presidência
END:VEVENT
BEGIN:VEVENT
DTSTART;TZID=America/Sao_Paulo:20250716T080000
DTEND;TZID=America/Sao_Paulo:20250716T120000
DTSTAMP:20260424T105734
CREATED:20250714T174526Z
LAST-MODIFIED:20250714T174526Z
UID:44822-1752652800-1752667200@www.goiasfomento.com
SUMMARY:Rivael Aguiar Pereira: Atendimentos e Despachos Internos
DESCRIPTION:
URL:https://www.goiasfomento.com/agenda/rivael-aguiar-pereira-atendimentos-e-despachos-internos-16/
CATEGORIES:Presidência
END:VEVENT
BEGIN:VEVENT
DTSTART;TZID=America/Sao_Paulo:20250716T140000
DTEND;TZID=America/Sao_Paulo:20250716T180000
DTSTAMP:20260424T105734
CREATED:20250714T174547Z
LAST-MODIFIED:20250714T174547Z
UID:44824-1752674400-1752688800@www.goiasfomento.com
SUMMARY:Rivael Aguiar Pereira: Atendimentos e Despachos Internos
DESCRIPTION:
URL:https://www.goiasfomento.com/agenda/rivael-aguiar-pereira-atendimentos-e-despachos-internos-17/
CATEGORIES:Presidência
END:VEVENT
END:VCALENDAR