BEGIN:VCALENDAR
VERSION:2.0
PRODID:-//GoiásFomento - Agência de Fomento - ECPv6.15.20//NONSGML v1.0//EN
CALSCALE:GREGORIAN
METHOD:PUBLISH
X-ORIGINAL-URL:https://www.goiasfomento.com
X-WR-CALDESC:Eventos para GoiásFomento - Agência de Fomento
REFRESH-INTERVAL;VALUE=DURATION:PT1H
X-Robots-Tag:noindex
X-PUBLISHED-TTL:PT1H
BEGIN:VTIMEZONE
TZID:America/Sao_Paulo
BEGIN:STANDARD
TZOFFSETFROM:-0300
TZOFFSETTO:-0300
TZNAME:-03
DTSTART:20250101T000000
END:STANDARD
END:VTIMEZONE
BEGIN:VEVENT
DTSTART;TZID=America/Sao_Paulo:20260413T080000
DTEND;TZID=America/Sao_Paulo:20260413T120000
DTSTAMP:20260423T210516
CREATED:20260413T191613Z
LAST-MODIFIED:20260413T191613Z
UID:49678-1776067200-1776081600@www.goiasfomento.com
SUMMARY:Vinícius Luz: Atendimentos e Despachos Internos.
DESCRIPTION:
URL:https://www.goiasfomento.com/agenda/vinicius-luz-atendimentos-e-despachos-internos-338/
LOCATION:Gabinete da Diretoria de Operações da GoiásFomento – Agência de Fomento de Goiás.
CATEGORIES:Diretoria de Operações
END:VEVENT
BEGIN:VEVENT
DTSTART;TZID=America/Sao_Paulo:20260413T140000
DTEND;TZID=America/Sao_Paulo:20260413T180000
DTSTAMP:20260423T210516
CREATED:20260413T191643Z
LAST-MODIFIED:20260413T191643Z
UID:49680-1776088800-1776103200@www.goiasfomento.com
SUMMARY:Vinícius Luz: Atendimentos e Despachos Internos.
DESCRIPTION:
URL:https://www.goiasfomento.com/agenda/vinicius-luz-atendimentos-e-despachos-internos-339/
LOCATION:Gabinete da Diretoria de Operações da GoiásFomento – Agência de Fomento de Goiás.
CATEGORIES:Diretoria de Operações
END:VEVENT
BEGIN:VEVENT
DTSTART;TZID=America/Sao_Paulo:20260413T190000
DTEND;TZID=America/Sao_Paulo:20260413T200000
DTSTAMP:20260423T210516
CREATED:20260413T192846Z
LAST-MODIFIED:20260413T192846Z
UID:49690-1776106800-1776110400@www.goiasfomento.com
SUMMARY:Vinícius Luz: Solenidade – Entrega da medalha de Mérito Pedro Ludovico Teixeira ALEGO.
DESCRIPTION:
URL:https://www.goiasfomento.com/agenda/vinicius-luz-solenidade-entrega-da-medalha-de-merito-pedro-ludovico-teixeira-alego/
LOCATION:Assembleia Legislativa do Estado de Goiás – ALEGO
CATEGORIES:Diretoria de Operações
END:VEVENT
END:VCALENDAR