BEGIN:VCALENDAR
VERSION:2.0
PRODID:-//GoiásFomento - Agência de Fomento - ECPv6.15.20//NONSGML v1.0//EN
CALSCALE:GREGORIAN
METHOD:PUBLISH
X-WR-CALNAME:GoiásFomento - Agência de Fomento
X-ORIGINAL-URL:https://www.goiasfomento.com
X-WR-CALDESC:Eventos para GoiásFomento - Agência de Fomento
REFRESH-INTERVAL;VALUE=DURATION:PT1H
X-Robots-Tag:noindex
X-PUBLISHED-TTL:PT1H
BEGIN:VTIMEZONE
TZID:America/Sao_Paulo
BEGIN:STANDARD
TZOFFSETFROM:-0300
TZOFFSETTO:-0300
TZNAME:-03
DTSTART:20250101T000000
END:STANDARD
END:VTIMEZONE
BEGIN:VEVENT
DTSTART;TZID=America/Sao_Paulo:20260310T080000
DTEND;TZID=America/Sao_Paulo:20260310T090000
DTSTAMP:20260423T225058
CREATED:20260310T200619Z
LAST-MODIFIED:20260310T200619Z
UID:49148-1773129600-1773133200@www.goiasfomento.com
SUMMARY:Vinícius Luz: Atendimentos e Despachos Internos.
DESCRIPTION:
URL:https://www.goiasfomento.com/agenda/vinicius-luz-atendimentos-e-despachos-internos-304/
LOCATION:Gabinete da Diretoria de Operações da GoiásFomento – Agência de Fomento de Goiás.
CATEGORIES:Diretoria de Operações
END:VEVENT
BEGIN:VEVENT
DTSTART;TZID=America/Sao_Paulo:20260310T090000
DTEND;TZID=America/Sao_Paulo:20260310T103000
DTSTAMP:20260423T225058
CREATED:20260310T200834Z
LAST-MODIFIED:20260310T200834Z
UID:49154-1773133200-1773138600@www.goiasfomento.com
SUMMARY:Vinícius Luz: Premiação Correspondentes VIP Evento anual de premiação aos Correspondentes de Crédito da GoiásFomento pelos resultados obtidos no ano de 2025.
DESCRIPTION:
URL:https://www.goiasfomento.com/agenda/vinicius-luz-premiacao-correspondentes-vip-evento-anual-de-premiacao-aos-correspondentes-de-credito-da-goiasfomento-pelos-resultados-obtidos-no-ano-de-2025/
CATEGORIES:Diretoria de Operações
END:VEVENT
BEGIN:VEVENT
DTSTART;TZID=America/Sao_Paulo:20260310T103000
DTEND;TZID=America/Sao_Paulo:20260310T120000
DTSTAMP:20260423T225058
CREATED:20260310T200641Z
LAST-MODIFIED:20260310T200641Z
UID:49150-1773138600-1773144000@www.goiasfomento.com
SUMMARY:Vinícius Luz: Atendimentos e Despachos Internos.
DESCRIPTION:
URL:https://www.goiasfomento.com/agenda/vinicius-luz-atendimentos-e-despachos-internos-305/
LOCATION:Gabinete da Diretoria de Operações da GoiásFomento – Agência de Fomento de Goiás.
CATEGORIES:Diretoria de Operações
END:VEVENT
BEGIN:VEVENT
DTSTART;TZID=America/Sao_Paulo:20260310T140000
DTEND;TZID=America/Sao_Paulo:20260310T180000
DTSTAMP:20260423T225058
CREATED:20260310T200704Z
LAST-MODIFIED:20260310T200704Z
UID:49152-1773151200-1773165600@www.goiasfomento.com
SUMMARY:Vinícius Luz: Atendimentos e Despachos Internos.
DESCRIPTION:
URL:https://www.goiasfomento.com/agenda/vinicius-luz-atendimentos-e-despachos-internos-306/
LOCATION:Gabinete da Diretoria de Operações da GoiásFomento – Agência de Fomento de Goiás.
CATEGORIES:Diretoria de Operações
END:VEVENT
END:VCALENDAR