BEGIN:VCALENDAR
VERSION:2.0
PRODID:-//GoiásFomento - Agência de Fomento - ECPv6.15.20//NONSGML v1.0//EN
CALSCALE:GREGORIAN
METHOD:PUBLISH
X-WR-CALNAME:GoiásFomento - Agência de Fomento
X-ORIGINAL-URL:https://www.goiasfomento.com
X-WR-CALDESC:Eventos para GoiásFomento - Agência de Fomento
REFRESH-INTERVAL;VALUE=DURATION:PT1H
X-Robots-Tag:noindex
X-PUBLISHED-TTL:PT1H
BEGIN:VTIMEZONE
TZID:America/Sao_Paulo
BEGIN:STANDARD
TZOFFSETFROM:-0300
TZOFFSETTO:-0300
TZNAME:-03
DTSTART:20250101T000000
END:STANDARD
END:VTIMEZONE
BEGIN:VEVENT
DTSTART;TZID=America/Sao_Paulo:20260306T080000
DTEND;TZID=America/Sao_Paulo:20260306T083000
DTSTAMP:20260423T225920
CREATED:20260306T145913Z
LAST-MODIFIED:20260306T145921Z
UID:49026-1772784000-1772785800@www.goiasfomento.com
SUMMARY:Vinícius Luz: Atendimentos e Despachos Internos.
DESCRIPTION:
URL:https://www.goiasfomento.com/agenda/vinicius-luz-atendimentos-e-despachos-internos-300/
LOCATION:Gabinete da Diretoria de Operações da GoiásFomento – Agência de Fomento de Goiás.
CATEGORIES:Diretoria de Operações
END:VEVENT
BEGIN:VEVENT
DTSTART;TZID=America/Sao_Paulo:20260306T083000
DTEND;TZID=America/Sao_Paulo:20260306T103000
DTSTAMP:20260423T225920
CREATED:20260306T150133Z
LAST-MODIFIED:20260306T150532Z
UID:49032-1772785800-1772793000@www.goiasfomento.com
SUMMARY:Vinícius Luz: Goiás Social Mulher - Entrega do Cartões de Crédito Social e Bolsa Qualificação.
DESCRIPTION:
URL:https://www.goiasfomento.com/agenda/vinicius-luz-goias-social-mulher-entrega-do-cartoes-de-credito-social-e-bolsa-qualificacao/
LOCATION:Praça  Civíca – Praça Dr. Pedro Ludovico Teixeira – St. Central\, Goiânia – GO\, 74003-010
CATEGORIES:Diretoria de Operações
END:VEVENT
BEGIN:VEVENT
DTSTART;TZID=America/Sao_Paulo:20260306T103000
DTEND;TZID=America/Sao_Paulo:20260306T120000
DTSTAMP:20260423T225920
CREATED:20260306T150039Z
LAST-MODIFIED:20260306T150039Z
UID:49030-1772793000-1772798400@www.goiasfomento.com
SUMMARY:Vinícius Luz: Atendimentos e Despachos Internos.
DESCRIPTION:
URL:https://www.goiasfomento.com/agenda/vinicius-luz-atendimentos-e-despachos-internos-302/
LOCATION:Gabinete da Diretoria de Operações da GoiásFomento – Agência de Fomento de Goiás.
CATEGORIES:Diretoria de Operações
END:VEVENT
BEGIN:VEVENT
DTSTART;TZID=America/Sao_Paulo:20260306T140000
DTEND;TZID=America/Sao_Paulo:20260306T180000
DTSTAMP:20260423T225920
CREATED:20260306T150011Z
LAST-MODIFIED:20260306T150011Z
UID:49028-1772805600-1772820000@www.goiasfomento.com
SUMMARY:Vinícius Luz: Atendimentos e Despachos Internos.
DESCRIPTION:
URL:https://www.goiasfomento.com/agenda/vinicius-luz-atendimentos-e-despachos-internos-301/
LOCATION:Gabinete da Diretoria de Operações da GoiásFomento – Agência de Fomento de Goiás.
CATEGORIES:Diretoria de Operações
END:VEVENT
END:VCALENDAR