BEGIN:VCALENDAR
VERSION:2.0
PRODID:-//GoiásFomento - Agência de Fomento - ECPv6.15.20//NONSGML v1.0//EN
CALSCALE:GREGORIAN
METHOD:PUBLISH
X-WR-CALNAME:GoiásFomento - Agência de Fomento
X-ORIGINAL-URL:https://www.goiasfomento.com
X-WR-CALDESC:Eventos para GoiásFomento - Agência de Fomento
REFRESH-INTERVAL;VALUE=DURATION:PT1H
X-Robots-Tag:noindex
X-PUBLISHED-TTL:PT1H
BEGIN:VTIMEZONE
TZID:America/Sao_Paulo
BEGIN:STANDARD
TZOFFSETFROM:-0300
TZOFFSETTO:-0300
TZNAME:-03
DTSTART:20250101T000000
END:STANDARD
END:VTIMEZONE
BEGIN:VEVENT
DTSTART;TZID=America/Sao_Paulo:20260224T080000
DTEND;TZID=America/Sao_Paulo:20260224T100000
DTSTAMP:20260423T225921
CREATED:20260225T150850Z
LAST-MODIFIED:20260225T150850Z
UID:48737-1771920000-1771927200@www.goiasfomento.com
SUMMARY:Vinícius Luz: Atendimentos e Despachos Internos.
DESCRIPTION:
URL:https://www.goiasfomento.com/agenda/vinicius-luz-atendimentos-e-despachos-internos-286/
LOCATION:Gabinete da Diretoria de Operações da GoiásFomento – Agência de Fomento de Goiás.
CATEGORIES:Diretoria de Operações
END:VEVENT
BEGIN:VEVENT
DTSTART;TZID=America/Sao_Paulo:20260224T100000
DTEND;TZID=America/Sao_Paulo:20260224T120000
DTSTAMP:20260423T225921
CREATED:20260225T150958Z
LAST-MODIFIED:20260225T151130Z
UID:48741-1771927200-1771934400@www.goiasfomento.com
SUMMARY:Vinícius Luz: Reunião de alinhamento e planejamento estratégico GoiásFomento com o Sebrae.
DESCRIPTION:
URL:https://www.goiasfomento.com/agenda/vinicius-luz-reuniao-de-alinhamento-e-planejamento-estrategico-com-o-sebrae/
LOCATION:Gabinete da Diretoria de Operações da GoiásFomento – Agência de Fomento de Goiás.
CATEGORIES:Diretoria de Operações
END:VEVENT
BEGIN:VEVENT
DTSTART;TZID=America/Sao_Paulo:20260224T140000
DTEND;TZID=America/Sao_Paulo:20260224T180000
DTSTAMP:20260423T225921
CREATED:20260226T132033Z
LAST-MODIFIED:20260226T132033Z
UID:48823-1771941600-1771956000@www.goiasfomento.com
SUMMARY:Vinícius Luz: Atendimentos e Despachos Internos.
DESCRIPTION:
URL:https://www.goiasfomento.com/agenda/vinicius-luz-atendimentos-e-despachos-internos-291/
LOCATION:Gabinete da Diretoria Administrativa e Financeira – Agência de Fomento de Goiás.
CATEGORIES:Diretoria de Operações
END:VEVENT
END:VCALENDAR