BEGIN:VCALENDAR
VERSION:2.0
PRODID:-//GoiásFomento - Agência de Fomento - ECPv6.15.20//NONSGML v1.0//EN
CALSCALE:GREGORIAN
METHOD:PUBLISH
X-WR-CALNAME:GoiásFomento - Agência de Fomento
X-ORIGINAL-URL:https://www.goiasfomento.com
X-WR-CALDESC:Eventos para GoiásFomento - Agência de Fomento
REFRESH-INTERVAL;VALUE=DURATION:PT1H
X-Robots-Tag:noindex
X-PUBLISHED-TTL:PT1H
BEGIN:VTIMEZONE
TZID:America/Sao_Paulo
BEGIN:STANDARD
TZOFFSETFROM:-0300
TZOFFSETTO:-0300
TZNAME:-03
DTSTART:20250101T000000
END:STANDARD
END:VTIMEZONE
BEGIN:VEVENT
DTSTART;TZID=America/Sao_Paulo:20260121T080000
DTEND;TZID=America/Sao_Paulo:20260121T120000
DTSTAMP:20260424T021651
CREATED:20260121T201803Z
LAST-MODIFIED:20260121T201803Z
UID:48136-1768982400-1768996800@www.goiasfomento.com
SUMMARY:Vinícius Luz: Atendimentos e Despachos Internos.
DESCRIPTION:
URL:https://www.goiasfomento.com/agenda/vinicius-luz-atendimentos-e-despachos-internos-262/
LOCATION:Gabinete da Diretoria de Operações da GoiásFomento – Agência de Fomento de Goiás.
CATEGORIES:Diretoria de Operações
END:VEVENT
BEGIN:VEVENT
DTSTART;TZID=America/Sao_Paulo:20260121T140000
DTEND;TZID=America/Sao_Paulo:20260121T143000
DTSTAMP:20260424T021651
CREATED:20260121T202049Z
LAST-MODIFIED:20260121T203108Z
UID:48138-1769004000-1769005800@www.goiasfomento.com
SUMMARY:Vinícius Luz: Atendimentos e Despachos Internos.
DESCRIPTION:
URL:https://www.goiasfomento.com/agenda/vinicius-luz-atendimentos-e-despachos-internos-263/
LOCATION:Gabinete da Diretoria de Operações da GoiásFomento – Agência de Fomento de Goiás.
CATEGORIES:Diretoria de Operações
END:VEVENT
BEGIN:VEVENT
DTSTART;TZID=America/Sao_Paulo:20260121T143000
DTEND;TZID=America/Sao_Paulo:20260121T153000
DTSTAMP:20260424T021651
CREATED:20260121T211815Z
LAST-MODIFIED:20260121T211815Z
UID:48141-1769005800-1769009400@www.goiasfomento.com
SUMMARY:Vinícius Luz: Reunião com Prefeito da Cidade de Goiás - Sr. ADERSON LIBERATO GOUVEA  - Apresentação dos produtos da Goiás Fomento para implantação em parceria com o Município.
DESCRIPTION:
URL:https://www.goiasfomento.com/agenda/vinicius-luz-reuniao-com-prefeito-da-cidade-de-goias-sr-aderson-liberato-gouvea-apresentacao-dos-produtos-da-goias-fomento-para-implantacao-em-parceria-com-o-municipio/
LOCATION:Agência de Fomento de Goiás
CATEGORIES:Diretoria de Operações
END:VEVENT
BEGIN:VEVENT
DTSTART;TZID=America/Sao_Paulo:20260121T153000
DTEND;TZID=America/Sao_Paulo:20260121T180000
DTSTAMP:20260424T021651
CREATED:20260121T211840Z
LAST-MODIFIED:20260121T211840Z
UID:48143-1769009400-1769018400@www.goiasfomento.com
SUMMARY:Vinícius Luz: Atendimentos e Despachos Internos.
DESCRIPTION:
URL:https://www.goiasfomento.com/agenda/vinicius-luz-atendimentos-e-despachos-internos-264/
LOCATION:Gabinete da Diretoria de Operações da GoiásFomento – Agência de Fomento de Goiás.
CATEGORIES:Diretoria de Operações
END:VEVENT
END:VCALENDAR