BEGIN:VCALENDAR
VERSION:2.0
PRODID:-//GoiásFomento - Agência de Fomento - ECPv6.15.20//NONSGML v1.0//EN
CALSCALE:GREGORIAN
METHOD:PUBLISH
X-WR-CALNAME:GoiásFomento - Agência de Fomento
X-ORIGINAL-URL:https://www.goiasfomento.com
X-WR-CALDESC:Eventos para GoiásFomento - Agência de Fomento
REFRESH-INTERVAL;VALUE=DURATION:PT1H
X-Robots-Tag:noindex
X-PUBLISHED-TTL:PT1H
BEGIN:VTIMEZONE
TZID:America/Sao_Paulo
BEGIN:STANDARD
TZOFFSETFROM:-0300
TZOFFSETTO:-0300
TZNAME:-03
DTSTART:20250101T000000
END:STANDARD
END:VTIMEZONE
BEGIN:VEVENT
DTSTART;TZID=America/Sao_Paulo:20260115T080000
DTEND;TZID=America/Sao_Paulo:20260115T100000
DTSTAMP:20260424T022255
CREATED:20260116T135732Z
LAST-MODIFIED:20260116T135732Z
UID:47989-1768464000-1768471200@www.goiasfomento.com
SUMMARY:Vinícius Luz: Atendimentos e Despachos Internos.
DESCRIPTION:
URL:https://www.goiasfomento.com/agenda/vinicius-luz-atendimentos-e-despachos-internos-238/
LOCATION:Agência de Fomento de Goiás
CATEGORIES:Diretoria de Operações
END:VEVENT
BEGIN:VEVENT
DTSTART;TZID=America/Sao_Paulo:20260115T100000
DTEND;TZID=America/Sao_Paulo:20260115T110000
DTSTAMP:20260424T022255
CREATED:20260116T134527Z
LAST-MODIFIED:20260116T134527Z
UID:47981-1768471200-1768474800@www.goiasfomento.com
SUMMARY:Vinícius Luz: Assinatura de Convênio - GOIÁSFOMENTOF e COREN - GO.
DESCRIPTION:
URL:https://www.goiasfomento.com/agenda/vinicius-luz-assinatura-de-convenio-goiasfomentof-e-coren-go/
LOCATION:Agência de Fomento de Goiás
CATEGORIES:Diretoria de Operações
END:VEVENT
BEGIN:VEVENT
DTSTART;TZID=America/Sao_Paulo:20260115T110000
DTEND;TZID=America/Sao_Paulo:20260115T120000
DTSTAMP:20260424T022255
CREATED:20260116T135449Z
LAST-MODIFIED:20260116T135449Z
UID:47987-1768474800-1768478400@www.goiasfomento.com
SUMMARY:Vinícius Luz: Atendimentos e Despachos Internos.
DESCRIPTION:
URL:https://www.goiasfomento.com/agenda/vinicius-luz-atendimentos-e-despachos-internos-237/
LOCATION:Agência de Fomento de Goiás
CATEGORIES:Diretoria de Operações
END:VEVENT
BEGIN:VEVENT
DTSTART;TZID=America/Sao_Paulo:20260115T140000
DTEND;TZID=America/Sao_Paulo:20260115T180000
DTSTAMP:20260424T022255
CREATED:20260116T134144Z
LAST-MODIFIED:20260116T134144Z
UID:47979-1768485600-1768500000@www.goiasfomento.com
SUMMARY:Vinícius Luz: Atendimentos e Despachos Internos.
DESCRIPTION:
URL:https://www.goiasfomento.com/agenda/vinicius-luz-atendimentos-e-despachos-internos-236/
LOCATION:Agência de Fomento de Goiás
CATEGORIES:Diretoria de Operações
END:VEVENT
END:VCALENDAR