BEGIN:VCALENDAR
VERSION:2.0
PRODID:-//GoiásFomento - Agência de Fomento - ECPv6.15.20//NONSGML v1.0//EN
CALSCALE:GREGORIAN
METHOD:PUBLISH
X-ORIGINAL-URL:https://www.goiasfomento.com
X-WR-CALDESC:Eventos para GoiásFomento - Agência de Fomento
REFRESH-INTERVAL;VALUE=DURATION:PT1H
X-Robots-Tag:noindex
X-PUBLISHED-TTL:PT1H
BEGIN:VTIMEZONE
TZID:America/Sao_Paulo
BEGIN:STANDARD
TZOFFSETFROM:-0300
TZOFFSETTO:-0300
TZNAME:-03
DTSTART:20250101T000000
END:STANDARD
END:VTIMEZONE
BEGIN:VEVENT
DTSTART;TZID=America/Sao_Paulo:20260114T070000
DTEND;TZID=America/Sao_Paulo:20260114T140000
DTSTAMP:20260424T021748
CREATED:20260114T185213Z
LAST-MODIFIED:20260114T190235Z
UID:47961-1768374000-1768399200@www.goiasfomento.com
SUMMARY:Vinícius Luz: Reuniões institucionais e visita  banco solidário na cidade de Goiás – Goiás.
DESCRIPTION:
URL:https://www.goiasfomento.com/agenda/vinicius-luz-reunioes-institucionais-e-visita-banco-solidario-na-cidade-de-goias-goias/
LOCATION:Cidade de Goiás
CATEGORIES:Diretoria de Operações
END:VEVENT
BEGIN:VEVENT
DTSTART;TZID=America/Sao_Paulo:20260114T150000
DTEND;TZID=America/Sao_Paulo:20260114T180000
DTSTAMP:20260424T021748
CREATED:20260114T190120Z
LAST-MODIFIED:20260114T190256Z
UID:47963-1768402800-1768413600@www.goiasfomento.com
SUMMARY:Vinícius Luz: Atendimentos e Despachos Internos.
DESCRIPTION:
URL:https://www.goiasfomento.com/agenda/vinicius-luz-atendimentos-e-despachos-internos-235/
CATEGORIES:Diretoria de Operações
END:VEVENT
END:VCALENDAR