BEGIN:VCALENDAR
VERSION:2.0
PRODID:-//GoiásFomento - Agência de Fomento - ECPv6.15.20//NONSGML v1.0//EN
CALSCALE:GREGORIAN
METHOD:PUBLISH
X-WR-CALNAME:GoiásFomento - Agência de Fomento
X-ORIGINAL-URL:https://www.goiasfomento.com
X-WR-CALDESC:Eventos para GoiásFomento - Agência de Fomento
REFRESH-INTERVAL;VALUE=DURATION:PT1H
X-Robots-Tag:noindex
X-PUBLISHED-TTL:PT1H
BEGIN:VTIMEZONE
TZID:America/Sao_Paulo
BEGIN:STANDARD
TZOFFSETFROM:-0300
TZOFFSETTO:-0300
TZNAME:-03
DTSTART:20250101T000000
END:STANDARD
END:VTIMEZONE
BEGIN:VEVENT
DTSTART;TZID=America/Sao_Paulo:20260112T080000
DTEND;TZID=America/Sao_Paulo:20260112T110000
DTSTAMP:20260424T022138
CREATED:20260112T143833Z
LAST-MODIFIED:20260113T192224Z
UID:47906-1768204800-1768215600@www.goiasfomento.com
SUMMARY:Vinícius Luz: Atendimentos e Despachos Internos.
DESCRIPTION:
URL:https://www.goiasfomento.com/agenda/vinicius-luz-atendimentos-e-despachos-internos-231/
LOCATION:Gabinete da Diretoria de Operações da GoiásFomento – Agência de Fomento de Goiás.
CATEGORIES:Diretoria de Operações
END:VEVENT
BEGIN:VEVENT
DTSTART;TZID=America/Sao_Paulo:20260112T110000
DTEND;TZID=America/Sao_Paulo:20260112T120000
DTSTAMP:20260424T022138
CREATED:20260113T191246Z
LAST-MODIFIED:20260113T191246Z
UID:47959-1768215600-1768219200@www.goiasfomento.com
SUMMARY:Vinícius Luz: Posse do Adonìdio Neto - Secretário Municipal de Desenvolvimento\, Indústria\, Comércio\, Agricultura e Serviços.
DESCRIPTION:
URL:https://www.goiasfomento.com/agenda/vinicius-luz-posse-do-adonidio-neto-secretario-municipal-de-desenvolvimento-industria-comercio-agricultura-e-servicos/
LOCATION:Auditório do Paço Municipal – Goiãnia-Goiás.
CATEGORIES:Diretoria de Operações
END:VEVENT
BEGIN:VEVENT
DTSTART;TZID=America/Sao_Paulo:20260112T140000
DTEND;TZID=America/Sao_Paulo:20260112T170000
DTSTAMP:20260424T022138
CREATED:20260112T143855Z
LAST-MODIFIED:20260112T194007Z
UID:47908-1768226400-1768237200@www.goiasfomento.com
SUMMARY:Vinícius Luz: Atendimentos e Despachos Internos.
DESCRIPTION:
URL:https://www.goiasfomento.com/agenda/vinicius-luz-atendimentos-e-despachos-internos-232/
LOCATION:Gabinete da Diretoria de Operações da GoiásFomento – Agência de Fomento de Goiás.
CATEGORIES:Diretoria de Operações
END:VEVENT
END:VCALENDAR