BEGIN:VCALENDAR
VERSION:2.0
PRODID:-//GoiásFomento - Agência de Fomento - ECPv6.15.20//NONSGML v1.0//EN
CALSCALE:GREGORIAN
METHOD:PUBLISH
X-ORIGINAL-URL:https://www.goiasfomento.com
X-WR-CALDESC:Eventos para GoiásFomento - Agência de Fomento
REFRESH-INTERVAL;VALUE=DURATION:PT1H
X-Robots-Tag:noindex
X-PUBLISHED-TTL:PT1H
BEGIN:VTIMEZONE
TZID:America/Sao_Paulo
BEGIN:STANDARD
TZOFFSETFROM:-0300
TZOFFSETTO:-0300
TZNAME:-03
DTSTART:20240101T000000
END:STANDARD
END:VTIMEZONE
BEGIN:VEVENT
DTSTART;TZID=America/Sao_Paulo:20251204T080000
DTEND;TZID=America/Sao_Paulo:20251204T083000
DTSTAMP:20260424T034252
CREATED:20251204T191549Z
LAST-MODIFIED:20251204T193757Z
UID:47420-1764835200-1764837000@www.goiasfomento.com
SUMMARY:Vinícius Luz: Encontro Anual de Gestores 2025.
DESCRIPTION:
URL:https://www.goiasfomento.com/agenda/vinicius-luz-atendimentos-e-despachos-internos-189/
LOCATION:Gabinete da Diretoria de Operações da GoiásFomento – Agência de Fomento de Goiás.
CATEGORIES:Diretoria de Operações
END:VEVENT
BEGIN:VEVENT
DTSTART;TZID=America/Sao_Paulo:20251204T083000
DTEND;TZID=America/Sao_Paulo:20251204T100000
DTSTAMP:20260424T034252
CREATED:20251204T191721Z
LAST-MODIFIED:20251204T193546Z
UID:47422-1764837000-1764842400@www.goiasfomento.com
SUMMARY:Vinícius Luz: Encontro Anual de Gestores 2025.
DESCRIPTION:Palestra da Diretoria da GoiásFomento. \nPauta: GoiásFomento: Parcerias e Soluções para o Desenvolvimento dos Municípios.
URL:https://www.goiasfomento.com/agenda/vinicius-luz-goiasfomento-parcerias-e-solucoes-para-o-desenvolvimento-dos-municipios/
LOCATION:Centro de Convenções de Goiânia.
CATEGORIES:Diretoria de Operações
END:VEVENT
BEGIN:VEVENT
DTSTART;TZID=America/Sao_Paulo:20251204T100000
DTEND;TZID=America/Sao_Paulo:20251204T120000
DTSTAMP:20260424T034252
CREATED:20251204T193856Z
LAST-MODIFIED:20251204T193856Z
UID:47444-1764842400-1764849600@www.goiasfomento.com
SUMMARY:Vinícius Luz: Encontro Anual de Gestores 2025.
DESCRIPTION:
URL:https://www.goiasfomento.com/agenda/vinicius-luz-encontro-anual-de-gestores-2025/
LOCATION:Centro de Convenções de Goiânia.
CATEGORIES:Diretoria de Operações
END:VEVENT
BEGIN:VEVENT
DTSTART;TZID=America/Sao_Paulo:20251204T140000
DTEND;TZID=America/Sao_Paulo:20251204T180000
DTSTAMP:20260424T034252
CREATED:20251204T193945Z
LAST-MODIFIED:20251204T193945Z
UID:47446-1764856800-1764871200@www.goiasfomento.com
SUMMARY:Vinícius Luz: Atendimentos e Despachos Internos.
DESCRIPTION:
URL:https://www.goiasfomento.com/agenda/vinicius-luz-atendimentos-e-despachos-internos-190/
LOCATION:Gabinete da Diretoria de Operações da GoiásFomento – Agência de Fomento de Goiás.
CATEGORIES:Diretoria de Operações
END:VEVENT
END:VCALENDAR