BEGIN:VCALENDAR
VERSION:2.0
PRODID:-//GoiásFomento - Agência de Fomento - ECPv6.15.20//NONSGML v1.0//EN
CALSCALE:GREGORIAN
METHOD:PUBLISH
X-ORIGINAL-URL:https://www.goiasfomento.com
X-WR-CALDESC:Eventos para GoiásFomento - Agência de Fomento
REFRESH-INTERVAL;VALUE=DURATION:PT1H
X-Robots-Tag:noindex
X-PUBLISHED-TTL:PT1H
BEGIN:VTIMEZONE
TZID:America/Sao_Paulo
BEGIN:STANDARD
TZOFFSETFROM:-0300
TZOFFSETTO:-0300
TZNAME:-03
DTSTART:20240101T000000
END:STANDARD
END:VTIMEZONE
BEGIN:VEVENT
DTSTART;TZID=America/Sao_Paulo:20251129T080000
DTEND;TZID=America/Sao_Paulo:20251129T120000
DTSTAMP:20260424T051549
CREATED:20251128T145248Z
LAST-MODIFIED:20251128T145248Z
UID:47268-1764403200-1764417600@www.goiasfomento.com
SUMMARY:Vinícius Luz:  Goiânia + Humana.
DESCRIPTION:
URL:https://www.goiasfomento.com/agenda/vinicius-luz-goiania-humana/
CATEGORIES:Diretoria de Operações
END:VEVENT
END:VCALENDAR