BEGIN:VCALENDAR
VERSION:2.0
PRODID:-//GoiásFomento - Agência de Fomento - ECPv6.15.20//NONSGML v1.0//EN
CALSCALE:GREGORIAN
METHOD:PUBLISH
X-WR-CALNAME:GoiásFomento - Agência de Fomento
X-ORIGINAL-URL:https://www.goiasfomento.com
X-WR-CALDESC:Eventos para GoiásFomento - Agência de Fomento
REFRESH-INTERVAL;VALUE=DURATION:PT1H
X-Robots-Tag:noindex
X-PUBLISHED-TTL:PT1H
BEGIN:VTIMEZONE
TZID:America/Sao_Paulo
BEGIN:STANDARD
TZOFFSETFROM:-0300
TZOFFSETTO:-0300
TZNAME:-03
DTSTART:20240101T000000
END:STANDARD
END:VTIMEZONE
BEGIN:VEVENT
DTSTART;TZID=America/Sao_Paulo:20251018T080000
DTEND;TZID=America/Sao_Paulo:20251018T140000
DTSTAMP:20260424T094320
CREATED:20251017T185704Z
LAST-MODIFIED:20251017T185704Z
UID:46670-1760774400-1760796000@www.goiasfomento.com
SUMMARY:Vinícius Luz:  Abertura Oficial  Goiânia + Humana.
DESCRIPTION:
URL:https://www.goiasfomento.com/agenda/vinicius-luz-abertura-oficial-goiania-humana/
LOCATION:Praça Da Feira Nelson Mandela condomínio 09\, Av. Gercina Borges Teixeira\, 2521-2651 – Conj. Vera Cruz\, Goiânia – GO\, 74495\, Brasil
CATEGORIES:Diretoria de Operações
END:VEVENT
END:VCALENDAR