BEGIN:VCALENDAR
VERSION:2.0
PRODID:-//GoiásFomento - Agência de Fomento - ECPv6.15.20//NONSGML v1.0//EN
CALSCALE:GREGORIAN
METHOD:PUBLISH
X-WR-CALNAME:GoiásFomento - Agência de Fomento
X-ORIGINAL-URL:https://www.goiasfomento.com
X-WR-CALDESC:Eventos para GoiásFomento - Agência de Fomento
REFRESH-INTERVAL;VALUE=DURATION:PT1H
X-Robots-Tag:noindex
X-PUBLISHED-TTL:PT1H
BEGIN:VTIMEZONE
TZID:America/Sao_Paulo
BEGIN:STANDARD
TZOFFSETFROM:-0300
TZOFFSETTO:-0300
TZNAME:-03
DTSTART:20240101T000000
END:STANDARD
END:VTIMEZONE
BEGIN:VEVENT
DTSTART;TZID=America/Sao_Paulo:20251017T080000
DTEND;TZID=America/Sao_Paulo:20251017T083000
DTSTAMP:20260424T094136
CREATED:20251017T180455Z
LAST-MODIFIED:20251017T180455Z
UID:46654-1760688000-1760689800@www.goiasfomento.com
SUMMARY:Vinícius Luz: Atendimentos e Despachos Internos.
DESCRIPTION:
URL:https://www.goiasfomento.com/agenda/vinicius-luz-atendimentos-e-despachos-internos-135/
LOCATION:Gabinete da Diretoria de Operações da GoiásFomento – Agência de Fomento de Goiás.
CATEGORIES:Diretoria de Operações
END:VEVENT
BEGIN:VEVENT
DTSTART;TZID=America/Sao_Paulo:20251017T083000
DTEND;TZID=America/Sao_Paulo:20251017T110000
DTSTAMP:20260424T094136
CREATED:20251017T180014Z
LAST-MODIFIED:20251017T181552Z
UID:46652-1760689800-1760698800@www.goiasfomento.com
SUMMARY:Vinícius Luz: Goiás Social em Senador Canedo - Goiás.
DESCRIPTION:
URL:https://www.goiasfomento.com/agenda/vinicius-luz-goias-social-2/
LOCATION:Auditório do CEPMG Pedro Xavier Teixeira (PXT) – Rua Pedro Ludovico\, Qd. 08-A\, s/n\, Jardim Todos os Santos\, SENADOR CANEDO/GO
CATEGORIES:Diretoria de Operações
END:VEVENT
BEGIN:VEVENT
DTSTART;TZID=America/Sao_Paulo:20251017T110000
DTEND;TZID=America/Sao_Paulo:20251017T120000
DTSTAMP:20260424T094136
CREATED:20251017T182406Z
LAST-MODIFIED:20251017T182406Z
UID:46659-1760698800-1760702400@www.goiasfomento.com
SUMMARY:Vinícius Luz: Atendimentos e Despachos Internos.
DESCRIPTION:
URL:https://www.goiasfomento.com/agenda/vinicius-luz-atendimentos-e-despachos-internos-136/
LOCATION:Gabinete da Diretoria de Operações da GoiásFomento – Agência de Fomento de Goiás.
CATEGORIES:Diretoria de Operações
END:VEVENT
BEGIN:VEVENT
DTSTART;TZID=America/Sao_Paulo:20251017T140000
DTEND;TZID=America/Sao_Paulo:20251017T180000
DTSTAMP:20260424T094136
CREATED:20251017T182441Z
LAST-MODIFIED:20251017T182441Z
UID:46661-1760709600-1760724000@www.goiasfomento.com
SUMMARY:Vinícius Luz: Atendimentos e Despachos Internos.
DESCRIPTION:
URL:https://www.goiasfomento.com/agenda/vinicius-luz-atendimentos-e-despachos-internos-137/
LOCATION:Gabinete da Diretoria de Operações da GoiásFomento – Agência de Fomento de Goiás.
CATEGORIES:Diretoria de Operações
END:VEVENT
END:VCALENDAR