BEGIN:VCALENDAR
VERSION:2.0
PRODID:-//GoiásFomento - Agência de Fomento - ECPv6.15.20//NONSGML v1.0//EN
CALSCALE:GREGORIAN
METHOD:PUBLISH
X-WR-CALNAME:GoiásFomento - Agência de Fomento
X-ORIGINAL-URL:https://www.goiasfomento.com
X-WR-CALDESC:Eventos para GoiásFomento - Agência de Fomento
REFRESH-INTERVAL;VALUE=DURATION:PT1H
X-Robots-Tag:noindex
X-PUBLISHED-TTL:PT1H
BEGIN:VTIMEZONE
TZID:America/Sao_Paulo
BEGIN:STANDARD
TZOFFSETFROM:-0300
TZOFFSETTO:-0300
TZNAME:-03
DTSTART:20240101T000000
END:STANDARD
END:VTIMEZONE
BEGIN:VEVENT
DTSTART;TZID=America/Sao_Paulo:20251010T080000
DTEND;TZID=America/Sao_Paulo:20251010T120000
DTSTAMP:20260424T094141
CREATED:20251010T140825Z
LAST-MODIFIED:20251010T140825Z
UID:46432-1760083200-1760097600@www.goiasfomento.com
SUMMARY:Vinícius Luz: GOIÁS SOCIAL.
DESCRIPTION:
URL:https://www.goiasfomento.com/agenda/vinicius-luz-goias-social/
LOCATION:Guapó-GO.
CATEGORIES:Diretoria de Operações
END:VEVENT
BEGIN:VEVENT
DTSTART;TZID=America/Sao_Paulo:20251010T140000
DTEND;TZID=America/Sao_Paulo:20251010T180000
DTSTAMP:20260424T094141
CREATED:20251010T143711Z
LAST-MODIFIED:20251010T192555Z
UID:46447-1760104800-1760119200@www.goiasfomento.com
SUMMARY:Vinícius Luz: Atendimentos e Despachos Internos.
DESCRIPTION:
URL:https://www.goiasfomento.com/agenda/vinicius-luz-atendimentos-e-despachos-internos-124/
LOCATION:Gabinete da Diretoria de Operações da GoiásFomento – Agência de Fomento de Goiás.
CATEGORIES:Diretoria de Operações
END:VEVENT
END:VCALENDAR