BEGIN:VCALENDAR
VERSION:2.0
PRODID:-//GoiásFomento - Agência de Fomento - ECPv6.15.20//NONSGML v1.0//EN
CALSCALE:GREGORIAN
METHOD:PUBLISH
X-WR-CALNAME:GoiásFomento - Agência de Fomento
X-ORIGINAL-URL:https://www.goiasfomento.com
X-WR-CALDESC:Eventos para GoiásFomento - Agência de Fomento
REFRESH-INTERVAL;VALUE=DURATION:PT1H
X-Robots-Tag:noindex
X-PUBLISHED-TTL:PT1H
BEGIN:VTIMEZONE
TZID:America/Sao_Paulo
BEGIN:STANDARD
TZOFFSETFROM:-0300
TZOFFSETTO:-0300
TZNAME:-03
DTSTART:20240101T000000
END:STANDARD
END:VTIMEZONE
BEGIN:VEVENT
DTSTART;TZID=America/Sao_Paulo:20251009T080000
DTEND;TZID=America/Sao_Paulo:20251009T120000
DTSTAMP:20260424T094209
CREATED:20251009T203406Z
LAST-MODIFIED:20251009T203406Z
UID:46381-1759996800-1760011200@www.goiasfomento.com
SUMMARY:Vinícius Luz: Atendimentos e Despachos Internos.
DESCRIPTION:
URL:https://www.goiasfomento.com/agenda/vinicius-luz-atendimentos-e-despachos-internos-121/
LOCATION:Gabinete da Diretoria de Operações da GoiásFomento – Agência de Fomento de Goiás.
CATEGORIES:Diretoria de Operações
END:VEVENT
BEGIN:VEVENT
DTSTART;TZID=America/Sao_Paulo:20251009T140000
DTEND;TZID=America/Sao_Paulo:20251009T153000
DTSTAMP:20260424T094209
CREATED:20251010T142116Z
LAST-MODIFIED:20251010T142116Z
UID:46437-1760018400-1760023800@www.goiasfomento.com
SUMMARY:Vinícius Luz: Atendimentos e Despachos Internos.
DESCRIPTION:
URL:https://www.goiasfomento.com/agenda/vinicius-luz-atendimentos-e-despachos-internos-122/
LOCATION:Gabinete da Diretoria de Operações da GoiásFomento – Agência de Fomento de Goiás.
CATEGORIES:Diretoria de Operações
END:VEVENT
BEGIN:VEVENT
DTSTART;TZID=America/Sao_Paulo:20251009T153000
DTEND;TZID=America/Sao_Paulo:20251009T163000
DTSTAMP:20260424T094209
CREATED:20251010T142043Z
LAST-MODIFIED:20251010T142043Z
UID:46435-1760023800-1760027400@www.goiasfomento.com
SUMMARY:Vinícius Luz: Reunião da GoiásFomento com a Secretária da SEDICAS\, Bárbara  Sousa e o Diretor Francis Albuquerque.
DESCRIPTION:
URL:https://www.goiasfomento.com/agenda/vinicius-luz-reuniao-da-goiasfomento-com-a-secretaria-da-sedicas-barbara-sousa-e-o-diretor-francis-albuquerque/
LOCATION:Gabinete da Diretoria de Operações da GoiásFomento – Agência de Fomento de Goiás.
CATEGORIES:Diretoria de Operações
END:VEVENT
BEGIN:VEVENT
DTSTART;TZID=America/Sao_Paulo:20251009T163000
DTEND;TZID=America/Sao_Paulo:20251009T183000
DTSTAMP:20260424T094209
CREATED:20251010T142144Z
LAST-MODIFIED:20251010T142144Z
UID:46439-1760027400-1760034600@www.goiasfomento.com
SUMMARY:Vinícius Luz: Atendimentos e Despachos Internos.
DESCRIPTION:
URL:https://www.goiasfomento.com/agenda/vinicius-luz-atendimentos-e-despachos-internos-123/
LOCATION:Gabinete da Diretoria de Operações da GoiásFomento – Agência de Fomento de Goiás.
CATEGORIES:Diretoria de Operações
END:VEVENT
END:VCALENDAR