BEGIN:VCALENDAR
VERSION:2.0
PRODID:-//GoiásFomento - Agência de Fomento - ECPv6.15.20//NONSGML v1.0//EN
CALSCALE:GREGORIAN
METHOD:PUBLISH
X-WR-CALNAME:GoiásFomento - Agência de Fomento
X-ORIGINAL-URL:https://www.goiasfomento.com
X-WR-CALDESC:Eventos para GoiásFomento - Agência de Fomento
REFRESH-INTERVAL;VALUE=DURATION:PT1H
X-Robots-Tag:noindex
X-PUBLISHED-TTL:PT1H
BEGIN:VTIMEZONE
TZID:America/Sao_Paulo
BEGIN:STANDARD
TZOFFSETFROM:-0300
TZOFFSETTO:-0300
TZNAME:-03
DTSTART:20240101T000000
END:STANDARD
END:VTIMEZONE
BEGIN:VEVENT
DTSTART;TZID=America/Sao_Paulo:20251001T080000
DTEND;TZID=America/Sao_Paulo:20251001T120000
DTSTAMP:20260424T094142
CREATED:20250929T113520Z
LAST-MODIFIED:20250929T113520Z
UID:46221-1759305600-1759320000@www.goiasfomento.com
SUMMARY:Vinícius Luz: Atendimentos e Despachos Internos.
DESCRIPTION:
URL:https://www.goiasfomento.com/agenda/vinicius-luz-atendimentos-e-despachos-internos-111/
LOCATION:Gabinete da Diretoria de Operações da GoiásFomento – Agência de Fomento de Goiás.
CATEGORIES:Diretoria de Operações
END:VEVENT
BEGIN:VEVENT
DTSTART;TZID=America/Sao_Paulo:20251001T140000
DTEND;TZID=America/Sao_Paulo:20251001T180000
DTSTAMP:20260424T094142
CREATED:20250929T113543Z
LAST-MODIFIED:20250929T113543Z
UID:46223-1759327200-1759341600@www.goiasfomento.com
SUMMARY:Vinícius Luz: Atendimentos e Despachos Internos.
DESCRIPTION:
URL:https://www.goiasfomento.com/agenda/vinicius-luz-atendimentos-e-despachos-internos-112/
LOCATION:Gabinete da Diretoria de Operações da GoiásFomento – Agência de Fomento de Goiás.
CATEGORIES:Diretoria de Operações
END:VEVENT
END:VCALENDAR