BEGIN:VCALENDAR
VERSION:2.0
PRODID:-//GoiásFomento - Agência de Fomento - ECPv6.15.20//NONSGML v1.0//EN
CALSCALE:GREGORIAN
METHOD:PUBLISH
X-ORIGINAL-URL:https://www.goiasfomento.com
X-WR-CALDESC:Eventos para GoiásFomento - Agência de Fomento
REFRESH-INTERVAL;VALUE=DURATION:PT1H
X-Robots-Tag:noindex
X-PUBLISHED-TTL:PT1H
BEGIN:VTIMEZONE
TZID:America/Sao_Paulo
BEGIN:STANDARD
TZOFFSETFROM:-0300
TZOFFSETTO:-0300
TZNAME:-03
DTSTART:20240101T000000
END:STANDARD
END:VTIMEZONE
BEGIN:VEVENT
DTSTART;TZID=America/Sao_Paulo:20250828T080000
DTEND;TZID=America/Sao_Paulo:20250828T120000
DTSTAMP:20260424T124143
CREATED:20250828T181453Z
LAST-MODIFIED:20250828T181453Z
UID:45740-1756368000-1756382400@www.goiasfomento.com
SUMMARY:Vinícius Luz: Atendimentos e Despachos Internos.
DESCRIPTION:
URL:https://www.goiasfomento.com/agenda/vinicius-luz-atendimentos-e-despachos-internos-64/
LOCATION:Gabinete da Diretoria de Operações da GoiásFomento – Agência de Fomento de Goiás.
CATEGORIES:Diretoria de Operações
END:VEVENT
BEGIN:VEVENT
DTSTART;TZID=America/Sao_Paulo:20250828T130000
DTEND;TZID=America/Sao_Paulo:20250828T150000
DTSTAMP:20260424T124143
CREATED:20250828T183334Z
LAST-MODIFIED:20250828T183334Z
UID:45742-1756386000-1756393200@www.goiasfomento.com
SUMMARY:Vinícius Luz:  Reunião com Presidente AGM  - Prefeito José Delio Jr.
DESCRIPTION:
URL:https://www.goiasfomento.com/agenda/vinicius-luz-reuniao-com-presidente-agm-prefeito-jose-delio-jr/
LOCATION:AGM – Associação Goiana de Municípios
CATEGORIES:Diretoria de Operações
END:VEVENT
BEGIN:VEVENT
DTSTART;TZID=America/Sao_Paulo:20250828T150000
DTEND;TZID=America/Sao_Paulo:20250828T180000
DTSTAMP:20260424T124143
CREATED:20250828T183408Z
LAST-MODIFIED:20250828T183408Z
UID:45744-1756393200-1756404000@www.goiasfomento.com
SUMMARY:Vinícius Luz: Atendimentos e Despachos Internos.
DESCRIPTION:
URL:https://www.goiasfomento.com/agenda/vinicius-luz-atendimentos-e-despachos-internos-65/
LOCATION:Gabinete da Diretoria de Operações da GoiásFomento – Agência de Fomento de Goiás.
CATEGORIES:Diretoria de Operações
END:VEVENT
END:VCALENDAR