BEGIN:VCALENDAR
VERSION:2.0
PRODID:-//GoiásFomento - Agência de Fomento - ECPv6.15.20//NONSGML v1.0//EN
CALSCALE:GREGORIAN
METHOD:PUBLISH
X-WR-CALNAME:GoiásFomento - Agência de Fomento
X-ORIGINAL-URL:https://www.goiasfomento.com
X-WR-CALDESC:Eventos para GoiásFomento - Agência de Fomento
REFRESH-INTERVAL;VALUE=DURATION:PT1H
X-Robots-Tag:noindex
X-PUBLISHED-TTL:PT1H
BEGIN:VTIMEZONE
TZID:America/Sao_Paulo
BEGIN:STANDARD
TZOFFSETFROM:-0300
TZOFFSETTO:-0300
TZNAME:-03
DTSTART:20240101T000000
END:STANDARD
END:VTIMEZONE
BEGIN:VEVENT
DTSTART;TZID=America/Sao_Paulo:20250804T080000
DTEND;TZID=America/Sao_Paulo:20250804T120000
DTSTAMP:20260424T125251
CREATED:20250804T170918Z
LAST-MODIFIED:20250804T170918Z
UID:45254-1754294400-1754308800@www.goiasfomento.com
SUMMARY:Vinícius Luz: Atendimentos e Despachos Internos.
DESCRIPTION:
URL:https://www.goiasfomento.com/agenda/vinicius-luz-atendimentos-e-despachos-internos-29/
CATEGORIES:Diretoria de Operações
END:VEVENT
BEGIN:VEVENT
DTSTART;TZID=America/Sao_Paulo:20250804T140000
DTEND;TZID=America/Sao_Paulo:20250804T180000
DTSTAMP:20260424T125251
CREATED:20250804T191659Z
LAST-MODIFIED:20250804T191659Z
UID:45263-1754316000-1754330400@www.goiasfomento.com
SUMMARY:Vinícius Luz: Atendimentos e Despachos Internos.
DESCRIPTION:
URL:https://www.goiasfomento.com/agenda/vinicius-luz-atendimentos-e-despachos-internos-30/
LOCATION:Gabinete da Diretoria de Operações da GoiásFomento – Agência de Fomento de Goiás.
CATEGORIES:Diretoria de Operações
END:VEVENT
BEGIN:VEVENT
DTSTART;TZID=America/Sao_Paulo:20250804T190000
DTEND;TZID=America/Sao_Paulo:20250804T220000
DTSTAMP:20260424T125251
CREATED:20250804T171620Z
LAST-MODIFIED:20250804T171620Z
UID:45261-1754334000-1754344800@www.goiasfomento.com
SUMMARY:Vinícius Luz: SESSÃO ESPECIAL – 25 ANOS DA GOIÁSFOMENTO.
DESCRIPTION:
URL:https://www.goiasfomento.com/agenda/vinicius-luz-sessao-especial-25-anos-da-goiasfomento/
LOCATION:📍 Local: Assembleia Legislativa do Estado de Goiás – Palácio Maguito Vilela – Plenário Íris Rezende Machado.
CATEGORIES:Diretoria de Operações
END:VEVENT
END:VCALENDAR