BEGIN:VCALENDAR
VERSION:2.0
PRODID:-//GoiásFomento - Agência de Fomento - ECPv6.15.20//NONSGML v1.0//EN
CALSCALE:GREGORIAN
METHOD:PUBLISH
X-WR-CALNAME:GoiásFomento - Agência de Fomento
X-ORIGINAL-URL:https://www.goiasfomento.com
X-WR-CALDESC:Eventos para GoiásFomento - Agência de Fomento
REFRESH-INTERVAL;VALUE=DURATION:PT1H
X-Robots-Tag:noindex
X-PUBLISHED-TTL:PT1H
BEGIN:VTIMEZONE
TZID:America/Sao_Paulo
BEGIN:STANDARD
TZOFFSETFROM:-0300
TZOFFSETTO:-0300
TZNAME:-03
DTSTART:20240101T000000
END:STANDARD
END:VTIMEZONE
BEGIN:VEVENT
DTSTART;TZID=America/Sao_Paulo:20250731T080000
DTEND;TZID=America/Sao_Paulo:20250731T090000
DTSTAMP:20260424T153339
CREATED:20250730T175900Z
LAST-MODIFIED:20250730T180603Z
UID:45233-1753948800-1753952400@www.goiasfomento.com
SUMMARY:Vinícius Luz: Atendimentos e Despachos Internos.
DESCRIPTION:
URL:https://www.goiasfomento.com/agenda/vinicius-luz-atendimentos-e-despachos-internos-25/
LOCATION:Gabinete da Diretoria de Operações da GoiásFomento – Agência de Fomento de Goiás.
CATEGORIES:Diretoria de Operações
END:VEVENT
BEGIN:VEVENT
DTSTART;TZID=America/Sao_Paulo:20250731T090000
DTEND;TZID=America/Sao_Paulo:20250731T100000
DTSTAMP:20260424T153339
CREATED:20250730T175826Z
LAST-MODIFIED:20250730T175826Z
UID:45231-1753952400-1753956000@www.goiasfomento.com
SUMMARY:Vinícius Luz: Reunião Ordinária do Conselho de Desenvolvimento do Estado de Goiás\, Câmara Deliberativa do FCO - online.
DESCRIPTION:
URL:https://www.goiasfomento.com/agenda/vinicius-luz-reuniao-ordinaria-do-conselho-de-desenvolvimento-do-estado-de-goias-camara-deliberativa-do-fco-online/
LOCATION:Gabinete da Diretoria de Operações da GoiásFomento – Agência de Fomento de Goiás.
CATEGORIES:Diretoria de Operações
END:VEVENT
BEGIN:VEVENT
DTSTART;TZID=America/Sao_Paulo:20250731T100000
DTEND;TZID=America/Sao_Paulo:20250731T120000
DTSTAMP:20260424T153339
CREATED:20250730T181005Z
LAST-MODIFIED:20250730T181136Z
UID:45238-1753956000-1753963200@www.goiasfomento.com
SUMMARY:Vinícius Luz: Atendimentos e Despachos Internos.
DESCRIPTION:
URL:https://www.goiasfomento.com/agenda/vinicius-luz-atendimentos-e-despachos-internos-27/
LOCATION:Gabinete da Diretoria de Operações da GoiásFomento – Agência de Fomento de Goiás.
CATEGORIES:Diretoria de Operações
END:VEVENT
BEGIN:VEVENT
DTSTART;TZID=America/Sao_Paulo:20250731T140000
DTEND;TZID=America/Sao_Paulo:20250731T180000
DTSTAMP:20260424T153339
CREATED:20250730T181157Z
LAST-MODIFIED:20250730T181222Z
UID:45240-1753970400-1753984800@www.goiasfomento.com
SUMMARY:Vinícius Luz: Atendimentos e Despachos Internos.
DESCRIPTION:
URL:https://www.goiasfomento.com/agenda/vinicius-luz-atendimentos-e-despachos-internos-28/
LOCATION:Gabinete da Diretoria de Operações da GoiásFomento – Agência de Fomento de Goiás.
CATEGORIES:Diretoria de Operações
END:VEVENT
END:VCALENDAR