BEGIN:VCALENDAR
VERSION:2.0
PRODID:-//GoiásFomento - Agência de Fomento - ECPv6.15.20//NONSGML v1.0//EN
CALSCALE:GREGORIAN
METHOD:PUBLISH
X-ORIGINAL-URL:https://www.goiasfomento.com
X-WR-CALDESC:Eventos para GoiásFomento - Agência de Fomento
REFRESH-INTERVAL;VALUE=DURATION:PT1H
X-Robots-Tag:noindex
X-PUBLISHED-TTL:PT1H
BEGIN:VTIMEZONE
TZID:America/Sao_Paulo
BEGIN:STANDARD
TZOFFSETFROM:-0300
TZOFFSETTO:-0300
TZNAME:-03
DTSTART:20240101T000000
END:STANDARD
END:VTIMEZONE
BEGIN:VEVENT
DTSTART;TZID=America/Sao_Paulo:20250724T080000
DTEND;TZID=America/Sao_Paulo:20250724T093000
DTSTAMP:20260424T140920
CREATED:20250724T152953Z
LAST-MODIFIED:20250724T194801Z
UID:45163-1753344000-1753349400@www.goiasfomento.com
SUMMARY:Vinícius Luz: Reunião com o Governador e Grupo de Trabalho do Setor Sucroenergético para tratar dos impactos das tarifas de 2025 impostas pelos EUA ao mercado internacional.
DESCRIPTION:
URL:https://www.goiasfomento.com/agenda/vinicius-luz-reuniao-com-o-governador-e-grupo-de-trabalho-do-setor-sucroenergetico-para-tratar-dos-impactos-das-tarifas-de-2025-impostas-pelos-eua-ao-mercado-internacional-3/
LOCATION:Palácio Pedro Ludovico Teixeira
CATEGORIES:Diretoria de Operações
END:VEVENT
BEGIN:VEVENT
DTSTART;TZID=America/Sao_Paulo:20250724T093000
DTEND;TZID=America/Sao_Paulo:20250724T100000
DTSTAMP:20260424T140920
CREATED:20250724T194742Z
LAST-MODIFIED:20250724T194854Z
UID:45169-1753349400-1753351200@www.goiasfomento.com
SUMMARY:Vinícius Luz: Reunião da Diretoria da Agência de Fomento de Goiás com a Presidente do CRC GO – Sucena Hummel.
DESCRIPTION:
URL:https://www.goiasfomento.com/agenda/vinicius-luz-reuniao-da-diretoria-da-agencia-de-fomento-de-goias-com-a-presidente-do-crc-go-sucena-hummel/
LOCATION:Sala de Reuniões da Diretoria – Agência de Fomento de Goiás.
CATEGORIES:Diretoria de Operações
END:VEVENT
BEGIN:VEVENT
DTSTART;TZID=America/Sao_Paulo:20250724T100000
DTEND;TZID=America/Sao_Paulo:20250724T120000
DTSTAMP:20260424T140920
CREATED:20250724T194921Z
LAST-MODIFIED:20250724T194921Z
UID:45171-1753351200-1753358400@www.goiasfomento.com
SUMMARY:Vinícius Luz: Atendimentos e Despachos Internos.
DESCRIPTION:
URL:https://www.goiasfomento.com/agenda/vinicius-luz-atendimentos-e-despachos-internos-15/
LOCATION:Gabinete da Diretoria de Operações da GoiásFomento – Agência de Fomento de Goiás.
CATEGORIES:Diretoria de Operações
END:VEVENT
BEGIN:VEVENT
DTSTART;TZID=America/Sao_Paulo:20250724T120000
DTEND;TZID=America/Sao_Paulo:20250724T130000
DTSTAMP:20260424T140920
CREATED:20250724T194500Z
LAST-MODIFIED:20250724T194500Z
UID:45167-1753358400-1753362000@www.goiasfomento.com
SUMMARY:Vinícius Luz: Reunião da Direx / Gerentes.
DESCRIPTION:Pauta:  FUNDEQ
URL:https://www.goiasfomento.com/agenda/vinicius-luz-reuniao-da-direx-gerentes/
LOCATION:Sala de Reuniões da Diretoria – Agência de Fomento de Goiás.
CATEGORIES:Diretoria de Operações
END:VEVENT
BEGIN:VEVENT
DTSTART;TZID=America/Sao_Paulo:20250724T140000
DTEND;TZID=America/Sao_Paulo:20250724T150000
DTSTAMP:20260424T140920
CREATED:20250724T195011Z
LAST-MODIFIED:20250724T195011Z
UID:45173-1753365600-1753369200@www.goiasfomento.com
SUMMARY:Vinícius Luz: Atendimentos e Despachos Internos.
DESCRIPTION:
URL:https://www.goiasfomento.com/agenda/vinicius-luz-atendimentos-e-despachos-internos-16/
LOCATION:Gabinete da Diretoria de Operações da GoiásFomento – Agência de Fomento de Goiás.
CATEGORIES:Diretoria de Operações
END:VEVENT
BEGIN:VEVENT
DTSTART;TZID=America/Sao_Paulo:20250724T150000
DTEND;TZID=America/Sao_Paulo:20250724T160000
DTSTAMP:20260424T140920
CREATED:20250724T195313Z
LAST-MODIFIED:20250724T195313Z
UID:45177-1753369200-1753372800@www.goiasfomento.com
SUMMARY:Vinícius Luz: Reunião com Representante do Comércio de Palmeiras-GO.
DESCRIPTION:
URL:https://www.goiasfomento.com/agenda/vinicius-luz-reuniao-com-representante-do-comercio-de-palmeiras-go/
LOCATION:Sala de Reuniões da Diretoria – Agência de Fomento de Goiás.
CATEGORIES:Diretoria de Operações
END:VEVENT
BEGIN:VEVENT
DTSTART;TZID=America/Sao_Paulo:20250724T160000
DTEND;TZID=America/Sao_Paulo:20250724T180000
DTSTAMP:20260424T140920
CREATED:20250724T195029Z
LAST-MODIFIED:20250724T195029Z
UID:45175-1753372800-1753380000@www.goiasfomento.com
SUMMARY:Vinícius Luz: Atendimentos e Despachos Internos.
DESCRIPTION:
URL:https://www.goiasfomento.com/agenda/vinicius-luz-atendimentos-e-despachos-internos-17/
LOCATION:Gabinete da Diretoria de Operações da GoiásFomento – Agência de Fomento de Goiás.
CATEGORIES:Diretoria de Operações
END:VEVENT
END:VCALENDAR