BEGIN:VCALENDAR
VERSION:2.0
PRODID:-//GoiásFomento - Agência de Fomento - ECPv6.15.20//NONSGML v1.0//EN
CALSCALE:GREGORIAN
METHOD:PUBLISH
X-WR-CALNAME:GoiásFomento - Agência de Fomento
X-ORIGINAL-URL:https://www.goiasfomento.com
X-WR-CALDESC:Eventos para GoiásFomento - Agência de Fomento
REFRESH-INTERVAL;VALUE=DURATION:PT1H
X-Robots-Tag:noindex
X-PUBLISHED-TTL:PT1H
BEGIN:VTIMEZONE
TZID:America/Sao_Paulo
BEGIN:STANDARD
TZOFFSETFROM:-0300
TZOFFSETTO:-0300
TZNAME:-03
DTSTART:20240101T000000
END:STANDARD
END:VTIMEZONE
BEGIN:VEVENT
DTSTART;TZID=America/Sao_Paulo:20250723T080000
DTEND;TZID=America/Sao_Paulo:20250723T120000
DTSTAMP:20260424T140818
CREATED:20250724T143705Z
LAST-MODIFIED:20250724T152330Z
UID:45140-1753257600-1753272000@www.goiasfomento.com
SUMMARY:Vinícius Luz: Reunião com o Governador e Grupo de Trabalho do Setor Sucroenergético para tratar dos impactos das tarifas de 2025 impostas pelos EUA ao mercado internacional.
DESCRIPTION:
URL:https://www.goiasfomento.com/agenda/vinicius-luz-reuniao-com-o-governador-e-grupo-de-trabalho-do-setor-sucroenergetico-para-tratar-dos-impactos-das-tarifas-de-2025-impostas-pelos-eua-ao-mercado-internacional/
LOCATION:Palácio Pedro Ludovico Teixeira
CATEGORIES:Diretoria de Operações
END:VEVENT
BEGIN:VEVENT
DTSTART;TZID=America/Sao_Paulo:20250723T140000
DTEND;TZID=America/Sao_Paulo:20250723T180000
DTSTAMP:20260424T140818
CREATED:20250724T143745Z
LAST-MODIFIED:20250724T152258Z
UID:45142-1753279200-1753293600@www.goiasfomento.com
SUMMARY:Vinícius Luz: Reunião com o Governador e Grupo de Trabalho do Setor Sucroenergético para tratar dos impactos das tarifas de 2025 impostas pelos EUA ao mercado internacional.
DESCRIPTION:
URL:https://www.goiasfomento.com/agenda/vinicius-luz-reuniao-com-o-governador-e-grupo-de-trabalho-do-setor-sucroenergetico-para-tratar-dos-impactos-das-tarifas-de-2025-impostas-pelos-eua-ao-mercado-internacional-2/
CATEGORIES:Diretoria de Operações
END:VEVENT
END:VCALENDAR