BEGIN:VCALENDAR
VERSION:2.0
PRODID:-//GoiásFomento - Agência de Fomento - ECPv6.15.20//NONSGML v1.0//EN
CALSCALE:GREGORIAN
METHOD:PUBLISH
X-ORIGINAL-URL:https://www.goiasfomento.com
X-WR-CALDESC:Eventos para GoiásFomento - Agência de Fomento
REFRESH-INTERVAL;VALUE=DURATION:PT1H
X-Robots-Tag:noindex
X-PUBLISHED-TTL:PT1H
BEGIN:VTIMEZONE
TZID:America/Sao_Paulo
BEGIN:STANDARD
TZOFFSETFROM:-0300
TZOFFSETTO:-0300
TZNAME:-03
DTSTART:20240101T000000
END:STANDARD
END:VTIMEZONE
BEGIN:VEVENT
DTSTART;TZID=America/Sao_Paulo:20250721T080000
DTEND;TZID=America/Sao_Paulo:20250721T090000
DTSTAMP:20260424T140921
CREATED:20250721T141550Z
LAST-MODIFIED:20250721T141550Z
UID:45029-1753084800-1753088400@www.goiasfomento.com
SUMMARY:Vinícius Luz: Atendimentos e Despachos Internos.
DESCRIPTION:
URL:https://www.goiasfomento.com/agenda/vinicius-luz-atendimentos-e-despachos-internos-11/
LOCATION:Gabinete da Diretoria de Operações da GoiásFomento – Agência de Fomento de Goiás.
CATEGORIES:Diretoria de Operações
END:VEVENT
BEGIN:VEVENT
DTSTART;TZID=America/Sao_Paulo:20250721T090000
DTEND;TZID=America/Sao_Paulo:20250721T100000
DTSTAMP:20260424T140921
CREATED:20250721T141719Z
LAST-MODIFIED:20250721T141719Z
UID:45031-1753088400-1753092000@www.goiasfomento.com
SUMMARY:Vinícius Luz: Reunião da Diretoria da Agência de Fomento de Goiás.
DESCRIPTION:
URL:https://www.goiasfomento.com/agenda/vinicius-luz-reuniao-da-diretoria-da-agencia-de-fomento-de-goias/
LOCATION:Sala de Reuniões da Diretoria – Agência de Fomento de Goiás.
CATEGORIES:Diretoria de Operações
END:VEVENT
BEGIN:VEVENT
DTSTART;TZID=America/Sao_Paulo:20250721T100000
DTEND;TZID=America/Sao_Paulo:20250721T120000
DTSTAMP:20260424T140921
CREATED:20250721T142207Z
LAST-MODIFIED:20250721T142207Z
UID:45037-1753092000-1753099200@www.goiasfomento.com
SUMMARY:Vinícius Luz: Reunião da Diretoria da  GF e Empresa Inttegra.
DESCRIPTION:
URL:https://www.goiasfomento.com/agenda/vinicius-luz-reuniao-da-diretoria-da-gf-e-empresa-inttegra/
LOCATION:Sala de Reuniões da Diretoria – Agência de Fomento de Goiás.
CATEGORIES:Diretoria de Operações
END:VEVENT
BEGIN:VEVENT
DTSTART;TZID=America/Sao_Paulo:20250721T140000
DTEND;TZID=America/Sao_Paulo:20250721T180000
DTSTAMP:20260424T140921
CREATED:20250721T174512Z
LAST-MODIFIED:20250721T174512Z
UID:45072-1753106400-1753120800@www.goiasfomento.com
SUMMARY:Vinícius Luz: Atendimentos e Despachos Internos.
DESCRIPTION:
URL:https://www.goiasfomento.com/agenda/vinicius-luz-atendimentos-e-despachos-internos-12/
LOCATION:Gabinete da Diretoria de Operações da GoiásFomento – Agência de Fomento de Goiás.
CATEGORIES:Diretoria de Operações
END:VEVENT
END:VCALENDAR