BEGIN:VCALENDAR
VERSION:2.0
PRODID:-//GoiásFomento - Agência de Fomento - ECPv6.15.20//NONSGML v1.0//EN
CALSCALE:GREGORIAN
METHOD:PUBLISH
X-ORIGINAL-URL:https://www.goiasfomento.com
X-WR-CALDESC:Eventos para GoiásFomento - Agência de Fomento
REFRESH-INTERVAL;VALUE=DURATION:PT1H
X-Robots-Tag:noindex
X-PUBLISHED-TTL:PT1H
BEGIN:VTIMEZONE
TZID:America/Sao_Paulo
BEGIN:STANDARD
TZOFFSETFROM:-0300
TZOFFSETTO:-0300
TZNAME:-03
DTSTART:20240101T000000
END:STANDARD
END:VTIMEZONE
BEGIN:VEVENT
DTSTART;TZID=America/Sao_Paulo:20250711T080000
DTEND;TZID=America/Sao_Paulo:20250711T120000
DTSTAMP:20260424T140946
CREATED:20250714T141526Z
LAST-MODIFIED:20250714T194921Z
UID:44794-1752220800-1752235200@www.goiasfomento.com
SUMMARY:Vinícius Luz: Atendimentos e Despachos Internos.
DESCRIPTION:
URL:https://www.goiasfomento.com/agenda/vinicius-luz-atendimentos-e-despachos-interno-57/
LOCATION:Gabinete da Diretoria de Operações da GoiásFomento – Agência de Fomento de Goiás.
CATEGORIES:Diretoria de Operações
END:VEVENT
BEGIN:VEVENT
DTSTART;TZID=America/Sao_Paulo:20250711T140000
DTEND;TZID=America/Sao_Paulo:20250711T160000
DTSTAMP:20260424T140946
CREATED:20250714T141345Z
LAST-MODIFIED:20250714T141345Z
UID:44790-1752242400-1752249600@www.goiasfomento.com
SUMMARY:Vinícius Luz: Reunião com a ReDeCa rede  instituída pelo Escritório de Avaliação e Supervisão do Banco Interamericano de Desenvolvimento (BID)\, online.
DESCRIPTION:
URL:https://www.goiasfomento.com/agenda/vinicius-luz-reuniao-com-a-redeca-rede-instituida-pelo-escritorio-de-avaliacao-e-supervisao-do-banco-interamericano-de-desenvolvimento-bid-online/
LOCATION:Sala de Reuniões da Diretoria – Agência de Fomento de Goiás.
CATEGORIES:Diretoria de Operações
END:VEVENT
BEGIN:VEVENT
DTSTART;TZID=America/Sao_Paulo:20250711T160000
DTEND;TZID=America/Sao_Paulo:20250711T180000
DTSTAMP:20260424T140946
CREATED:20250714T141505Z
LAST-MODIFIED:20250714T194827Z
UID:44792-1752249600-1752256800@www.goiasfomento.com
SUMMARY:Vinícius Luz: Atendimentos e Despachos Internos.
DESCRIPTION:
URL:https://www.goiasfomento.com/agenda/vinicius-luz-atendimentos-e-despachos-interno-56/
LOCATION:Gabinete da Diretoria de Operações da GoiásFomento – Agência de Fomento de Goiás.
CATEGORIES:Diretoria de Operações
END:VEVENT
END:VCALENDAR