BEGIN:VCALENDAR
VERSION:2.0
PRODID:-//GoiásFomento - Agência de Fomento - ECPv6.15.20//NONSGML v1.0//EN
CALSCALE:GREGORIAN
METHOD:PUBLISH
X-ORIGINAL-URL:https://www.goiasfomento.com
X-WR-CALDESC:Eventos para GoiásFomento - Agência de Fomento
REFRESH-INTERVAL;VALUE=DURATION:PT1H
X-Robots-Tag:noindex
X-PUBLISHED-TTL:PT1H
BEGIN:VTIMEZONE
TZID:America/Sao_Paulo
BEGIN:STANDARD
TZOFFSETFROM:-0300
TZOFFSETTO:-0300
TZNAME:-03
DTSTART:20240101T000000
END:STANDARD
END:VTIMEZONE
BEGIN:VEVENT
DTSTART;TZID=America/Sao_Paulo:20250707T080000
DTEND;TZID=America/Sao_Paulo:20250707T083000
DTSTAMP:20260424T140921
CREATED:20250707T175350Z
LAST-MODIFIED:20250707T175350Z
UID:44595-1751875200-1751877000@www.goiasfomento.com
SUMMARY:Vinícius Luz: Início das Atividades como Diretor de Operações da GoiásFomento.
DESCRIPTION:
URL:https://www.goiasfomento.com/agenda/vinicius-luz-inicio-das-atividades-como-diretor-de-operacoes-da-goiasfomento/
LOCATION:Gabinete da Diretoria de Operações da GoiásFomento – Agência de Fomento de Goiás.
CATEGORIES:Diretoria de Operações
END:VEVENT
BEGIN:VEVENT
DTSTART;TZID=America/Sao_Paulo:20250707T083000
DTEND;TZID=America/Sao_Paulo:20250707T120000
DTSTAMP:20260424T140921
CREATED:20250707T175424Z
LAST-MODIFIED:20250715T113839Z
UID:44597-1751877000-1751889600@www.goiasfomento.com
SUMMARY:Vinícius Luz: Atendimentos e Despachos Internos.
DESCRIPTION:
URL:https://www.goiasfomento.com/agenda/vinicius-luz-atendimentos-e-despachos-interno-48/
LOCATION:Gabinete da Diretoria de Operações da GoiásFomento – Agência de Fomento de Goiás.
CATEGORIES:Diretoria de Operações
END:VEVENT
BEGIN:VEVENT
DTSTART;TZID=America/Sao_Paulo:20250707T140000
DTEND;TZID=America/Sao_Paulo:20250707T180000
DTSTAMP:20260424T140921
CREATED:20250707T175445Z
LAST-MODIFIED:20250715T113724Z
UID:44599-1751896800-1751911200@www.goiasfomento.com
SUMMARY:Vinícius Luz: Atendimentos e Despachos Internos.
DESCRIPTION:
URL:https://www.goiasfomento.com/agenda/vinicius-luz-atendimentos-e-despachos-interno-49/
LOCATION:Gabinete da Diretoria de Operações da GoiásFomento – Agência de Fomento de Goiás.
CATEGORIES:Diretoria de Operações
END:VEVENT
END:VCALENDAR