BEGIN:VCALENDAR
VERSION:2.0
PRODID:-//GoiásFomento - Agência de Fomento - ECPv6.15.20//NONSGML v1.0//EN
CALSCALE:GREGORIAN
METHOD:PUBLISH
X-WR-CALNAME:GoiásFomento - Agência de Fomento
X-ORIGINAL-URL:https://www.goiasfomento.com
X-WR-CALDESC:Eventos para GoiásFomento - Agência de Fomento
REFRESH-INTERVAL;VALUE=DURATION:PT1H
X-Robots-Tag:noindex
X-PUBLISHED-TTL:PT1H
BEGIN:VTIMEZONE
TZID:America/Sao_Paulo
BEGIN:STANDARD
TZOFFSETFROM:-0300
TZOFFSETTO:-0300
TZNAME:-03
DTSTART:20240101T000000
END:STANDARD
END:VTIMEZONE
BEGIN:VEVENT
DTSTART;TZID=America/Sao_Paulo:20250624T070000
DTEND;TZID=America/Sao_Paulo:20250624T090000
DTSTAMP:20260424T153319
CREATED:20250623T140540Z
LAST-MODIFIED:20250623T140540Z
UID:44296-1750748400-1750755600@www.goiasfomento.com
SUMMARY:Rufino Veríssimo: Atendimentos e Despachos Interno.
DESCRIPTION:
URL:https://www.goiasfomento.com/agenda/rufino-verissimo-atendimentos-e-despachos-interno-67/
LOCATION:Gabinete da Diretoria de Operações da GoiásFomento – Agência de Fomento de Goiás.
CATEGORIES:Diretoria de Operações
END:VEVENT
BEGIN:VEVENT
DTSTART;TZID=America/Sao_Paulo:20250624T090000
DTEND;TZID=America/Sao_Paulo:20250624T100000
DTSTAMP:20260424T153319
CREATED:20250623T134204Z
LAST-MODIFIED:20250623T140916Z
UID:44286-1750755600-1750759200@www.goiasfomento.com
SUMMARY:Rufino Veríssimo: Reunião -  Pauta: Contrato da BK.
DESCRIPTION:
URL:https://www.goiasfomento.com/agenda/rufino-verissimo-reuniao-pauta-contrato-da-bk-3/
LOCATION:Gabinete da Diretoria de Operações da GoiásFomento – Agência de Fomento de Goiás.
CATEGORIES:Diretoria de Operações
END:VEVENT
BEGIN:VEVENT
DTSTART;TZID=America/Sao_Paulo:20250624T100000
DTEND;TZID=America/Sao_Paulo:20250624T123000
DTSTAMP:20260424T153319
CREATED:20250623T140634Z
LAST-MODIFIED:20250623T140634Z
UID:44298-1750759200-1750768200@www.goiasfomento.com
SUMMARY:Rufino Veríssimo: Atendimentos e Despachos Interno.
DESCRIPTION:
URL:https://www.goiasfomento.com/agenda/rufino-verissimo-atendimentos-e-despachos-interno-68/
LOCATION:Gabinete da Diretoria de Operações da GoiásFomento – Agência de Fomento de Goiás.
CATEGORIES:Diretoria de Operações
END:VEVENT
BEGIN:VEVENT
DTSTART;TZID=America/Sao_Paulo:20250624T140000
DTEND;TZID=America/Sao_Paulo:20250624T143000
DTSTAMP:20260424T153319
CREATED:20250623T140024Z
LAST-MODIFIED:20250623T141317Z
UID:44288-1750773600-1750775400@www.goiasfomento.com
SUMMARY:Rufino Veríssimo: Reunião com a Diretoria da GoiásFomento e Gestores da Cedro Capital\, com os Srs Bruno Brito e Alessandro Machado. Pauta: Sobre os Desinvestimentos do FIP Venture Brasil Central e os Investimentos do Fundo GOVTECH.
DESCRIPTION:
URL:https://www.goiasfomento.com/agenda/rufino-verissimo-reuniao-com-a-diretoria-e-gestores-da-cedro-capital-bruno-brito-e-alessandro-machado-pauta-sobre-os-desinvestimentos-do-fip-venture-brasil-central-e-os-investimentos-do-fundo-govt/
LOCATION:Sala de Reuniões da Diretoria – Agência de Fomento de Goiás.
CATEGORIES:Diretoria de Operações
END:VEVENT
BEGIN:VEVENT
DTSTART;TZID=America/Sao_Paulo:20250624T143000
DTEND;TZID=America/Sao_Paulo:20250624T150000
DTSTAMP:20260424T153319
CREATED:20250623T140341Z
LAST-MODIFIED:20250623T140341Z
UID:44294-1750775400-1750777200@www.goiasfomento.com
SUMMARY:Rufino Veríssimo: Atendimentos e Despachos Interno.
DESCRIPTION:
URL:https://www.goiasfomento.com/agenda/rufino-verissimo-atendimentos-e-despachos-interno-66/
LOCATION:Gabinete da Diretoria de Operações da GoiásFomento – Agência de Fomento de Goiás.
CATEGORIES:Diretoria de Operações
END:VEVENT
BEGIN:VEVENT
DTSTART;TZID=America/Sao_Paulo:20250624T150000
DTEND;TZID=America/Sao_Paulo:20250624T160000
DTSTAMP:20260424T153319
CREATED:20250623T133950Z
LAST-MODIFIED:20250623T133950Z
UID:44284-1750777200-1750780800@www.goiasfomento.com
SUMMARY:Rufino Veríssimo: Reunião Virtual com Subsecretário Tesouro Estadual\, Sr: Wederson Xavier e a Superintendente Financeira\, Sra. Juliana Manzi.
DESCRIPTION:
URL:https://www.goiasfomento.com/agenda/rufino-verissimo-reuniao-virtual-com-subsecretario-tesouro-estadual-sr-wederson-xavier-e-a-superintendente-financeira-sra-juliana-manzi/
LOCATION:Gabinete da Diretoria de Operações da GoiásFomento – Agência de Fomento de Goiás.
CATEGORIES:Diretoria de Operações
END:VEVENT
BEGIN:VEVENT
DTSTART;TZID=America/Sao_Paulo:20250624T160000
DTEND;TZID=America/Sao_Paulo:20250624T183000
DTSTAMP:20260424T153319
CREATED:20250623T140700Z
LAST-MODIFIED:20250623T140700Z
UID:44300-1750780800-1750789800@www.goiasfomento.com
SUMMARY:Rufino Veríssimo: Atendimentos e Despachos Interno.
DESCRIPTION:
URL:https://www.goiasfomento.com/agenda/rufino-verissimo-atendimentos-e-despachos-interno-69/
LOCATION:Gabinete da Diretoria de Operações da GoiásFomento – Agência de Fomento de Goiás.
CATEGORIES:Diretoria de Operações
END:VEVENT
END:VCALENDAR