BEGIN:VCALENDAR
VERSION:2.0
PRODID:-//GoiásFomento - Agência de Fomento - ECPv6.15.20//NONSGML v1.0//EN
CALSCALE:GREGORIAN
METHOD:PUBLISH
X-ORIGINAL-URL:https://www.goiasfomento.com
X-WR-CALDESC:Eventos para GoiásFomento - Agência de Fomento
REFRESH-INTERVAL;VALUE=DURATION:PT1H
X-Robots-Tag:noindex
X-PUBLISHED-TTL:PT1H
BEGIN:VTIMEZONE
TZID:America/Sao_Paulo
BEGIN:STANDARD
TZOFFSETFROM:-0300
TZOFFSETTO:-0300
TZNAME:-03
DTSTART:20240101T000000
END:STANDARD
END:VTIMEZONE
BEGIN:VEVENT
DTSTART;TZID=America/Sao_Paulo:20250603T070000
DTEND;TZID=America/Sao_Paulo:20250603T090000
DTSTAMP:20260424T153553
CREATED:20250602T185351Z
LAST-MODIFIED:20250602T185507Z
UID:43806-1748934000-1748941200@www.goiasfomento.com
SUMMARY:Rufino Veríssimo: Atendimentos e Despachos Interno.
DESCRIPTION:
URL:https://www.goiasfomento.com/agenda/rufino-verissimo-atendimentos-e-despachos-interno-30/
LOCATION:Gabinete da Diretoria de Operações da GoiásFomento – Agência de Fomento de Goiás.
CATEGORIES:Diretoria de Operações
END:VEVENT
BEGIN:VEVENT
DTSTART;TZID=America/Sao_Paulo:20250603T090000
DTEND;TZID=America/Sao_Paulo:20250603T103000
DTSTAMP:20260424T153553
CREATED:20250602T151131Z
LAST-MODIFIED:20250602T182011Z
UID:43776-1748941200-1748946600@www.goiasfomento.com
SUMMARY:Rufino Veríssimo: Reunião com a Diretoria\, Assessores e Gerentes da GoiásFomento. Pauta - Contrato da BK.
DESCRIPTION:
URL:https://www.goiasfomento.com/agenda/rufino-verissimo-reuniao-com-a-diretoria-assesores-e-gerentes-da-goiasfomento-pauta-contrato-da-bk/
LOCATION:Sala de Reuniões da Diretoria – Agência de Fomento de Goiás.
CATEGORIES:Diretoria de Operações
END:VEVENT
BEGIN:VEVENT
DTSTART;TZID=America/Sao_Paulo:20250603T103000
DTEND;TZID=America/Sao_Paulo:20250603T120000
DTSTAMP:20260424T153553
CREATED:20250603T132203Z
LAST-MODIFIED:20250603T140001Z
UID:43852-1748946600-1748952000@www.goiasfomento.com
SUMMARY:Rufino Veríssimo: Atendimentos e Despachos Interno.
DESCRIPTION:
URL:https://www.goiasfomento.com/agenda/rufino-verissimo-atendimentos-e-despachos-interno-33/
LOCATION:Gabinete da Diretoria de Operações da GoiásFomento – Agência de Fomento de Goiás.
CATEGORIES:Diretoria de Operações
END:VEVENT
BEGIN:VEVENT
DTSTART;TZID=America/Sao_Paulo:20250603T140000
DTEND;TZID=America/Sao_Paulo:20250603T143000
DTSTAMP:20260424T153553
CREATED:20250603T140051Z
LAST-MODIFIED:20250603T140051Z
UID:43858-1748959200-1748961000@www.goiasfomento.com
SUMMARY:Rufino Veríssimo: Atendimentos e Despachos Interno.
DESCRIPTION:
URL:https://www.goiasfomento.com/agenda/rufino-verissimo-atendimentos-e-despachos-interno-34/
LOCATION:Gabinete da Diretoria de Operações da GoiásFomento – Agência de Fomento de Goiás.
CATEGORIES:Diretoria de Operações
END:VEVENT
BEGIN:VEVENT
DTSTART;TZID=America/Sao_Paulo:20250603T143000
DTEND;TZID=America/Sao_Paulo:20250603T170000
DTSTAMP:20260424T153553
CREATED:20250603T140204Z
LAST-MODIFIED:20250603T194542Z
UID:43860-1748961000-1748970000@www.goiasfomento.com
SUMMARY:Rufino Veríssimo: Reunião da Diretoria da GoiásFomento e a Empresa Inttegra.
DESCRIPTION:
URL:https://www.goiasfomento.com/agenda/rufino-verissimo-reuniao-da-diretoria-da-goiasfomento-e-a-empresa-inttegra/
LOCATION:Gabinete da Diretoria de Operações da GoiásFomento – Agência de Fomento de Goiás.
CATEGORIES:Diretoria de Operações
END:VEVENT
BEGIN:VEVENT
DTSTART;TZID=America/Sao_Paulo:20250603T170000
DTEND;TZID=America/Sao_Paulo:20250603T183000
DTSTAMP:20260424T153553
CREATED:20250603T141620Z
LAST-MODIFIED:20250603T194526Z
UID:43872-1748970000-1748975400@www.goiasfomento.com
SUMMARY:Rufino Veríssimo: Atendimentos e Despachos Interno.
DESCRIPTION:
URL:https://www.goiasfomento.com/agenda/rufino-verissimo-atendimentos-e-despachos-interno-35/
LOCATION:Gabinete da Diretoria de Operações da GoiásFomento – Agência de Fomento de Goiás.
CATEGORIES:Diretoria de Operações
END:VEVENT
END:VCALENDAR