BEGIN:VCALENDAR
VERSION:2.0
PRODID:-//GoiásFomento - Agência de Fomento - ECPv6.15.20//NONSGML v1.0//EN
CALSCALE:GREGORIAN
METHOD:PUBLISH
X-WR-CALNAME:GoiásFomento - Agência de Fomento
X-ORIGINAL-URL:https://www.goiasfomento.com
X-WR-CALDESC:Eventos para GoiásFomento - Agência de Fomento
REFRESH-INTERVAL;VALUE=DURATION:PT1H
X-Robots-Tag:noindex
X-PUBLISHED-TTL:PT1H
BEGIN:VTIMEZONE
TZID:America/Sao_Paulo
BEGIN:STANDARD
TZOFFSETFROM:-0300
TZOFFSETTO:-0300
TZNAME:-03
DTSTART:20240101T000000
END:STANDARD
END:VTIMEZONE
BEGIN:VEVENT
DTSTART;TZID=America/Sao_Paulo:20250529T070000
DTEND;TZID=America/Sao_Paulo:20250529T120000
DTSTAMP:20260424T153319
CREATED:20250528T120305Z
LAST-MODIFIED:20250528T120305Z
UID:43678-1748502000-1748520000@www.goiasfomento.com
SUMMARY:Rufino Veríssimo: Atendimentos e Despachos Interno.
DESCRIPTION:
URL:https://www.goiasfomento.com/agenda/rufino-verissimo-atendimentos-e-despachos-interno-22/
LOCATION:Gabinete da Diretoria de Operações da GoiásFomento – Agência de Fomento de Goiás.
CATEGORIES:Diretoria de Operações
END:VEVENT
BEGIN:VEVENT
DTSTART;TZID=America/Sao_Paulo:20250529T140000
DTEND;TZID=America/Sao_Paulo:20250529T183000
DTSTAMP:20260424T153319
CREATED:20250528T120330Z
LAST-MODIFIED:20250528T120723Z
UID:43680-1748527200-1748543400@www.goiasfomento.com
SUMMARY:Rufino Veríssimo: Atendimentos e Despachos Interno.
DESCRIPTION:
URL:https://www.goiasfomento.com/agenda/rufino-verissimo-atendimentos-e-despachos-interno-23/
LOCATION:Gabinete da Diretoria de Operações da GoiásFomento – Agência de Fomento de Goiás.
CATEGORIES:Diretoria de Operações
END:VEVENT
END:VCALENDAR