BEGIN:VCALENDAR
VERSION:2.0
PRODID:-//GoiásFomento - Agência de Fomento - ECPv6.15.20//NONSGML v1.0//EN
CALSCALE:GREGORIAN
METHOD:PUBLISH
X-WR-CALNAME:GoiásFomento - Agência de Fomento
X-ORIGINAL-URL:https://www.goiasfomento.com
X-WR-CALDESC:Eventos para GoiásFomento - Agência de Fomento
REFRESH-INTERVAL;VALUE=DURATION:PT1H
X-Robots-Tag:noindex
X-PUBLISHED-TTL:PT1H
BEGIN:VTIMEZONE
TZID:America/Sao_Paulo
BEGIN:STANDARD
TZOFFSETFROM:-0300
TZOFFSETTO:-0300
TZNAME:-03
DTSTART:20240101T000000
END:STANDARD
END:VTIMEZONE
BEGIN:VEVENT
DTSTART;TZID=America/Sao_Paulo:20250509T070000
DTEND;TZID=America/Sao_Paulo:20250509T083000
DTSTAMP:20260424T185629
CREATED:20250509T133809Z
LAST-MODIFIED:20250509T133809Z
UID:43115-1746774000-1746779400@www.goiasfomento.com
SUMMARY:Rufino Veríssimo: Despachos Internos.
DESCRIPTION:
URL:https://www.goiasfomento.com/agenda/rufino-verissimo-despachos-internos-288/
LOCATION:Gabinete da Diretoria de Operações da GoiásFomento – Agência de Fomento de Goiás.
CATEGORIES:Diretoria de Operações
END:VEVENT
BEGIN:VEVENT
DTSTART;TZID=America/Sao_Paulo:20250509T083000
DTEND;TZID=America/Sao_Paulo:20250509T090000
DTSTAMP:20260424T185629
CREATED:20250509T134440Z
LAST-MODIFIED:20250509T134440Z
UID:43119-1746779400-1746781200@www.goiasfomento.com
SUMMARY:Rufino Veríssimo: Reunião com os Gerentes da Diretoria de Operações.
DESCRIPTION:
URL:https://www.goiasfomento.com/agenda/rufino-verissimo-reuniao-com-os-gerentes-da-diretoria-de-operacoes-15/
LOCATION:Gabinete da Diretoria de Operações da GoiásFomento – Agência de Fomento de Goiás.
CATEGORIES:Diretoria de Operações
END:VEVENT
BEGIN:VEVENT
DTSTART;TZID=America/Sao_Paulo:20250509T090000
DTEND;TZID=America/Sao_Paulo:20250509T093000
DTSTAMP:20260424T185629
CREATED:20250509T144932Z
LAST-MODIFIED:20250509T144932Z
UID:43125-1746781200-1746783000@www.goiasfomento.com
SUMMARY:Rufino Veríssimo: Reunião com Porthos R. de Albuquerque Motta - Assessor de Gerenciamento de Riscos e Escritório de Projetos.
DESCRIPTION:
URL:https://www.goiasfomento.com/agenda/rufino-verissimo-reuniao-com-porthos-r-de-albuquerque-motta-assessor-de-gerenciamento-de-riscos-e-escritorio-de-projetos-10/
LOCATION:Gabinete da Diretoria de Operações da GoiásFomento – Agência de Fomento de Goiás.
CATEGORIES:Diretoria de Operações
END:VEVENT
BEGIN:VEVENT
DTSTART;TZID=America/Sao_Paulo:20250509T093000
DTEND;TZID=America/Sao_Paulo:20250509T100000
DTSTAMP:20260424T185629
CREATED:20250509T145725Z
LAST-MODIFIED:20250509T145725Z
UID:43129-1746783000-1746784800@www.goiasfomento.com
SUMMARY:Rufino Veríssimo: Reunião com Wagner Siqueira Coelho - Gerente de Prospecção de Negócios.
DESCRIPTION:
URL:https://www.goiasfomento.com/agenda/rufino-verissimo-reuniao-com-wagner-siqueira-coelho-gerente-de-prospeccao-de-negocios-21/
LOCATION:Gabinete da Diretoria de Operações da GoiásFomento – Agência de Fomento de Goiás.
CATEGORIES:Diretoria de Operações
END:VEVENT
BEGIN:VEVENT
DTSTART;TZID=America/Sao_Paulo:20250509T100000
DTEND;TZID=America/Sao_Paulo:20250509T101500
DTSTAMP:20260424T185629
CREATED:20250509T150112Z
LAST-MODIFIED:20250509T150112Z
UID:43133-1746784800-1746785700@www.goiasfomento.com
SUMMARY:Rufino Veríssimo: Reunião com Karyna Moral Dall'Agnol - Gerente de Pessoas.
DESCRIPTION:
URL:https://www.goiasfomento.com/agenda/rufino-verissimo-reuniao-com-karyna-moral-dallagnol-gerente-de-pessoas-4/
LOCATION:Gabinete da Diretoria de Operações da GoiásFomento – Agência de Fomento de Goiás.
CATEGORIES:Diretoria de Operações
END:VEVENT
BEGIN:VEVENT
DTSTART;TZID=America/Sao_Paulo:20250509T101500
DTEND;TZID=America/Sao_Paulo:20250509T103000
DTSTAMP:20260424T185629
CREATED:20250509T151719Z
LAST-MODIFIED:20250509T151719Z
UID:43137-1746785700-1746786600@www.goiasfomento.com
SUMMARY:Rufino Veríssimo: Reunião com José Marco Ferreira de Barri - Gerente Financeiro.
DESCRIPTION:
URL:https://www.goiasfomento.com/agenda/rufino-verissimo-reuniao-com-jose-marco-ferreira-de-barri-gerente-financeiro-12/
LOCATION:Gabinete da Diretoria de Operações da GoiásFomento – Agência de Fomento de Goiás.
CATEGORIES:Diretoria de Operações
END:VEVENT
BEGIN:VEVENT
DTSTART;TZID=America/Sao_Paulo:20250509T103000
DTEND;TZID=America/Sao_Paulo:20250509T110000
DTSTAMP:20260424T185629
CREATED:20250509T152102Z
LAST-MODIFIED:20250509T152102Z
UID:43142-1746786600-1746788400@www.goiasfomento.com
SUMMARY:Rufino Veríssimo: Reunião com Darmélia Barbosa - Gerente de Comunicação.
DESCRIPTION:
URL:https://www.goiasfomento.com/agenda/rufino-verissimo-reuniao-com-darmelia-barbosa-gerente-de-comunicacao-11/
LOCATION:Gabinete da Diretoria de Operações da GoiásFomento – Agência de Fomento de Goiás.
CATEGORIES:Diretoria de Operações
END:VEVENT
BEGIN:VEVENT
DTSTART;TZID=America/Sao_Paulo:20250509T110000
DTEND;TZID=America/Sao_Paulo:20250509T113000
DTSTAMP:20260424T185629
CREATED:20250509T152907Z
LAST-MODIFIED:20250509T152907Z
UID:43146-1746788400-1746790200@www.goiasfomento.com
SUMMARY:Rufino Veríssimo: Reunião com Paulo Cesar Paiva – Assessor de Estratégia e Planejamento.
DESCRIPTION:
URL:https://www.goiasfomento.com/agenda/rufino-verissimo-reuniao-com-paulo-cesar-paiva-assessor-de-estrategia-e-planejamento-35/
LOCATION:Gabinete da Diretoria de Operações da GoiásFomento – Agência de Fomento de Goiás.
CATEGORIES:Diretoria de Operações
END:VEVENT
BEGIN:VEVENT
DTSTART;TZID=America/Sao_Paulo:20250509T113000
DTEND;TZID=America/Sao_Paulo:20250509T120000
DTSTAMP:20260424T185629
CREATED:20250509T153215Z
LAST-MODIFIED:20250509T153215Z
UID:43150-1746790200-1746792000@www.goiasfomento.com
SUMMARY:Rufino Veríssimo: Despachos Internos.
DESCRIPTION:
URL:https://www.goiasfomento.com/agenda/rufino-verissimo-despachos-internos-289/
LOCATION:Gabinete da Diretoria de Operações da GoiásFomento – Agência de Fomento de Goiás.
CATEGORIES:Diretoria de Operações
END:VEVENT
BEGIN:VEVENT
DTSTART;TZID=America/Sao_Paulo:20250509T120000
DTEND;TZID=America/Sao_Paulo:20250509T121500
DTSTAMP:20260424T185629
CREATED:20250509T181853Z
LAST-MODIFIED:20250509T185858Z
UID:43155-1746792000-1746792900@www.goiasfomento.com
SUMMARY:Rufino Veríssimo: Reunião com Ariana da Costa Pires Barbosa - Secretaria-Geral.
DESCRIPTION:
URL:https://www.goiasfomento.com/agenda/rufino-verissimo-reuniao-com-ariana-da-costa-pires-barbosa-secretaria-geral-13/
LOCATION:Gabinete da Diretoria de Operações da GoiásFomento – Agência de Fomento de Goiás.
CATEGORIES:Diretoria de Operações
END:VEVENT
BEGIN:VEVENT
DTSTART;TZID=America/Sao_Paulo:20250509T121500
DTEND;TZID=America/Sao_Paulo:20250509T123000
DTSTAMP:20260424T185629
CREATED:20250509T182226Z
LAST-MODIFIED:20250509T182226Z
UID:43159-1746792900-1746793800@www.goiasfomento.com
SUMMARY:Rufino Veríssimo: Reunião com Ariana da Costa Pires Barbosa - Secretaria-Geral e Karyna Moral Dall'Agnol - Gerente de Pessoas.
DESCRIPTION:
URL:https://www.goiasfomento.com/agenda/rufino-verissimo-reuniao-com-ariana-da-costa-pires-barbosa-secretaria-geral-e-karyna-moral-dallagnol-gerente-de-pessoas/
LOCATION:Gabinete da Diretoria de Operações da GoiásFomento – Agência de Fomento de Goiás.
CATEGORIES:Diretoria de Operações
END:VEVENT
BEGIN:VEVENT
DTSTART;TZID=America/Sao_Paulo:20250509T140000
DTEND;TZID=America/Sao_Paulo:20250509T143000
DTSTAMP:20260424T185629
CREATED:20250509T183710Z
LAST-MODIFIED:20250509T183710Z
UID:43163-1746799200-1746801000@www.goiasfomento.com
SUMMARY:Rufino Veríssimo: Reunião com Rafael Soffa Rézio - Gerente de Programas e Políticas Sociais e Alexsander de Oliveira Linhares - Gerente de Parcerias e Operações Estruturadas.
DESCRIPTION:
URL:https://www.goiasfomento.com/agenda/rufino-verissimo-reuniao-com-rafael-soffa-rezio-gerente-de-programas-e-politicas-sociais-e-alexsander-de-oliveira-linhares-gerente-de-parcerias-e-operacoes-estruturadas/
LOCATION:Gabinete da Diretoria de Operações da GoiásFomento – Agência de Fomento de Goiás.
CATEGORIES:Diretoria de Operações
END:VEVENT
BEGIN:VEVENT
DTSTART;TZID=America/Sao_Paulo:20250509T143000
DTEND;TZID=America/Sao_Paulo:20250509T150000
DTSTAMP:20260424T185629
CREATED:20250509T184741Z
LAST-MODIFIED:20250509T184741Z
UID:43169-1746801000-1746802800@www.goiasfomento.com
SUMMARY:Rufino Veríssimo: Reunião com  José Marco Ferreira de Barri - Gerente Financeiro e Samuel - Gerência de Programas e Políticas Sociais.
DESCRIPTION:
URL:https://www.goiasfomento.com/agenda/rufino-verissimo-reuniao-com-jose-marco-ferreira-de-barri-gerente-financeiro-e-samuel-gerencia-de-programas-e-politicas-sociais/
LOCATION:Gabinete da Diretoria de Operações da GoiásFomento – Agência de Fomento de Goiás.
CATEGORIES:Diretoria de Operações
END:VEVENT
BEGIN:VEVENT
DTSTART;TZID=America/Sao_Paulo:20250509T150000
DTEND;TZID=America/Sao_Paulo:20250509T170000
DTSTAMP:20260424T185629
CREATED:20250509T190323Z
LAST-MODIFIED:20250509T190352Z
UID:43174-1746802800-1746810000@www.goiasfomento.com
SUMMARY:Rufino Veríssimo: Despachos Internos.
DESCRIPTION:
URL:https://www.goiasfomento.com/agenda/rufino-verissimo-despachos-internos-290/
LOCATION:Gabinete da Diretoria de Operações da GoiásFomento – Agência de Fomento de Goiás.
CATEGORIES:Diretoria de Operações
END:VEVENT
BEGIN:VEVENT
DTSTART;TZID=America/Sao_Paulo:20250509T170000
DTEND;TZID=America/Sao_Paulo:20250509T173000
DTSTAMP:20260424T185629
CREATED:20250509T195433Z
LAST-MODIFIED:20250509T195433Z
UID:43179-1746810000-1746811800@www.goiasfomento.com
SUMMARY:Rufino Veríssimo: Reunião com Maria Terezinha da Mota Batista – Assessora Técnica de Contabilidade.
DESCRIPTION:
URL:https://www.goiasfomento.com/agenda/rufino-verissimo-reuniao-com-maria-terezinha-da-mota-batista-assessora-tecnica-de-contabilidade-22/
LOCATION:Gabinete da Diretoria de Operações da GoiásFomento – Agência de Fomento de Goiás.
CATEGORIES:Diretoria de Operações
END:VEVENT
BEGIN:VEVENT
DTSTART;TZID=America/Sao_Paulo:20250509T173000
DTEND;TZID=America/Sao_Paulo:20250509T183000
DTSTAMP:20260424T185629
CREATED:20250509T195618Z
LAST-MODIFIED:20250509T195618Z
UID:43183-1746811800-1746815400@www.goiasfomento.com
SUMMARY:Rufino Veríssimo: Reunião com Rafael Soffa Rézio - Gerente de Programas e Políticas Sociais.
DESCRIPTION:
URL:https://www.goiasfomento.com/agenda/rufino-verissimo-reuniao-com-rafael-soffa-rezio-gerente-de-programas-e-politicas-sociais-54/
LOCATION:Gabinete da Diretoria de Operações da GoiásFomento – Agência de Fomento de Goiás.
CATEGORIES:Diretoria de Operações
END:VEVENT
END:VCALENDAR