BEGIN:VCALENDAR
VERSION:2.0
PRODID:-//GoiásFomento - Agência de Fomento - ECPv6.15.20//NONSGML v1.0//EN
CALSCALE:GREGORIAN
METHOD:PUBLISH
X-WR-CALNAME:GoiásFomento - Agência de Fomento
X-ORIGINAL-URL:https://www.goiasfomento.com
X-WR-CALDESC:Eventos para GoiásFomento - Agência de Fomento
REFRESH-INTERVAL;VALUE=DURATION:PT1H
X-Robots-Tag:noindex
X-PUBLISHED-TTL:PT1H
BEGIN:VTIMEZONE
TZID:America/Sao_Paulo
BEGIN:STANDARD
TZOFFSETFROM:-0300
TZOFFSETTO:-0300
TZNAME:-03
DTSTART:20240101T000000
END:STANDARD
END:VTIMEZONE
BEGIN:VEVENT
DTSTART;TZID=America/Sao_Paulo:20250401T070000
DTEND;TZID=America/Sao_Paulo:20250401T083000
DTSTAMP:20260424T184215
CREATED:20250401T125602Z
LAST-MODIFIED:20250408T111828Z
UID:41577-1743490800-1743496200@www.goiasfomento.com
SUMMARY:Rufino Veríssimo: Despachos Internos.
DESCRIPTION:
URL:https://www.goiasfomento.com/agenda/rufino-verissimo-despachos-internos-235/
LOCATION:Gabinete da Diretoria de Operações da GoiásFomento – Agência de Fomento de Goiás.
CATEGORIES:Diretoria de Operações
END:VEVENT
BEGIN:VEVENT
DTSTART;TZID=America/Sao_Paulo:20250401T083000
DTEND;TZID=America/Sao_Paulo:20250401T090000
DTSTAMP:20260424T184215
CREATED:20250401T125720Z
LAST-MODIFIED:20250401T125720Z
UID:41581-1743496200-1743498000@www.goiasfomento.com
SUMMARY:Rufino Veríssimo: Reunião com Deivison Rodrigues da Costa Soares - Chefe de Gabinete.
DESCRIPTION:
URL:https://www.goiasfomento.com/agenda/rufino-verissimo-reuniao-com-deivison-rodrigues-da-costa-soares-chefe-de-gabinete-2/
LOCATION:Gabinete da Diretoria de Operações da GoiásFomento – Agência de Fomento de Goiás.
CATEGORIES:Diretoria de Operações
END:VEVENT
BEGIN:VEVENT
DTSTART;TZID=America/Sao_Paulo:20250401T090000
DTEND;TZID=America/Sao_Paulo:20250401T093000
DTSTAMP:20260424T184215
CREATED:20250401T125841Z
LAST-MODIFIED:20250401T125841Z
UID:41585-1743498000-1743499800@www.goiasfomento.com
SUMMARY:Rufino Veríssimo: Reunião com Paulo Cesar Paiva – Assessor de Estratégia e Planejamento.
DESCRIPTION:
URL:https://www.goiasfomento.com/agenda/rufino-verissimo-reuniao-com-paulo-cesar-paiva-assessor-de-estrategia-e-planejamento-16/
LOCATION:Gabinete da Diretoria de Operações da GoiásFomento – Agência de Fomento de Goiás.
CATEGORIES:Diretoria de Operações
END:VEVENT
BEGIN:VEVENT
DTSTART;TZID=America/Sao_Paulo:20250401T093000
DTEND;TZID=America/Sao_Paulo:20250401T100000
DTSTAMP:20260424T184215
CREATED:20250401T131204Z
LAST-MODIFIED:20250401T131204Z
UID:41599-1743499800-1743501600@www.goiasfomento.com
SUMMARY:Rufino Veríssimo: Reunião com Wagner Siqueira Coelho – Gerente de Prospecção de Negócios
DESCRIPTION:
URL:https://www.goiasfomento.com/agenda/rufino-verissimo-reuniao-com-wagner-siqueira-coelho-gerente-de-prospeccao-de-negocios-12/
LOCATION:Gabinete da Diretoria de Operações da GoiásFomento – Agência de Fomento de Goiás.
CATEGORIES:Diretoria de Operações
END:VEVENT
BEGIN:VEVENT
DTSTART;TZID=America/Sao_Paulo:20250401T100000
DTEND;TZID=America/Sao_Paulo:20250401T103000
DTSTAMP:20260424T184215
CREATED:20250401T131452Z
LAST-MODIFIED:20250401T131452Z
UID:41604-1743501600-1743503400@www.goiasfomento.com
SUMMARY:Rufino Veríssimo: Reunião com Rafael Soffa Rézio – Gerente de Programas e Políticas Sociais.
DESCRIPTION:
URL:https://www.goiasfomento.com/agenda/rufino-verissimo-reuniao-com-rafael-soffa-rezio-gerente-de-programas-e-politicas-sociais-22/
LOCATION:Gabinete da Diretoria de Operações da GoiásFomento – Agência de Fomento de Goiás.
CATEGORIES:Diretoria de Operações
END:VEVENT
BEGIN:VEVENT
DTSTART;TZID=America/Sao_Paulo:20250401T103000
DTEND;TZID=America/Sao_Paulo:20250401T113000
DTSTAMP:20260424T184215
CREATED:20250401T152651Z
LAST-MODIFIED:20250401T152651Z
UID:41609-1743503400-1743507000@www.goiasfomento.com
SUMMARY:Rufino Veríssimo: Despachos Internos.
DESCRIPTION:
URL:https://www.goiasfomento.com/agenda/rufino-verissimo-despachos-internos-236/
LOCATION:Gabinete da Diretoria de Operações da GoiásFomento – Agência de Fomento de Goiás.
CATEGORIES:Diretoria de Operações
END:VEVENT
BEGIN:VEVENT
DTSTART;TZID=America/Sao_Paulo:20250401T113000
DTEND;TZID=America/Sao_Paulo:20250401T120000
DTSTAMP:20260424T184215
CREATED:20250401T152815Z
LAST-MODIFIED:20250401T152815Z
UID:41615-1743507000-1743508800@www.goiasfomento.com
SUMMARY:Rufino Veríssimo: Reunião com Rafael Soffa Rézio – Gerente de Programas e Políticas Sociais.
DESCRIPTION:
URL:https://www.goiasfomento.com/agenda/rufino-verissimo-reuniao-com-rafael-soffa-rezio-gerente-de-programas-e-politicas-sociais-23/
LOCATION:Gabinete da Diretoria de Operações da GoiásFomento – Agência de Fomento de Goiás.
CATEGORIES:Diretoria de Operações
END:VEVENT
BEGIN:VEVENT
DTSTART;TZID=America/Sao_Paulo:20250401T120000
DTEND;TZID=America/Sao_Paulo:20250401T123000
DTSTAMP:20260424T184215
CREATED:20250401T152932Z
LAST-MODIFIED:20250401T152932Z
UID:41619-1743508800-1743510600@www.goiasfomento.com
SUMMARY:Rufino Veríssimo: Reunião com Paulo Cesar Paiva – Assessor de Estratégia e Planejamento.
DESCRIPTION:
URL:https://www.goiasfomento.com/agenda/rufino-verissimo-reuniao-com-paulo-cesar-paiva-assessor-de-estrategia-e-planejamento-17/
LOCATION:Gabinete da Diretoria de Operações da GoiásFomento – Agência de Fomento de Goiás.
CATEGORIES:Diretoria de Operações
END:VEVENT
BEGIN:VEVENT
DTSTART;TZID=America/Sao_Paulo:20250401T140000
DTEND;TZID=America/Sao_Paulo:20250401T143000
DTSTAMP:20260424T184215
CREATED:20250401T165147Z
LAST-MODIFIED:20250401T175307Z
UID:41624-1743516000-1743517800@www.goiasfomento.com
SUMMARY:Rufino Veríssimo: Reunião com o Empresario Paulino Rezende - Shownews.
DESCRIPTION:
URL:https://www.goiasfomento.com/agenda/rufino-verissimo-reuniao-com-paulino-rezende-shownews/
LOCATION:Gabinete da Diretoria de Operações da GoiásFomento – Agência de Fomento de Goiás.
CATEGORIES:Diretoria de Operações
END:VEVENT
BEGIN:VEVENT
DTSTART;TZID=America/Sao_Paulo:20250401T143000
DTEND;TZID=America/Sao_Paulo:20250401T150000
DTSTAMP:20260424T184215
CREATED:20250401T180126Z
LAST-MODIFIED:20250401T180126Z
UID:41637-1743517800-1743519600@www.goiasfomento.com
SUMMARY:Rufino Veríssimo: Reunião com Márcio Jacinto de Deus - Auditor Interno.
DESCRIPTION:
URL:https://www.goiasfomento.com/agenda/rufino-verissimo-reuniao-com-marcio-jacinto-de-deus-auditor-interno/
LOCATION:Gabinete da Diretoria de Operações da GoiásFomento – Agência de Fomento de Goiás.
CATEGORIES:Diretoria de Operações
END:VEVENT
BEGIN:VEVENT
DTSTART;TZID=America/Sao_Paulo:20250401T150000
DTEND;TZID=America/Sao_Paulo:20250401T170000
DTSTAMP:20260424T184215
CREATED:20250401T174332Z
LAST-MODIFIED:20250401T174332Z
UID:41630-1743519600-1743526800@www.goiasfomento.com
SUMMARY:Rufino Veríssimo: Apresentação da linha Inovacred B+P com os Gerentes da Agência de Fomento de Goiás - online.
DESCRIPTION:
URL:https://www.goiasfomento.com/agenda/rufino-verissimo-apresentacao-da-linha-inovacred-bp-com-os-gerentes-da-agencia-de-fomento-de-goias-online/
LOCATION:Gabinete da Diretoria de Operações da GoiásFomento – Agência de Fomento de Goiás.
CATEGORIES:Diretoria de Operações
END:VEVENT
BEGIN:VEVENT
DTSTART;TZID=America/Sao_Paulo:20250401T170000
DTEND;TZID=America/Sao_Paulo:20250401T180000
DTSTAMP:20260424T184215
CREATED:20250401T190923Z
LAST-MODIFIED:20250401T190923Z
UID:41641-1743526800-1743530400@www.goiasfomento.com
SUMMARY:Rufino Veríssimo: Despachos Internos.
DESCRIPTION:
URL:https://www.goiasfomento.com/agenda/rufino-verissimo-despachos-internos-237/
LOCATION:Gabinete da Diretoria de Operações da GoiásFomento – Agência de Fomento de Goiás.
CATEGORIES:Diretoria de Operações
END:VEVENT
END:VCALENDAR