BEGIN:VCALENDAR
VERSION:2.0
PRODID:-//GoiásFomento - Agência de Fomento - ECPv6.15.20//NONSGML v1.0//EN
CALSCALE:GREGORIAN
METHOD:PUBLISH
X-ORIGINAL-URL:https://www.goiasfomento.com
X-WR-CALDESC:Eventos para GoiásFomento - Agência de Fomento
REFRESH-INTERVAL;VALUE=DURATION:PT1H
X-Robots-Tag:noindex
X-PUBLISHED-TTL:PT1H
BEGIN:VTIMEZONE
TZID:America/Sao_Paulo
BEGIN:STANDARD
TZOFFSETFROM:-0300
TZOFFSETTO:-0300
TZNAME:-03
DTSTART:20240101T000000
END:STANDARD
END:VTIMEZONE
BEGIN:VEVENT
DTSTART;TZID=America/Sao_Paulo:20250327T070000
DTEND;TZID=America/Sao_Paulo:20250327T090000
DTSTAMP:20260424T200251
CREATED:20250327T140732Z
LAST-MODIFIED:20250408T113731Z
UID:41457-1743058800-1743066000@www.goiasfomento.com
SUMMARY:Rufino Veríssimo: Despachos Internos.
DESCRIPTION:
URL:https://www.goiasfomento.com/agenda/rufino-verissimo-despachos-internos-226/
LOCATION:Gabinete da Diretoria de Operações da GoiásFomento – Agência de Fomento de Goiás.
CATEGORIES:Diretoria de Operações
END:VEVENT
BEGIN:VEVENT
DTSTART;TZID=America/Sao_Paulo:20250327T090000
DTEND;TZID=America/Sao_Paulo:20250327T100000
DTSTAMP:20260424T200251
CREATED:20250327T140302Z
LAST-MODIFIED:20250327T140302Z
UID:41453-1743066000-1743069600@www.goiasfomento.com
SUMMARY:Rufino Veríssimo: Reunião com Rafael Soffa Rézio – Gerente de Programas e Políticas Sociais.
DESCRIPTION:
URL:https://www.goiasfomento.com/agenda/rufino-verissimo-reuniao-com-rafael-soffa-rezio-gerente-de-programas-e-politicas-sociais-19/
LOCATION:Gabinete da Diretoria de Operações da GoiásFomento – Agência de Fomento de Goiás.
CATEGORIES:Diretoria de Operações
END:VEVENT
BEGIN:VEVENT
DTSTART;TZID=America/Sao_Paulo:20250327T100000
DTEND;TZID=America/Sao_Paulo:20250327T103000
DTSTAMP:20260424T200251
CREATED:20250327T164153Z
LAST-MODIFIED:20250327T164153Z
UID:41461-1743069600-1743071400@www.goiasfomento.com
SUMMARY:Rufino Veríssimo: Reunião com Paulo Cesar Paiva – Assessor de Estratégia e Planejamento.
DESCRIPTION:
URL:https://www.goiasfomento.com/agenda/rufino-verissimo-reuniao-com-paulo-cesar-paiva-assessor-de-estrategia-e-planejamento-15/
LOCATION:Gabinete da Diretoria de Operações da GoiásFomento – Agência de Fomento de Goiás.
CATEGORIES:Diretoria de Operações
END:VEVENT
BEGIN:VEVENT
DTSTART;TZID=America/Sao_Paulo:20250327T110000
DTEND;TZID=America/Sao_Paulo:20250327T113000
DTSTAMP:20260424T200251
CREATED:20250327T171116Z
LAST-MODIFIED:20250327T171116Z
UID:41467-1743073200-1743075000@www.goiasfomento.com
SUMMARY:Rufino Veríssimo: Reunião com Darmélia Barbosa – Gerente de Comunicação.
DESCRIPTION:
URL:https://www.goiasfomento.com/agenda/rufino-verissimo-reuniao-com-darmelia-barbosa-gerente-de-comunicacao-5/
LOCATION:Gabinete da Diretoria de Operações da GoiásFomento – Agência de Fomento de Goiás.
CATEGORIES:Diretoria de Operações
END:VEVENT
BEGIN:VEVENT
DTSTART;TZID=America/Sao_Paulo:20250327T113000
DTEND;TZID=America/Sao_Paulo:20250327T120000
DTSTAMP:20260424T200251
CREATED:20250327T172737Z
LAST-MODIFIED:20250327T172737Z
UID:41471-1743075000-1743076800@www.goiasfomento.com
SUMMARY:Rufino Veríssimo: Reunião com Rafael Soffa Rézio – Gerente de Programas e Políticas Sociais.
DESCRIPTION:
URL:https://www.goiasfomento.com/agenda/rufino-verissimo-reuniao-com-rafael-soffa-rezio-gerente-de-programas-e-politicas-sociais-20/
LOCATION:Gabinete da Diretoria de Operações da GoiásFomento – Agência de Fomento de Goiás.
CATEGORIES:Diretoria de Operações
END:VEVENT
BEGIN:VEVENT
DTSTART;TZID=America/Sao_Paulo:20250327T140000
DTEND;TZID=America/Sao_Paulo:20250327T150000
DTSTAMP:20260424T200251
CREATED:20250327T174011Z
LAST-MODIFIED:20250327T174011Z
UID:41478-1743084000-1743087600@www.goiasfomento.com
SUMMARY:Rufino Veríssimo: Reunião com Camilo R. de Camargo Pires- Gerente de Recuperação de Ativos.
DESCRIPTION:
URL:https://www.goiasfomento.com/agenda/rufino-verissimo-reuniao-com-camilo-r-de-camargo-pires-gerente-de-recuperacao-de-ativos/
LOCATION:Gabinete da Diretoria de Operações da GoiásFomento – Agência de Fomento de Goiás.
CATEGORIES:Diretoria de Operações
END:VEVENT
BEGIN:VEVENT
DTSTART;TZID=America/Sao_Paulo:20250327T150000
DTEND;TZID=America/Sao_Paulo:20250327T153000
DTSTAMP:20260424T200251
CREATED:20250327T180749Z
LAST-MODIFIED:20250327T180749Z
UID:41482-1743087600-1743089400@www.goiasfomento.com
SUMMARY:Rufino Veríssimo: Reunião com Maria Terezinha da Mota Batista – Assessora Técnica de Contabilidade.
DESCRIPTION:
URL:https://www.goiasfomento.com/agenda/rufino-verissimo-reuniao-com-maria-terezinha-da-mota-batista-assessora-tecnica-de-contabilidade-4/
LOCATION:Gabinete da Diretoria de Operações da GoiásFomento – Agência de Fomento de Goiás.
CATEGORIES:Diretoria de Operações
END:VEVENT
BEGIN:VEVENT
DTSTART;TZID=America/Sao_Paulo:20250327T153000
DTEND;TZID=America/Sao_Paulo:20250327T160000
DTSTAMP:20260424T200251
CREATED:20250327T182646Z
LAST-MODIFIED:20250327T182646Z
UID:41486-1743089400-1743091200@www.goiasfomento.com
SUMMARY:Rufino Veríssimo: Despachos Internos.
DESCRIPTION:
URL:https://www.goiasfomento.com/agenda/rufino-verissimo-despachos-internos-227/
LOCATION:Gabinete da Diretoria de Operações da GoiásFomento – Agência de Fomento de Goiás.
CATEGORIES:Diretoria de Operações
END:VEVENT
BEGIN:VEVENT
DTSTART;TZID=America/Sao_Paulo:20250327T160000
DTEND;TZID=America/Sao_Paulo:20250327T190000
DTSTAMP:20260424T200251
CREATED:20250327T192144Z
LAST-MODIFIED:20250327T211939Z
UID:41490-1743091200-1743102000@www.goiasfomento.com
SUMMARY:Rufino Veríssimo: Reunião da Diretoria Executiva com Empresa Inttegra.
DESCRIPTION:
URL:https://www.goiasfomento.com/agenda/rufino-verissimo-reuniao-da-diretoria-executiva-com-empresa-inttegra/
LOCATION:Sala de Reuniões da Diretoria – Agência de Fomento de Goiás.
CATEGORIES:Diretoria de Operações
END:VEVENT
END:VCALENDAR