BEGIN:VCALENDAR
VERSION:2.0
PRODID:-//GoiásFomento - Agência de Fomento - ECPv6.15.20//NONSGML v1.0//EN
CALSCALE:GREGORIAN
METHOD:PUBLISH
X-ORIGINAL-URL:https://www.goiasfomento.com
X-WR-CALDESC:Eventos para GoiásFomento - Agência de Fomento
REFRESH-INTERVAL;VALUE=DURATION:PT1H
X-Robots-Tag:noindex
X-PUBLISHED-TTL:PT1H
BEGIN:VTIMEZONE
TZID:America/Sao_Paulo
BEGIN:STANDARD
TZOFFSETFROM:-0300
TZOFFSETTO:-0300
TZNAME:-03
DTSTART:20240101T000000
END:STANDARD
END:VTIMEZONE
BEGIN:VEVENT
DTSTART;TZID=America/Sao_Paulo:20250326T070000
DTEND;TZID=America/Sao_Paulo:20250326T083000
DTSTAMP:20260424T200251
CREATED:20250326T135852Z
LAST-MODIFIED:20250408T115453Z
UID:41378-1742972400-1742977800@www.goiasfomento.com
SUMMARY:Rufino Veríssimo:  Despachos Internos.
DESCRIPTION:
URL:https://www.goiasfomento.com/agenda/rufino-verissimo-despachos-internos-223/
LOCATION:Gabinete da Diretoria de Operações da GoiásFomento – Agência de Fomento de Goiás.
CATEGORIES:Diretoria de Operações
END:VEVENT
BEGIN:VEVENT
DTSTART;TZID=America/Sao_Paulo:20250326T083000
DTEND;TZID=America/Sao_Paulo:20250326T090000
DTSTAMP:20260424T200251
CREATED:20250326T140033Z
LAST-MODIFIED:20250326T140033Z
UID:41382-1742977800-1742979600@www.goiasfomento.com
SUMMARY:Rufino Veríssimo: Reunião com Rafael Soffa Rézio - Gerente de Programas e Políticas Sociais.
DESCRIPTION:
URL:https://www.goiasfomento.com/agenda/rufino-verissimo-reuniao-com-rafael-soffa-rezio-gerente-de-programas-e-politicas-sociais-18/
LOCATION:Gabinete da Diretoria de Operações da GoiásFomento – Agência de Fomento de Goiás.
CATEGORIES:Diretoria de Operações
END:VEVENT
BEGIN:VEVENT
DTSTART;TZID=America/Sao_Paulo:20250326T090000
DTEND;TZID=America/Sao_Paulo:20250326T100000
DTSTAMP:20260424T200251
CREATED:20250326T141835Z
LAST-MODIFIED:20250326T141835Z
UID:41387-1742979600-1742983200@www.goiasfomento.com
SUMMARY:Rufino Veríssimo: Reunião com Karyna Moral Dall'Agnol - Gerente de Pessoas.
DESCRIPTION:
URL:https://www.goiasfomento.com/agenda/rufino-verissimo-reuniao-com-karyna-moral-dallagnol-gerente-de-pessoas-2/
LOCATION:Gabinete da Diretoria de Operações da GoiásFomento – Agência de Fomento de Goiás.
CATEGORIES:Diretoria de Operações
END:VEVENT
BEGIN:VEVENT
DTSTART;TZID=America/Sao_Paulo:20250326T100000
DTEND;TZID=America/Sao_Paulo:20250326T103000
DTSTAMP:20260424T200251
CREATED:20250326T142021Z
LAST-MODIFIED:20250326T142035Z
UID:41392-1742983200-1742985000@www.goiasfomento.com
SUMMARY:Rufino Veríssimo: Reunião com Luiz Carlos dos Santos Sardinha - Gerente de Tecnologia da Informação.
DESCRIPTION:
URL:https://www.goiasfomento.com/agenda/rufino-verissimo-reuniao-comluiz-carlos-dos-santos-sardinha-gerente-de-tecnologia-da-informacao/
LOCATION:Gabinete da Diretoria de Operações da GoiásFomento – Agência de Fomento de Goiás.
CATEGORIES:Diretoria de Operações
END:VEVENT
BEGIN:VEVENT
DTSTART;TZID=America/Sao_Paulo:20250326T103000
DTEND;TZID=America/Sao_Paulo:20250326T110000
DTSTAMP:20260424T200251
CREATED:20250326T142749Z
LAST-MODIFIED:20250326T142749Z
UID:41402-1742985000-1742986800@www.goiasfomento.com
SUMMARY:Rufino Veríssimo: Despachos Internos.
DESCRIPTION:
URL:https://www.goiasfomento.com/agenda/rufino-verissimo-despachos-internos-225/
LOCATION:Gabinete da Diretoria de Operações da GoiásFomento – Agência de Fomento de Goiás.
CATEGORIES:Diretoria de Operações
END:VEVENT
BEGIN:VEVENT
DTSTART;TZID=America/Sao_Paulo:20250326T110000
DTEND;TZID=America/Sao_Paulo:20250326T113000
DTSTAMP:20260424T200251
CREATED:20250326T142553Z
LAST-MODIFIED:20250326T142553Z
UID:41398-1742986800-1742988600@www.goiasfomento.com
SUMMARY:Rufino Veríssimo: Reunião com  Ariana da Costa Pires Barbosa - Secretaria-Geral.
DESCRIPTION:
URL:https://www.goiasfomento.com/agenda/rufino-verissimo-reuniao-com-ariana-da-costa-pires-barbosa-secretaria-geral-3/
LOCATION:Gabinete da Diretoria de Operações da GoiásFomento – Agência de Fomento de Goiás.
CATEGORIES:Diretoria de Operações
END:VEVENT
BEGIN:VEVENT
DTSTART;TZID=America/Sao_Paulo:20250326T113000
DTEND;TZID=America/Sao_Paulo:20250326T120000
DTSTAMP:20260424T200251
CREATED:20250326T142628Z
LAST-MODIFIED:20250326T144603Z
UID:41400-1742988600-1742990400@www.goiasfomento.com
SUMMARY:Rufino Veríssimo: Reunião com Maria Terezinha da Mota Batista - Assessora Técnica de Contabilidade.
DESCRIPTION:
URL:https://www.goiasfomento.com/agenda/rufino-verissimo-despachos-internos-224/
LOCATION:Gabinete da Diretoria de Operações da GoiásFomento – Agência de Fomento de Goiás.
CATEGORIES:Diretoria de Operações
END:VEVENT
BEGIN:VEVENT
DTSTART;TZID=America/Sao_Paulo:20250326T140000
DTEND;TZID=America/Sao_Paulo:20250326T150000
DTSTAMP:20260424T200251
CREATED:20250326T182039Z
LAST-MODIFIED:20250326T182039Z
UID:41415-1742997600-1743001200@www.goiasfomento.com
SUMMARY:Rufino Veríssimo: Reunião com Rafael Soffa Rézio - Gerente de Programas e Políticas Sociais\, Luiz Arthur Medeiros Miguel - Gerente de Licitação e Contratos e Gálbia do Amor Divino Rosa - Gerente Jurídica.
DESCRIPTION:
URL:https://www.goiasfomento.com/agenda/rufino-verissimo-reuniao-com-rafael-soffa-rezio-gerente-de-programas-e-politicas-sociais-luiz-arthur-medeiros-miguel-gerente-de-licitacao-e-contratos-e-galbia-do-amor-divino-rosa-gerente-jurid/
LOCATION:Gabinete da Diretoria de Operações da GoiásFomento – Agência de Fomento de Goiás.
CATEGORIES:Diretoria de Operações
END:VEVENT
BEGIN:VEVENT
DTSTART;TZID=America/Sao_Paulo:20250326T150000
DTEND;TZID=America/Sao_Paulo:20250326T153000
DTSTAMP:20260424T200251
CREATED:20250326T194656Z
LAST-MODIFIED:20250326T194656Z
UID:41441-1743001200-1743003000@www.goiasfomento.com
SUMMARY:Rufino Veríssimo: Reunião com  Darmélia Barbosa - Gerente de Comunicação.
DESCRIPTION:
URL:https://www.goiasfomento.com/agenda/rufino-verissimo-reuniao-com-darmelia-barbosa-gerente-de-comunicacao-4/
LOCATION:Gabinete da Diretoria de Operações da GoiásFomento – Agência de Fomento de Goiás.
CATEGORIES:Diretoria de Operações
END:VEVENT
BEGIN:VEVENT
DTSTART;TZID=America/Sao_Paulo:20250326T153000
DTEND;TZID=America/Sao_Paulo:20250326T160000
DTSTAMP:20260424T200251
CREATED:20250326T190611Z
LAST-MODIFIED:20250326T190611Z
UID:41424-1743003000-1743004800@www.goiasfomento.com
SUMMARY:Rufino Veríssimo: Reunião com Paulo Cesar Paiva – Assessor de Estratégia e Planejamento.
DESCRIPTION:
URL:https://www.goiasfomento.com/agenda/rufino-verissimo-reuniao-com-paulo-cesar-paiva-assessor-de-estrategia-e-planejamento-13/
CATEGORIES:Diretoria de Operações
END:VEVENT
BEGIN:VEVENT
DTSTART;TZID=America/Sao_Paulo:20250326T160000
DTEND;TZID=America/Sao_Paulo:20250326T170000
DTSTAMP:20260424T200251
CREATED:20250326T192356Z
LAST-MODIFIED:20250326T192356Z
UID:41427-1743004800-1743008400@www.goiasfomento.com
SUMMARY:Rufino Veríssimo: Reunião com Rafael Soffa Rézio - Gerente de Programas e Políticas Sociais e José Marco Ferreira de Barri - Gerente Financeiro.
DESCRIPTION:
URL:https://www.goiasfomento.com/agenda/rufino-verissimo-reuniao-com-rafael-soffa-rezio-gerente-de-programas-e-politicas-sociais-e-jose-marco-ferreira-de-barri-gerente-financeiro/
LOCATION:Gabinete da Diretoria de Operações da GoiásFomento – Agência de Fomento de Goiás.
CATEGORIES:Diretoria de Operações
END:VEVENT
BEGIN:VEVENT
DTSTART;TZID=America/Sao_Paulo:20250326T170000
DTEND;TZID=America/Sao_Paulo:20250326T173000
DTSTAMP:20260424T200251
CREATED:20250326T194259Z
LAST-MODIFIED:20250326T194306Z
UID:41434-1743008400-1743010200@www.goiasfomento.com
SUMMARY:Rufino Veríssimo: Reunião com Karyna Moral Dall'Agnol - Gerente de Pessoas e Ariana da Costa Pires Barbosa – Secretaria-Geral.
DESCRIPTION:
URL:https://www.goiasfomento.com/agenda/rufino-verissimo-reuniao-com-karyna-moral-dallagnol-gerente-de-pessoas-e-ariana-da-costa-pires-barbosa-secretaria-geral/
LOCATION:Gabinete da Diretoria de Operações da GoiásFomento – Agência de Fomento de Goiás.
CATEGORIES:Diretoria de Operações
END:VEVENT
BEGIN:VEVENT
DTSTART;TZID=America/Sao_Paulo:20250326T173000
DTEND;TZID=America/Sao_Paulo:20250326T183000
DTSTAMP:20260424T200251
CREATED:20250326T194443Z
LAST-MODIFIED:20250326T194443Z
UID:41439-1743010200-1743013800@www.goiasfomento.com
SUMMARY:Rufino Veríssimo: Reunião com Paulo Cesar Paiva – Assessor de Estratégia e Planejamento.
DESCRIPTION:
URL:https://www.goiasfomento.com/agenda/rufino-verissimo-reuniao-com-paulo-cesar-paiva-assessor-de-estrategia-e-planejamento-14/
LOCATION:Gabinete da Diretoria de Operações da GoiásFomento – Agência de Fomento de Goiás.
CATEGORIES:Diretoria de Operações
END:VEVENT
END:VCALENDAR