BEGIN:VCALENDAR
VERSION:2.0
PRODID:-//GoiásFomento - Agência de Fomento - ECPv6.15.20//NONSGML v1.0//EN
CALSCALE:GREGORIAN
METHOD:PUBLISH
X-ORIGINAL-URL:https://www.goiasfomento.com
X-WR-CALDESC:Eventos para GoiásFomento - Agência de Fomento
REFRESH-INTERVAL;VALUE=DURATION:PT1H
X-Robots-Tag:noindex
X-PUBLISHED-TTL:PT1H
BEGIN:VTIMEZONE
TZID:America/Sao_Paulo
BEGIN:STANDARD
TZOFFSETFROM:-0300
TZOFFSETTO:-0300
TZNAME:-03
DTSTART:20240101T000000
END:STANDARD
END:VTIMEZONE
BEGIN:VEVENT
DTSTART;TZID=America/Sao_Paulo:20250224T080000
DTEND;TZID=America/Sao_Paulo:20250224T120000
DTSTAMP:20260424T200142
CREATED:20250224T142615Z
LAST-MODIFIED:20250224T142615Z
UID:40420-1740384000-1740398400@www.goiasfomento.com
SUMMARY:Rufino Veríssimo: Despachos Internos.
DESCRIPTION:
URL:https://www.goiasfomento.com/agenda/rufino-verissimo-despachos-internos-182/
LOCATION:Gabinete da Diretoria de Operações da GoiásFomento – Agência de Fomento de Goiás.
CATEGORIES:Diretoria de Operações
END:VEVENT
BEGIN:VEVENT
DTSTART;TZID=America/Sao_Paulo:20250224T140000
DTEND;TZID=America/Sao_Paulo:20250224T153000
DTSTAMP:20260424T200142
CREATED:20250225T115922Z
LAST-MODIFIED:20250225T115922Z
UID:40438-1740405600-1740411000@www.goiasfomento.com
SUMMARY:Rufino Veríssimo: Reunião com a Gerência de Análise de Crédito e  Gerência de Agronegócio.
DESCRIPTION:
URL:https://www.goiasfomento.com/agenda/rufino-verissimo-reuniao-com-a-gerencia-de-analise-de-credito-e-gerencia-de-agronegocio/
LOCATION:Chefia de Gabinete – Agência de Fomento de Goiás
CATEGORIES:Diretoria de Operações
END:VEVENT
BEGIN:VEVENT
DTSTART;TZID=America/Sao_Paulo:20250224T153000
DTEND;TZID=America/Sao_Paulo:20250224T180000
DTSTAMP:20260424T200142
CREATED:20250225T120150Z
LAST-MODIFIED:20250225T120150Z
UID:40441-1740411000-1740420000@www.goiasfomento.com
SUMMARY:Rufino Veríssimo: Despachos Internos.
DESCRIPTION:
URL:https://www.goiasfomento.com/agenda/rufino-verissimo-despachos-internos-183/
LOCATION:Gabinete da Diretoria de Operações da GoiásFomento – Agência de Fomento de Goiás.
CATEGORIES:Diretoria de Operações
END:VEVENT
END:VCALENDAR