BEGIN:VCALENDAR
VERSION:2.0
PRODID:-//GoiásFomento - Agência de Fomento - ECPv6.15.20//NONSGML v1.0//EN
CALSCALE:GREGORIAN
METHOD:PUBLISH
X-WR-CALNAME:GoiásFomento - Agência de Fomento
X-ORIGINAL-URL:https://www.goiasfomento.com
X-WR-CALDESC:Eventos para GoiásFomento - Agência de Fomento
REFRESH-INTERVAL;VALUE=DURATION:PT1H
X-Robots-Tag:noindex
X-PUBLISHED-TTL:PT1H
BEGIN:VTIMEZONE
TZID:America/Sao_Paulo
BEGIN:STANDARD
TZOFFSETFROM:-0300
TZOFFSETTO:-0300
TZNAME:-03
DTSTART:20240101T000000
END:STANDARD
END:VTIMEZONE
BEGIN:VEVENT
DTSTART;TZID=America/Sao_Paulo:20250220T080000
DTEND;TZID=America/Sao_Paulo:20250220T110000
DTSTAMP:20260424T231654
CREATED:20250221T171825Z
LAST-MODIFIED:20250221T171825Z
UID:40384-1740038400-1740049200@www.goiasfomento.com
SUMMARY:Rufino Veríssimo: Despachos Internos.
DESCRIPTION:
URL:https://www.goiasfomento.com/agenda/rufino-verissimo-despachos-internos-176/
LOCATION:Gabinete da Diretoria de Operações da GoiásFomento – Agência de Fomento de Goiás.
CATEGORIES:Diretoria de Operações
END:VEVENT
BEGIN:VEVENT
DTSTART;TZID=America/Sao_Paulo:20250220T110000
DTEND;TZID=America/Sao_Paulo:20250220T113000
DTSTAMP:20260424T231654
CREATED:20250221T172016Z
LAST-MODIFIED:20250221T173022Z
UID:40386-1740049200-1740051000@www.goiasfomento.com
SUMMARY:Rufino Veríssimo: Reunião com a Darmélia Barbosa - Gerente de Comunicação.
DESCRIPTION:
URL:https://www.goiasfomento.com/agenda/rufino-verissimo-reuniao-com-a-darmelia-barbosa-gerente-de-comunicacao/
LOCATION:Gabinete da Diretoria de Operações da GoiásFomento – Agência de Fomento de Goiás.
CATEGORIES:Diretoria de Operações
END:VEVENT
BEGIN:VEVENT
DTSTART;TZID=America/Sao_Paulo:20250220T113000
DTEND;TZID=America/Sao_Paulo:20250220T120000
DTSTAMP:20260424T231654
CREATED:20250221T172140Z
LAST-MODIFIED:20250221T172140Z
UID:40388-1740051000-1740052800@www.goiasfomento.com
SUMMARY:Rufino Verissimo: Reunião com Luiz Alberto de Sousa Filho – Gerente da Rede Credenciada.
DESCRIPTION:
URL:https://www.goiasfomento.com/agenda/rufino-verissimo-reuniao-com-luiz-alberto-de-sousa-filho-gerente-da-rede-credenciada-6/
LOCATION:Gabinete da Diretoria de Operações da GoiásFomento – Agência de Fomento de Goiás.
CATEGORIES:Diretoria de Operações
END:VEVENT
BEGIN:VEVENT
DTSTART;TZID=America/Sao_Paulo:20250220T140000
DTEND;TZID=America/Sao_Paulo:20250220T150000
DTSTAMP:20260424T231654
CREATED:20250221T173235Z
LAST-MODIFIED:20250221T173235Z
UID:40396-1740060000-1740063600@www.goiasfomento.com
SUMMARY:Rufino Veríssimo: Despachos Internos.
DESCRIPTION:
URL:https://www.goiasfomento.com/agenda/rufino-verissimo-despachos-internos-177/
LOCATION:Gabinete da Diretoria de Operações da GoiásFomento – Agência de Fomento de Goiás.
CATEGORIES:Diretoria de Operações
END:VEVENT
BEGIN:VEVENT
DTSTART;TZID=America/Sao_Paulo:20250220T150000
DTEND;TZID=America/Sao_Paulo:20250220T153000
DTSTAMP:20260424T231654
CREATED:20250221T172530Z
LAST-MODIFIED:20250221T172530Z
UID:40390-1740063600-1740065400@www.goiasfomento.com
SUMMARY:Rufino Verissimo: Reunião com Vânia Aparecida da Silveira - Gerente de Análise de Crédito.
DESCRIPTION:
URL:https://www.goiasfomento.com/agenda/rufino-verissimo-reuniao-com-vania-aparecida-da-silveira-gerente-de-analise-de-credito-2/
LOCATION:Gabinete da Diretoria de Operações da GoiásFomento – Agência de Fomento de Goiás.
CATEGORIES:Diretoria de Operações
END:VEVENT
BEGIN:VEVENT
DTSTART;TZID=America/Sao_Paulo:20250220T153000
DTEND;TZID=America/Sao_Paulo:20250220T160000
DTSTAMP:20260424T231654
CREATED:20250221T172652Z
LAST-MODIFIED:20250221T173047Z
UID:40392-1740065400-1740067200@www.goiasfomento.com
SUMMARY:Rufino Verissimo: Reunião da Diretoria Executiva da Agência de Fomento de Goiás.
DESCRIPTION:
URL:https://www.goiasfomento.com/agenda/rufino-verissimo-reuniao-da-diretoria-executiva-da-agencia-de-fomento-de-goias-4/
LOCATION:Gabinete da Presidência da GoiásFomento – Agência de Fomento de Goiás.
CATEGORIES:Diretoria de Operações
END:VEVENT
BEGIN:VEVENT
DTSTART;TZID=America/Sao_Paulo:20250220T160000
DTEND;TZID=America/Sao_Paulo:20250220T163000
DTSTAMP:20260424T231654
CREATED:20250221T172914Z
LAST-MODIFIED:20250221T172914Z
UID:40394-1740067200-1740069000@www.goiasfomento.com
SUMMARY:Rufino Verissimo: Reunião com Alexsander de Oliveira Linhares - Gerente de Parcerias e Operações Estruturadas e com  Porthos R. de Albuquerque Motta - Assessor de Gerenciamento de Riscos e Escritório de Projetos.
DESCRIPTION:
URL:https://www.goiasfomento.com/agenda/rufino-verissimo-reuniao-com-alexsander-de-oliveira-linhares-gerente-de-parcerias-e-operacoes-estruturadas-e-com-porthos-r-de-albuquerque-motta-assessor-de-gerenciamento-de-riscos-e-escritorio/
LOCATION:Gabinete da Diretoria de Operações da GoiásFomento – Agência de Fomento de Goiás.
CATEGORIES:Diretoria de Operações
END:VEVENT
BEGIN:VEVENT
DTSTART;TZID=America/Sao_Paulo:20250220T163000
DTEND;TZID=America/Sao_Paulo:20250220T170000
DTSTAMP:20260424T231654
CREATED:20250221T173453Z
LAST-MODIFIED:20250221T173516Z
UID:40398-1740069000-1740070800@www.goiasfomento.com
SUMMARY:Rufino Verissimo: Reunião com Kamilla da Silva Vilarinho - Gerente de Cobrança Extrajudicial.
DESCRIPTION:
URL:https://www.goiasfomento.com/agenda/rufino-verissimo-reuniao-com-kamilla-da-silva-vilarinho-gerente-de-cobranca-extrajudicial/
LOCATION:Gabinete da Diretoria de Operações da GoiásFomento – Agência de Fomento de Goiás.
CATEGORIES:Diretoria de Operações
END:VEVENT
BEGIN:VEVENT
DTSTART;TZID=America/Sao_Paulo:20250220T170000
DTEND;TZID=America/Sao_Paulo:20250220T180000
DTSTAMP:20260424T231654
CREATED:20250221T173556Z
LAST-MODIFIED:20250221T173556Z
UID:40400-1740070800-1740074400@www.goiasfomento.com
SUMMARY:Rufino Veríssimo: Despachos Internos.
DESCRIPTION:
URL:https://www.goiasfomento.com/agenda/rufino-verissimo-despachos-internos-178/
LOCATION:Gabinete da Diretoria de Operações da GoiásFomento – Agência de Fomento de Goiás.
CATEGORIES:Diretoria de Operações
END:VEVENT
END:VCALENDAR