BEGIN:VCALENDAR
VERSION:2.0
PRODID:-//GoiásFomento - Agência de Fomento - ECPv6.15.20//NONSGML v1.0//EN
CALSCALE:GREGORIAN
METHOD:PUBLISH
X-WR-CALNAME:GoiásFomento - Agência de Fomento
X-ORIGINAL-URL:https://www.goiasfomento.com
X-WR-CALDESC:Eventos para GoiásFomento - Agência de Fomento
REFRESH-INTERVAL;VALUE=DURATION:PT1H
X-Robots-Tag:noindex
X-PUBLISHED-TTL:PT1H
BEGIN:VTIMEZONE
TZID:America/Sao_Paulo
BEGIN:STANDARD
TZOFFSETFROM:-0300
TZOFFSETTO:-0300
TZNAME:-03
DTSTART:20240101T000000
END:STANDARD
END:VTIMEZONE
BEGIN:VEVENT
DTSTART;TZID=America/Sao_Paulo:20250219T080000
DTEND;TZID=America/Sao_Paulo:20250219T083000
DTSTAMP:20260424T231554
CREATED:20250219T182348Z
LAST-MODIFIED:20250219T182348Z
UID:40305-1739952000-1739953800@www.goiasfomento.com
SUMMARY:Rufino Veríssimo: Despachos Internos.
DESCRIPTION:
URL:https://www.goiasfomento.com/agenda/rufino-verissimo-despachos-internos-173/
LOCATION:Gabinete da Diretoria de Operações da GoiásFomento – Agência de Fomento de Goiás.
CATEGORIES:Diretoria de Operações
END:VEVENT
BEGIN:VEVENT
DTSTART;TZID=America/Sao_Paulo:20250219T083000
DTEND;TZID=America/Sao_Paulo:20250219T090000
DTSTAMP:20260424T231554
CREATED:20250219T182543Z
LAST-MODIFIED:20250219T182543Z
UID:40307-1739953800-1739955600@www.goiasfomento.com
SUMMARY:Rufino Verissimo: Reunião com Bruno Alvarenga Campos Martins – Gerente de Atendimento .
DESCRIPTION:
URL:https://www.goiasfomento.com/agenda/rufino-verissimo-reuniao-com-bruno-alvarenga-campos-martins-gerente-de-atendimento-5/
LOCATION:Gabinete da Diretoria de Operações da GoiásFomento – Agência de Fomento de Goiás.
CATEGORIES:Diretoria de Operações
END:VEVENT
BEGIN:VEVENT
DTSTART;TZID=America/Sao_Paulo:20250219T090000
DTEND;TZID=America/Sao_Paulo:20250219T100000
DTSTAMP:20260424T231554
CREATED:20250219T183143Z
LAST-MODIFIED:20250219T183812Z
UID:40309-1739955600-1739959200@www.goiasfomento.com
SUMMARY:Rufino Veríssimo: Reunião da Direx com Fernando Dias dos Reis - Chefe de Gabinete.
DESCRIPTION:
URL:https://www.goiasfomento.com/agenda/rufino-verissimo-reuniao-da-direx-com-fernando-dias-dos-reis-chefe-de-gabinete/
LOCATION:Gabinete da Diretoria de Operações da GoiásFomento – Agência de Fomento de Goiás.
CATEGORIES:Diretoria de Operações
END:VEVENT
BEGIN:VEVENT
DTSTART;TZID=America/Sao_Paulo:20250219T100000
DTEND;TZID=America/Sao_Paulo:20250219T110000
DTSTAMP:20260424T231554
CREATED:20250219T185024Z
LAST-MODIFIED:20250219T185024Z
UID:40333-1739959200-1739962800@www.goiasfomento.com
SUMMARY:Rufino Veríssimo: Reunião com Vânia Aparecida da Silveira - Gerente de Análise de Crédito
DESCRIPTION:
URL:https://www.goiasfomento.com/agenda/rufino-verissimo-reuniao-com-vania-aparecida-da-silveira-gerente-de-analise-de-credito/
LOCATION:Gabinete da Diretoria de Operações da GoiásFomento – Agência de Fomento de Goiás.
CATEGORIES:Diretoria de Operações
END:VEVENT
BEGIN:VEVENT
DTSTART;TZID=America/Sao_Paulo:20250219T110000
DTEND;TZID=America/Sao_Paulo:20250219T120000
DTSTAMP:20260424T231554
CREATED:20250219T185143Z
LAST-MODIFIED:20250219T185143Z
UID:40335-1739962800-1739966400@www.goiasfomento.com
SUMMARY:Rufino Veríssimo: Despachos Internos.
DESCRIPTION:
URL:https://www.goiasfomento.com/agenda/rufino-verissimo-despachos-internos-174/
LOCATION:Gabinete da Diretoria de Operações da GoiásFomento – Agência de Fomento de Goiás.
CATEGORIES:Diretoria de Operações
END:VEVENT
BEGIN:VEVENT
DTSTART;TZID=America/Sao_Paulo:20250219T140000
DTEND;TZID=America/Sao_Paulo:20250219T153000
DTSTAMP:20260424T231554
CREATED:20250219T185321Z
LAST-MODIFIED:20250219T185321Z
UID:40337-1739973600-1739979000@www.goiasfomento.com
SUMMARY:Rufino Veríssimo: Reunião com Fernando Dias dos Reis - Chefe de Gabinete e com Rafael Soffa Rézio - Gerente de Programas e Políticas Sociais.
DESCRIPTION:
URL:https://www.goiasfomento.com/agenda/rufino-verissimo-reuniao-com-fernando-dias-dos-reis-chefe-de-gabinete-e-com-rafael-soffa-rezio-gerente-de-programas-e-politicas-sociais/
LOCATION:Gabinete da Diretoria de Operações da GoiásFomento – Agência de Fomento de Goiás.
CATEGORIES:Diretoria de Operações
END:VEVENT
BEGIN:VEVENT
DTSTART;TZID=America/Sao_Paulo:20250219T153000
DTEND;TZID=America/Sao_Paulo:20250219T160000
DTSTAMP:20260424T231554
CREATED:20250219T185904Z
LAST-MODIFIED:20250219T185904Z
UID:40343-1739979000-1739980800@www.goiasfomento.com
SUMMARY:Rufino Veríssimo:  Reunião com os Gerentes da Dirop.
DESCRIPTION:
URL:https://www.goiasfomento.com/agenda/rufino-verissimo-reuniao-com-os-gerentes-da-dirop/
LOCATION:Gabinete da Diretoria de Operações da GoiásFomento – Agência de Fomento de Goiás.
CATEGORIES:Diretoria de Operações
END:VEVENT
BEGIN:VEVENT
DTSTART;TZID=America/Sao_Paulo:20250219T160000
DTEND;TZID=America/Sao_Paulo:20250219T163000
DTSTAMP:20260424T231554
CREATED:20250219T190027Z
LAST-MODIFIED:20250219T190027Z
UID:40345-1739980800-1739982600@www.goiasfomento.com
SUMMARY:Rufino Veríssimo:  Reunião com Luiz Carlos dos Santos Sardinha - Gerente de Tecnologia da Informação.
DESCRIPTION:
URL:https://www.goiasfomento.com/agenda/rufino-verissimo-reuniao-com-luiz-carlos-dos-santos-sardinha-gerente-de-tecnologia-da-informacao-2/
LOCATION:Gabinete da Diretoria de Operações da GoiásFomento – Agência de Fomento de Goiás.
CATEGORIES:Diretoria de Operações
END:VEVENT
BEGIN:VEVENT
DTSTART;TZID=America/Sao_Paulo:20250219T163000
DTEND;TZID=America/Sao_Paulo:20250219T180000
DTSTAMP:20260424T231554
CREATED:20250219T190053Z
LAST-MODIFIED:20250219T190053Z
UID:40347-1739982600-1739988000@www.goiasfomento.com
SUMMARY:Rufino Veríssimo: Despachos Internos.
DESCRIPTION:
URL:https://www.goiasfomento.com/agenda/rufino-verissimo-despachos-internos-175/
LOCATION:Gabinete da Diretoria de Operações da GoiásFomento – Agência de Fomento de Goiás.
CATEGORIES:Diretoria de Operações
END:VEVENT
END:VCALENDAR