BEGIN:VCALENDAR
VERSION:2.0
PRODID:-//GoiásFomento - Agência de Fomento - ECPv6.15.20//NONSGML v1.0//EN
CALSCALE:GREGORIAN
METHOD:PUBLISH
X-WR-CALNAME:GoiásFomento - Agência de Fomento
X-ORIGINAL-URL:https://www.goiasfomento.com
X-WR-CALDESC:Eventos para GoiásFomento - Agência de Fomento
REFRESH-INTERVAL;VALUE=DURATION:PT1H
X-Robots-Tag:noindex
X-PUBLISHED-TTL:PT1H
BEGIN:VTIMEZONE
TZID:America/Sao_Paulo
BEGIN:STANDARD
TZOFFSETFROM:-0300
TZOFFSETTO:-0300
TZNAME:-03
DTSTART:20240101T000000
END:STANDARD
END:VTIMEZONE
BEGIN:VEVENT
DTSTART;TZID=America/Sao_Paulo:20250211T080000
DTEND;TZID=America/Sao_Paulo:20250211T093000
DTSTAMP:20260424T231553
CREATED:20250211T141417Z
LAST-MODIFIED:20250211T141417Z
UID:40033-1739260800-1739266200@www.goiasfomento.com
SUMMARY:Rufino Veríssimo: Despachos Internos.
DESCRIPTION:
URL:https://www.goiasfomento.com/agenda/rufino-verissimo-despachos-internos-156/
LOCATION:Gabinete da Diretoria de Operações da GoiásFomento – Agência de Fomento de Goiás.
CATEGORIES:Diretoria de Operações
END:VEVENT
BEGIN:VEVENT
DTSTART;TZID=America/Sao_Paulo:20250211T093000
DTEND;TZID=America/Sao_Paulo:20250211T100000
DTSTAMP:20260424T231553
CREATED:20250211T141324Z
LAST-MODIFIED:20250211T141324Z
UID:40031-1739266200-1739268000@www.goiasfomento.com
SUMMARY:Rufino Veríssimo: Reunião da Direx com Rafael Soffa Rézio – Gerente de Programas e Políticas Sociais.
DESCRIPTION:
URL:https://www.goiasfomento.com/agenda/rufino-verissimo-reuniao-da-direx-com-rafael-soffa-rezio-gerente-de-programas-e-politicas-sociais-7/
LOCATION:Gabinete da Presidência da GoiásFomento – Agência de Fomento de Goiás.
CATEGORIES:Diretoria de Operações
END:VEVENT
BEGIN:VEVENT
DTSTART;TZID=America/Sao_Paulo:20250211T100000
DTEND;TZID=America/Sao_Paulo:20250211T103000
DTSTAMP:20260424T231553
CREATED:20250211T150853Z
LAST-MODIFIED:20250211T150853Z
UID:40054-1739268000-1739269800@www.goiasfomento.com
SUMMARY:Rufino Veríssimo: Reunião com Rafael Soffa Rézio – Gerente de Programas e Políticas Sociais.
DESCRIPTION:
URL:https://www.goiasfomento.com/agenda/rufino-verissimo-reuniao-com-rafael-soffa-rezio-gerente-de-programas-e-politicas-sociais-8/
LOCATION:Gabinete da Diretoria de Operações da GoiásFomento – Agência de Fomento de Goiás.
CATEGORIES:Diretoria de Operações
END:VEVENT
BEGIN:VEVENT
DTSTART;TZID=America/Sao_Paulo:20250211T103000
DTEND;TZID=America/Sao_Paulo:20250211T110000
DTSTAMP:20260424T231553
CREATED:20250211T151014Z
LAST-MODIFIED:20250211T151014Z
UID:40057-1739269800-1739271600@www.goiasfomento.com
SUMMARY:Rufino Veríssimo: Despachos Internos.
DESCRIPTION:
URL:https://www.goiasfomento.com/agenda/rufino-verissimo-despachos-internos-157/
LOCATION:Gabinete da Diretoria de Operações da GoiásFomento – Agência de Fomento de Goiás.
CATEGORIES:Diretoria de Operações
END:VEVENT
BEGIN:VEVENT
DTSTART;TZID=America/Sao_Paulo:20250211T110000
DTEND;TZID=America/Sao_Paulo:20250211T113000
DTSTAMP:20260424T231553
CREATED:20250211T150749Z
LAST-MODIFIED:20250211T150749Z
UID:40050-1739271600-1739273400@www.goiasfomento.com
SUMMARY:Rufino Verissimo: Reunião com Alexsander de Oliveira Linhares - Gerente de Parcerias e Operações Estruturadas.
DESCRIPTION:
URL:https://www.goiasfomento.com/agenda/rufino-verissimo-reuniao-com-alexsander-de-oliveira-linhares-gerente-de-parcerias-e-operacoes-estruturadas-5/
LOCATION:Gabinete da Diretoria de Operações da GoiásFomento – Agência de Fomento de Goiás.
CATEGORIES:Diretoria de Operações
END:VEVENT
BEGIN:VEVENT
DTSTART;TZID=America/Sao_Paulo:20250211T113000
DTEND;TZID=America/Sao_Paulo:20250211T120000
DTSTAMP:20260424T231553
CREATED:20250211T150646Z
LAST-MODIFIED:20250211T150646Z
UID:40048-1739273400-1739275200@www.goiasfomento.com
SUMMARY:Rufino Verissimo: Reunião com Bruno Alvarenga Campos Martins - Gerente de Atendimento.
DESCRIPTION:
URL:https://www.goiasfomento.com/agenda/rufino-verissimo-reuniao-com-bruno-alvarenga-campos-martins-gerente-de-atendimento-4/
LOCATION:Gabinete da Diretoria de Operações da GoiásFomento – Agência de Fomento de Goiás.
CATEGORIES:Diretoria de Operações
END:VEVENT
BEGIN:VEVENT
DTSTART;TZID=America/Sao_Paulo:20250211T140000
DTEND;TZID=America/Sao_Paulo:20250211T163000
DTSTAMP:20260424T231553
CREATED:20250211T194216Z
LAST-MODIFIED:20250211T194216Z
UID:40071-1739282400-1739291400@www.goiasfomento.com
SUMMARY:Rufino Veríssimo: Despachos Internos.
DESCRIPTION:
URL:https://www.goiasfomento.com/agenda/rufino-verissimo-despachos-internos-158/
LOCATION:Gabinete da Diretoria de Operações da GoiásFomento – Agência de Fomento de Goiás.
CATEGORIES:Diretoria de Operações
END:VEVENT
BEGIN:VEVENT
DTSTART;TZID=America/Sao_Paulo:20250211T163000
DTEND;TZID=America/Sao_Paulo:20250211T170000
DTSTAMP:20260424T231553
CREATED:20250211T194335Z
LAST-MODIFIED:20250211T194441Z
UID:40073-1739291400-1739293200@www.goiasfomento.com
SUMMARY:Rufino Verissimo: Reunião com Wagner Siqueira Coelho - Gerente de Prospecção de Negócios.
DESCRIPTION:
URL:https://www.goiasfomento.com/agenda/rufino-verissimo-despachos-internos-159/
LOCATION:Gabinete da Diretoria de Operações da GoiásFomento – Agência de Fomento de Goiás.
CATEGORIES:Diretoria de Operações
END:VEVENT
BEGIN:VEVENT
DTSTART;TZID=America/Sao_Paulo:20250211T170000
DTEND;TZID=America/Sao_Paulo:20250211T180000
DTSTAMP:20260424T231553
CREATED:20250211T194621Z
LAST-MODIFIED:20250211T194621Z
UID:40077-1739293200-1739296800@www.goiasfomento.com
SUMMARY:Rufino Veríssimo: Despachos Internos.
DESCRIPTION:
URL:https://www.goiasfomento.com/agenda/rufino-verissimo-despachos-internos-160/
LOCATION:Gabinete da Diretoria de Operações da GoiásFomento – Agência de Fomento de Goiás.
CATEGORIES:Diretoria de Operações
END:VEVENT
END:VCALENDAR