BEGIN:VCALENDAR
VERSION:2.0
PRODID:-//GoiásFomento - Agência de Fomento - ECPv6.15.20//NONSGML v1.0//EN
CALSCALE:GREGORIAN
METHOD:PUBLISH
X-WR-CALNAME:GoiásFomento - Agência de Fomento
X-ORIGINAL-URL:https://www.goiasfomento.com
X-WR-CALDESC:Eventos para GoiásFomento - Agência de Fomento
REFRESH-INTERVAL;VALUE=DURATION:PT1H
X-Robots-Tag:noindex
X-PUBLISHED-TTL:PT1H
BEGIN:VTIMEZONE
TZID:America/Sao_Paulo
BEGIN:STANDARD
TZOFFSETFROM:-0300
TZOFFSETTO:-0300
TZNAME:-03
DTSTART:20240101T000000
END:STANDARD
END:VTIMEZONE
BEGIN:VEVENT
DTSTART;TZID=America/Sao_Paulo:20250130T080000
DTEND;TZID=America/Sao_Paulo:20250130T083000
DTSTAMP:20260424T232043
CREATED:20250130T142414Z
LAST-MODIFIED:20250130T142414Z
UID:39635-1738224000-1738225800@www.goiasfomento.com
SUMMARY:Rufino Veríssimo: Despachos Internos.
DESCRIPTION:
URL:https://www.goiasfomento.com/agenda/rufino-verissimo-despachos-internos-127/
LOCATION:Gabinete da Diretoria de Operações da GoiásFomento – Agência de Fomento de Goiás.
CATEGORIES:Diretoria de Operações
END:VEVENT
BEGIN:VEVENT
DTSTART;TZID=America/Sao_Paulo:20250130T083000
DTEND;TZID=America/Sao_Paulo:20250130T090000
DTSTAMP:20260424T232043
CREATED:20250130T142249Z
LAST-MODIFIED:20250130T142249Z
UID:39633-1738225800-1738227600@www.goiasfomento.com
SUMMARY:Rufino Veríssimo: Reunião com Phillippe Alexandre e Bruno Martins - GEATE .
DESCRIPTION:
URL:https://www.goiasfomento.com/agenda/rufino-verissimo-reuniao-com-phillippe-alexandre-e-bruno-martins-geate/
LOCATION:Gabinete da Diretoria de Operações da GoiásFomento – Agência de Fomento de Goiás.
CATEGORIES:Diretoria de Operações
END:VEVENT
BEGIN:VEVENT
DTSTART;TZID=America/Sao_Paulo:20250130T090000
DTEND;TZID=America/Sao_Paulo:20250130T100000
DTSTAMP:20260424T232043
CREATED:20250130T143000Z
LAST-MODIFIED:20250130T143000Z
UID:39637-1738227600-1738231200@www.goiasfomento.com
SUMMARY:Rufino Veríssimo: Reunião com os Colaboradores da GEPRON para  Alinhamento do Trabalho dos Clientes Vip's
DESCRIPTION:
URL:https://www.goiasfomento.com/agenda/rufino-verissimo-reuniao-com-os-colaboradores-da-gepron-para-alinhamento-do-trabalho-dos-clientes-vips/
CATEGORIES:Diretoria de Operações
END:VEVENT
BEGIN:VEVENT
DTSTART;TZID=America/Sao_Paulo:20250130T100000
DTEND;TZID=America/Sao_Paulo:20250130T103000
DTSTAMP:20260424T232043
CREATED:20250130T143050Z
LAST-MODIFIED:20250130T143050Z
UID:39639-1738231200-1738233000@www.goiasfomento.com
SUMMARY:Rufino Veríssimo: Despachos Internos.
DESCRIPTION:
URL:https://www.goiasfomento.com/agenda/rufino-verissimo-despachos-internos-128/
LOCATION:Gabinete da Diretoria de Operações da GoiásFomento – Agência de Fomento de Goiás.
CATEGORIES:Diretoria de Operações
END:VEVENT
BEGIN:VEVENT
DTSTART;TZID=America/Sao_Paulo:20250130T103000
DTEND;TZID=America/Sao_Paulo:20250130T113000
DTSTAMP:20260424T232043
CREATED:20250130T143249Z
LAST-MODIFIED:20250130T143249Z
UID:39641-1738233000-1738236600@www.goiasfomento.com
SUMMARY:Rufino Veríssimo: Reunião Online -  EuReciclo e GoiásFomento.
DESCRIPTION:
URL:https://www.goiasfomento.com/agenda/rufino-verissimo-reuniao-online-eureciclo-e-goiasfomento/
LOCATION:Gabinete da Diretoria de Operações da GoiásFomento – Agência de Fomento de Goiás.
CATEGORIES:Diretoria de Operações
END:VEVENT
BEGIN:VEVENT
DTSTART;TZID=America/Sao_Paulo:20250130T113000
DTEND;TZID=America/Sao_Paulo:20250130T120000
DTSTAMP:20260424T232043
CREATED:20250130T143336Z
LAST-MODIFIED:20250130T143336Z
UID:39643-1738236600-1738238400@www.goiasfomento.com
SUMMARY:Rufino Veríssimo: Despachos Internos.
DESCRIPTION:
URL:https://www.goiasfomento.com/agenda/rufino-verissimo-despachos-internos-129/
LOCATION:Gabinete da Diretoria de Operações da GoiásFomento – Agência de Fomento de Goiás.
CATEGORIES:Diretoria de Operações
END:VEVENT
BEGIN:VEVENT
DTSTART;TZID=America/Sao_Paulo:20250130T140000
DTEND;TZID=America/Sao_Paulo:20250130T143000
DTSTAMP:20260424T232043
CREATED:20250130T175651Z
LAST-MODIFIED:20250130T175651Z
UID:39650-1738245600-1738247400@www.goiasfomento.com
SUMMARY:Rufino Veríssimo: Despachos Internos.
DESCRIPTION:
URL:https://www.goiasfomento.com/agenda/rufino-verissimo-despachos-internos-130/
LOCATION:Gabinete da Diretoria de Operações da GoiásFomento – Agência de Fomento de Goiás.
CATEGORIES:Diretoria de Operações
END:VEVENT
BEGIN:VEVENT
DTSTART;TZID=America/Sao_Paulo:20250130T143000
DTEND;TZID=America/Sao_Paulo:20250130T150000
DTSTAMP:20260424T232043
CREATED:20250130T175759Z
LAST-MODIFIED:20250130T175759Z
UID:39652-1738247400-1738249200@www.goiasfomento.com
SUMMARY:Rufino Veríssimo: Reunião com a Claudete - GERAC.
DESCRIPTION:
URL:https://www.goiasfomento.com/agenda/rufino-verissimo-reuniao-com-a-claudete-gerac/
LOCATION:Gabinete da Diretoria de Operações da GoiásFomento – Agência de Fomento de Goiás.
CATEGORIES:Diretoria de Operações
END:VEVENT
BEGIN:VEVENT
DTSTART;TZID=America/Sao_Paulo:20250130T150000
DTEND;TZID=America/Sao_Paulo:20250130T163000
DTSTAMP:20260424T232043
CREATED:20250130T193650Z
LAST-MODIFIED:20250130T193650Z
UID:39673-1738249200-1738254600@www.goiasfomento.com
SUMMARY:Rufino Veríssimo: Despachos Internos.
DESCRIPTION:
URL:https://www.goiasfomento.com/agenda/rufino-verissimo-despachos-internos-131/
LOCATION:Gabinete da Diretoria de Operações da GoiásFomento – Agência de Fomento de Goiás.
CATEGORIES:Diretoria de Operações
END:VEVENT
BEGIN:VEVENT
DTSTART;TZID=America/Sao_Paulo:20250130T163000
DTEND;TZID=America/Sao_Paulo:20250130T180000
DTSTAMP:20260424T232043
CREATED:20250130T193503Z
LAST-MODIFIED:20250130T193514Z
UID:39666-1738254600-1738260000@www.goiasfomento.com
SUMMARY:Rufino Veríssimo: Reunião  da Direx e com Giovani Cortopassi - Secretário de Indústria\, Comércio e Turismo de Catalão.
DESCRIPTION:
URL:https://www.goiasfomento.com/agenda/rufino-verissimo-reuniao-da-direx-e-com-giovani-cortopassi-secretario-de-industria-comercio-e-turismo-de-catalao/
LOCATION:Gabinete da Presidência da GoiásFomento – Agência de Fomento de Goiás.
CATEGORIES:Diretoria de Operações
END:VEVENT
END:VCALENDAR